BEGIN:VCALENDAR
VERSION:2.0
PRODID:-//Bessemer City, NC - ECPv6.15.20//NONSGML v1.0//EN
CALSCALE:GREGORIAN
METHOD:PUBLISH
X-ORIGINAL-URL:https://bessemercity.com
X-WR-CALDESC:Events for Bessemer City, NC
REFRESH-INTERVAL;VALUE=DURATION:PT1H
X-Robots-Tag:noindex
X-PUBLISHED-TTL:PT1H
BEGIN:VTIMEZONE
TZID:America/New_York
BEGIN:DAYLIGHT
TZOFFSETFROM:-0500
TZOFFSETTO:-0400
TZNAME:EDT
DTSTART:20290311T070000
END:DAYLIGHT
BEGIN:STANDARD
TZOFFSETFROM:-0400
TZOFFSETTO:-0500
TZNAME:EST
DTSTART:20291104T060000
END:STANDARD
BEGIN:DAYLIGHT
TZOFFSETFROM:-0500
TZOFFSETTO:-0400
TZNAME:EDT
DTSTART:20300310T070000
END:DAYLIGHT
BEGIN:STANDARD
TZOFFSETFROM:-0400
TZOFFSETTO:-0500
TZNAME:EST
DTSTART:20301103T060000
END:STANDARD
BEGIN:DAYLIGHT
TZOFFSETFROM:-0500
TZOFFSETTO:-0400
TZNAME:EDT
DTSTART:20310309T070000
END:DAYLIGHT
BEGIN:STANDARD
TZOFFSETFROM:-0400
TZOFFSETTO:-0500
TZNAME:EST
DTSTART:20311102T060000
END:STANDARD
END:VTIMEZONE
BEGIN:VEVENT
DTSTART;TZID=America/New_York:20300114T190000
DTEND;TZID=America/New_York:20300114T210000
DTSTAMP:20260425T110045
CREATED:20241002T173040Z
LAST-MODIFIED:20250723T135446Z
UID:10000061-1894647600-1894654800@bessemercity.com
SUMMARY:City Council Regular Meeting
DESCRIPTION:Click Here for agendas\, minutes\, and live recordings of meetings!
URL:https://bessemercity.com/calendar/city-council-regular-meeting/2030-01-14/
LOCATION:City Council Chambers\, 132 W. Virginia Ave.\, Bessemer City\, NC\, 28016\, United States
CATEGORIES:City Council,Community Events
END:VEVENT
BEGIN:VEVENT
DTSTART;TZID=America/New_York:20300211T190000
DTEND;TZID=America/New_York:20300211T210000
DTSTAMP:20260425T110045
CREATED:20241002T173040Z
LAST-MODIFIED:20250723T135446Z
UID:10000062-1897066800-1897074000@bessemercity.com
SUMMARY:City Council Regular Meeting
DESCRIPTION:Click Here for agendas\, minutes\, and live recordings of meetings!
URL:https://bessemercity.com/calendar/city-council-regular-meeting/2030-02-11/
LOCATION:City Council Chambers\, 132 W. Virginia Ave.\, Bessemer City\, NC\, 28016\, United States
CATEGORIES:City Council,Community Events
END:VEVENT
BEGIN:VEVENT
DTSTART;TZID=America/New_York:20300311T190000
DTEND;TZID=America/New_York:20300311T210000
DTSTAMP:20260425T110045
CREATED:20241002T173040Z
LAST-MODIFIED:20250723T135446Z
UID:10000063-1899486000-1899493200@bessemercity.com
SUMMARY:City Council Regular Meeting
DESCRIPTION:Click Here for agendas\, minutes\, and live recordings of meetings!
URL:https://bessemercity.com/calendar/city-council-regular-meeting/2030-03-11/
LOCATION:City Council Chambers\, 132 W. Virginia Ave.\, Bessemer City\, NC\, 28016\, United States
CATEGORIES:City Council,Community Events
END:VEVENT
BEGIN:VEVENT
DTSTART;TZID=America/New_York:20300408T190000
DTEND;TZID=America/New_York:20300408T210000
DTSTAMP:20260425T110045
CREATED:20241002T173040Z
LAST-MODIFIED:20250723T135446Z
UID:10000064-1901905200-1901912400@bessemercity.com
SUMMARY:City Council Regular Meeting
DESCRIPTION:Click Here for agendas\, minutes\, and live recordings of meetings!
URL:https://bessemercity.com/calendar/city-council-regular-meeting/2030-04-08/
LOCATION:City Council Chambers\, 132 W. Virginia Ave.\, Bessemer City\, NC\, 28016\, United States
CATEGORIES:City Council,Community Events
END:VEVENT
BEGIN:VEVENT
DTSTART;TZID=America/New_York:20300513T190000
DTEND;TZID=America/New_York:20300513T210000
DTSTAMP:20260425T110045
CREATED:20241002T173040Z
LAST-MODIFIED:20250723T135446Z
UID:10000065-1904929200-1904936400@bessemercity.com
SUMMARY:City Council Regular Meeting
DESCRIPTION:Click Here for agendas\, minutes\, and live recordings of meetings!
URL:https://bessemercity.com/calendar/city-council-regular-meeting/2030-05-13/
LOCATION:City Council Chambers\, 132 W. Virginia Ave.\, Bessemer City\, NC\, 28016\, United States
CATEGORIES:City Council,Community Events
END:VEVENT
BEGIN:VEVENT
DTSTART;TZID=America/New_York:20300610T190000
DTEND;TZID=America/New_York:20300610T210000
DTSTAMP:20260425T110045
CREATED:20241002T173040Z
LAST-MODIFIED:20250723T135446Z
UID:10000066-1907348400-1907355600@bessemercity.com
SUMMARY:City Council Regular Meeting
DESCRIPTION:Click Here for agendas\, minutes\, and live recordings of meetings!
URL:https://bessemercity.com/calendar/city-council-regular-meeting/2030-06-10/
LOCATION:City Council Chambers\, 132 W. Virginia Ave.\, Bessemer City\, NC\, 28016\, United States
CATEGORIES:City Council,Community Events
END:VEVENT
BEGIN:VEVENT
DTSTART;TZID=America/New_York:20300708T190000
DTEND;TZID=America/New_York:20300708T210000
DTSTAMP:20260425T110045
CREATED:20241002T173040Z
LAST-MODIFIED:20250723T135446Z
UID:10000067-1909767600-1909774800@bessemercity.com
SUMMARY:City Council Regular Meeting
DESCRIPTION:Click Here for agendas\, minutes\, and live recordings of meetings!
URL:https://bessemercity.com/calendar/city-council-regular-meeting/2030-07-08/
LOCATION:City Council Chambers\, 132 W. Virginia Ave.\, Bessemer City\, NC\, 28016\, United States
CATEGORIES:City Council,Community Events
END:VEVENT
END:VCALENDAR