BEGIN:VCALENDAR
VERSION:2.0
PRODID:-//Bessemer City, NC - ECPv6.15.20//NONSGML v1.0//EN
CALSCALE:GREGORIAN
METHOD:PUBLISH
X-ORIGINAL-URL:https://bessemercity.com
X-WR-CALDESC:Events for Bessemer City, NC
REFRESH-INTERVAL;VALUE=DURATION:PT1H
X-Robots-Tag:noindex
X-PUBLISHED-TTL:PT1H
BEGIN:VTIMEZONE
TZID:America/New_York
BEGIN:DAYLIGHT
TZOFFSETFROM:-0500
TZOFFSETTO:-0400
TZNAME:EDT
DTSTART:20280312T070000
END:DAYLIGHT
BEGIN:STANDARD
TZOFFSETFROM:-0400
TZOFFSETTO:-0500
TZNAME:EST
DTSTART:20281105T060000
END:STANDARD
BEGIN:DAYLIGHT
TZOFFSETFROM:-0500
TZOFFSETTO:-0400
TZNAME:EDT
DTSTART:20290311T070000
END:DAYLIGHT
BEGIN:STANDARD
TZOFFSETFROM:-0400
TZOFFSETTO:-0500
TZNAME:EST
DTSTART:20291104T060000
END:STANDARD
BEGIN:DAYLIGHT
TZOFFSETFROM:-0500
TZOFFSETTO:-0400
TZNAME:EDT
DTSTART:20300310T070000
END:DAYLIGHT
BEGIN:STANDARD
TZOFFSETFROM:-0400
TZOFFSETTO:-0500
TZNAME:EST
DTSTART:20301103T060000
END:STANDARD
END:VTIMEZONE
BEGIN:VEVENT
DTSTART;TZID=America/New_York:20290220T090000
DTEND;TZID=America/New_York:20290220T100000
DTSTAMP:20260419T132139
CREATED:20251030T201445Z
LAST-MODIFIED:20251030T201445Z
UID:10000889-1866272400-1866276000@bessemercity.com
SUMMARY:Aerobics/Silver Sneakers/Chair Yoga
DESCRIPTION:
URL:https://bessemercity.com/calendar/aerobics-silver-sneakers-chair-yoga/2029-02-20/
LOCATION:Kiser Senior Center\, 123 W Pennsylvania Avenue\, Bessemer City\, NC\, 28016\, United States
CATEGORIES:Senior Event
END:VEVENT
BEGIN:VEVENT
DTSTART;TZID=America/New_York:20290227T090000
DTEND;TZID=America/New_York:20290227T100000
DTSTAMP:20260419T132139
CREATED:20251030T201445Z
LAST-MODIFIED:20251030T201445Z
UID:10000890-1866877200-1866880800@bessemercity.com
SUMMARY:Aerobics/Silver Sneakers/Chair Yoga
DESCRIPTION:
URL:https://bessemercity.com/calendar/aerobics-silver-sneakers-chair-yoga/2029-02-27/
LOCATION:Kiser Senior Center\, 123 W Pennsylvania Avenue\, Bessemer City\, NC\, 28016\, United States
CATEGORIES:Senior Event
END:VEVENT
BEGIN:VEVENT
DTSTART;TZID=America/New_York:20290305T113000
DTEND;TZID=America/New_York:20290305T123000
DTSTAMP:20260419T132139
CREATED:20251030T201958Z
LAST-MODIFIED:20260127T164546Z
UID:10001085-1867404600-1867408200@bessemercity.com
SUMMARY:Veteran's Lunch
DESCRIPTION:
URL:https://bessemercity.com/calendar/veterans-lunch/2029-03-05/
LOCATION:Allan Farris Community Center\, 220 South 14th Street\, Bessemer City\, NC\, 28016\, United States
CATEGORIES:Senior Event
END:VEVENT
BEGIN:VEVENT
DTSTART;TZID=America/New_York:20290306T090000
DTEND;TZID=America/New_York:20290306T100000
DTSTAMP:20260419T132139
CREATED:20251030T201445Z
LAST-MODIFIED:20251030T201445Z
UID:10000891-1867482000-1867485600@bessemercity.com
SUMMARY:Aerobics/Silver Sneakers/Chair Yoga
DESCRIPTION:
URL:https://bessemercity.com/calendar/aerobics-silver-sneakers-chair-yoga/2029-03-06/
LOCATION:Kiser Senior Center\, 123 W Pennsylvania Avenue\, Bessemer City\, NC\, 28016\, United States
CATEGORIES:Senior Event
END:VEVENT
BEGIN:VEVENT
DTSTART;TZID=America/New_York:20290309T090000
DTEND;TZID=America/New_York:20290309T100000
DTSTAMP:20260419T132139
CREATED:20251030T201848Z
LAST-MODIFIED:20260127T164333Z
UID:10001025-1867741200-1867744800@bessemercity.com
SUMMARY:Men's Breakfast
DESCRIPTION:
URL:https://bessemercity.com/calendar/mens-breakfast/2029-03-09/
LOCATION:NC
CATEGORIES:Senior Event
END:VEVENT
BEGIN:VEVENT
DTSTART;TZID=America/New_York:20290313T090000
DTEND;TZID=America/New_York:20290313T100000
DTSTAMP:20260419T132139
CREATED:20251030T201445Z
LAST-MODIFIED:20251030T201445Z
UID:10000892-1868086800-1868090400@bessemercity.com
SUMMARY:Aerobics/Silver Sneakers/Chair Yoga
DESCRIPTION:
URL:https://bessemercity.com/calendar/aerobics-silver-sneakers-chair-yoga/2029-03-13/
LOCATION:Kiser Senior Center\, 123 W Pennsylvania Avenue\, Bessemer City\, NC\, 28016\, United States
CATEGORIES:Senior Event
END:VEVENT
BEGIN:VEVENT
DTSTART;TZID=America/New_York:20290320T090000
DTEND;TZID=America/New_York:20290320T100000
DTSTAMP:20260419T132139
CREATED:20251030T201445Z
LAST-MODIFIED:20251030T201445Z
UID:10000893-1868691600-1868695200@bessemercity.com
SUMMARY:Aerobics/Silver Sneakers/Chair Yoga
DESCRIPTION:
URL:https://bessemercity.com/calendar/aerobics-silver-sneakers-chair-yoga/2029-03-20/
LOCATION:Kiser Senior Center\, 123 W Pennsylvania Avenue\, Bessemer City\, NC\, 28016\, United States
CATEGORIES:Senior Event
END:VEVENT
BEGIN:VEVENT
DTSTART;TZID=America/New_York:20290327T090000
DTEND;TZID=America/New_York:20290327T100000
DTSTAMP:20260419T132139
CREATED:20251030T201445Z
LAST-MODIFIED:20251030T201445Z
UID:10000894-1869296400-1869300000@bessemercity.com
SUMMARY:Aerobics/Silver Sneakers/Chair Yoga
DESCRIPTION:
URL:https://bessemercity.com/calendar/aerobics-silver-sneakers-chair-yoga/2029-03-27/
LOCATION:Kiser Senior Center\, 123 W Pennsylvania Avenue\, Bessemer City\, NC\, 28016\, United States
CATEGORIES:Senior Event
END:VEVENT
BEGIN:VEVENT
DTSTART;TZID=America/New_York:20290402T113000
DTEND;TZID=America/New_York:20290402T123000
DTSTAMP:20260419T132139
CREATED:20251030T201958Z
LAST-MODIFIED:20260127T164546Z
UID:10001086-1869823800-1869827400@bessemercity.com
SUMMARY:Veteran's Lunch
DESCRIPTION:
URL:https://bessemercity.com/calendar/veterans-lunch/2029-04-02/
LOCATION:Allan Farris Community Center\, 220 South 14th Street\, Bessemer City\, NC\, 28016\, United States
CATEGORIES:Senior Event
END:VEVENT
BEGIN:VEVENT
DTSTART;TZID=America/New_York:20290403T090000
DTEND;TZID=America/New_York:20290403T100000
DTSTAMP:20260419T132139
CREATED:20251030T201445Z
LAST-MODIFIED:20251030T201445Z
UID:10000895-1869901200-1869904800@bessemercity.com
SUMMARY:Aerobics/Silver Sneakers/Chair Yoga
DESCRIPTION:
URL:https://bessemercity.com/calendar/aerobics-silver-sneakers-chair-yoga/2029-04-03/
LOCATION:Kiser Senior Center\, 123 W Pennsylvania Avenue\, Bessemer City\, NC\, 28016\, United States
CATEGORIES:Senior Event
END:VEVENT
BEGIN:VEVENT
DTSTART;TZID=America/New_York:20290410T090000
DTEND;TZID=America/New_York:20290410T100000
DTSTAMP:20260419T132139
CREATED:20251030T201445Z
LAST-MODIFIED:20251030T201445Z
UID:10000896-1870506000-1870509600@bessemercity.com
SUMMARY:Aerobics/Silver Sneakers/Chair Yoga
DESCRIPTION:
URL:https://bessemercity.com/calendar/aerobics-silver-sneakers-chair-yoga/2029-04-10/
LOCATION:Kiser Senior Center\, 123 W Pennsylvania Avenue\, Bessemer City\, NC\, 28016\, United States
CATEGORIES:Senior Event
END:VEVENT
BEGIN:VEVENT
DTSTART;TZID=America/New_York:20290413T090000
DTEND;TZID=America/New_York:20290413T100000
DTSTAMP:20260419T132139
CREATED:20251030T201848Z
LAST-MODIFIED:20260127T164333Z
UID:10001026-1870765200-1870768800@bessemercity.com
SUMMARY:Men's Breakfast
DESCRIPTION:
URL:https://bessemercity.com/calendar/mens-breakfast/2029-04-13/
LOCATION:NC
CATEGORIES:Senior Event
END:VEVENT
BEGIN:VEVENT
DTSTART;TZID=America/New_York:20290417T090000
DTEND;TZID=America/New_York:20290417T100000
DTSTAMP:20260419T132139
CREATED:20251030T201445Z
LAST-MODIFIED:20251030T201445Z
UID:10000897-1871110800-1871114400@bessemercity.com
SUMMARY:Aerobics/Silver Sneakers/Chair Yoga
DESCRIPTION:
URL:https://bessemercity.com/calendar/aerobics-silver-sneakers-chair-yoga/2029-04-17/
LOCATION:Kiser Senior Center\, 123 W Pennsylvania Avenue\, Bessemer City\, NC\, 28016\, United States
CATEGORIES:Senior Event
END:VEVENT
BEGIN:VEVENT
DTSTART;TZID=America/New_York:20290424T090000
DTEND;TZID=America/New_York:20290424T100000
DTSTAMP:20260419T132139
CREATED:20251030T201445Z
LAST-MODIFIED:20251030T201445Z
UID:10000898-1871715600-1871719200@bessemercity.com
SUMMARY:Aerobics/Silver Sneakers/Chair Yoga
DESCRIPTION:
URL:https://bessemercity.com/calendar/aerobics-silver-sneakers-chair-yoga/2029-04-24/
LOCATION:Kiser Senior Center\, 123 W Pennsylvania Avenue\, Bessemer City\, NC\, 28016\, United States
CATEGORIES:Senior Event
END:VEVENT
BEGIN:VEVENT
DTSTART;TZID=America/New_York:20290501T090000
DTEND;TZID=America/New_York:20290501T100000
DTSTAMP:20260419T132139
CREATED:20251030T201445Z
LAST-MODIFIED:20251030T201445Z
UID:10000899-1872320400-1872324000@bessemercity.com
SUMMARY:Aerobics/Silver Sneakers/Chair Yoga
DESCRIPTION:
URL:https://bessemercity.com/calendar/aerobics-silver-sneakers-chair-yoga/2029-05-01/
LOCATION:Kiser Senior Center\, 123 W Pennsylvania Avenue\, Bessemer City\, NC\, 28016\, United States
CATEGORIES:Senior Event
END:VEVENT
BEGIN:VEVENT
DTSTART;TZID=America/New_York:20290507T113000
DTEND;TZID=America/New_York:20290507T123000
DTSTAMP:20260419T132139
CREATED:20251030T201958Z
LAST-MODIFIED:20260127T164546Z
UID:10001087-1872847800-1872851400@bessemercity.com
SUMMARY:Veteran's Lunch
DESCRIPTION:
URL:https://bessemercity.com/calendar/veterans-lunch/2029-05-07/
LOCATION:Allan Farris Community Center\, 220 South 14th Street\, Bessemer City\, NC\, 28016\, United States
CATEGORIES:Senior Event
END:VEVENT
BEGIN:VEVENT
DTSTART;TZID=America/New_York:20290508T090000
DTEND;TZID=America/New_York:20290508T100000
DTSTAMP:20260419T132139
CREATED:20251030T201445Z
LAST-MODIFIED:20251030T201445Z
UID:10000900-1872925200-1872928800@bessemercity.com
SUMMARY:Aerobics/Silver Sneakers/Chair Yoga
DESCRIPTION:
URL:https://bessemercity.com/calendar/aerobics-silver-sneakers-chair-yoga/2029-05-08/
LOCATION:Kiser Senior Center\, 123 W Pennsylvania Avenue\, Bessemer City\, NC\, 28016\, United States
CATEGORIES:Senior Event
END:VEVENT
BEGIN:VEVENT
DTSTART;TZID=America/New_York:20290511T090000
DTEND;TZID=America/New_York:20290511T100000
DTSTAMP:20260419T132139
CREATED:20251030T201848Z
LAST-MODIFIED:20260127T164333Z
UID:10001027-1873184400-1873188000@bessemercity.com
SUMMARY:Men's Breakfast
DESCRIPTION:
URL:https://bessemercity.com/calendar/mens-breakfast/2029-05-11/
LOCATION:NC
CATEGORIES:Senior Event
END:VEVENT
BEGIN:VEVENT
DTSTART;TZID=America/New_York:20290515T090000
DTEND;TZID=America/New_York:20290515T100000
DTSTAMP:20260419T132139
CREATED:20251030T201445Z
LAST-MODIFIED:20251030T201445Z
UID:10000901-1873530000-1873533600@bessemercity.com
SUMMARY:Aerobics/Silver Sneakers/Chair Yoga
DESCRIPTION:
URL:https://bessemercity.com/calendar/aerobics-silver-sneakers-chair-yoga/2029-05-15/
LOCATION:Kiser Senior Center\, 123 W Pennsylvania Avenue\, Bessemer City\, NC\, 28016\, United States
CATEGORIES:Senior Event
END:VEVENT
BEGIN:VEVENT
DTSTART;TZID=America/New_York:20290522T090000
DTEND;TZID=America/New_York:20290522T100000
DTSTAMP:20260419T132139
CREATED:20251030T201445Z
LAST-MODIFIED:20251030T201445Z
UID:10000902-1874134800-1874138400@bessemercity.com
SUMMARY:Aerobics/Silver Sneakers/Chair Yoga
DESCRIPTION:
URL:https://bessemercity.com/calendar/aerobics-silver-sneakers-chair-yoga/2029-05-22/
LOCATION:Kiser Senior Center\, 123 W Pennsylvania Avenue\, Bessemer City\, NC\, 28016\, United States
CATEGORIES:Senior Event
END:VEVENT
BEGIN:VEVENT
DTSTART;TZID=America/New_York:20290529T090000
DTEND;TZID=America/New_York:20290529T100000
DTSTAMP:20260419T132139
CREATED:20251030T201445Z
LAST-MODIFIED:20251030T201445Z
UID:10000903-1874739600-1874743200@bessemercity.com
SUMMARY:Aerobics/Silver Sneakers/Chair Yoga
DESCRIPTION:
URL:https://bessemercity.com/calendar/aerobics-silver-sneakers-chair-yoga/2029-05-29/
LOCATION:Kiser Senior Center\, 123 W Pennsylvania Avenue\, Bessemer City\, NC\, 28016\, United States
CATEGORIES:Senior Event
END:VEVENT
BEGIN:VEVENT
DTSTART;TZID=America/New_York:20290604T113000
DTEND;TZID=America/New_York:20290604T123000
DTSTAMP:20260419T132139
CREATED:20251030T201958Z
LAST-MODIFIED:20260127T164546Z
UID:10001088-1875267000-1875270600@bessemercity.com
SUMMARY:Veteran's Lunch
DESCRIPTION:
URL:https://bessemercity.com/calendar/veterans-lunch/2029-06-04/
LOCATION:Allan Farris Community Center\, 220 South 14th Street\, Bessemer City\, NC\, 28016\, United States
CATEGORIES:Senior Event
END:VEVENT
BEGIN:VEVENT
DTSTART;TZID=America/New_York:20290605T090000
DTEND;TZID=America/New_York:20290605T100000
DTSTAMP:20260419T132139
CREATED:20251030T201445Z
LAST-MODIFIED:20251030T201445Z
UID:10000904-1875344400-1875348000@bessemercity.com
SUMMARY:Aerobics/Silver Sneakers/Chair Yoga
DESCRIPTION:
URL:https://bessemercity.com/calendar/aerobics-silver-sneakers-chair-yoga/2029-06-05/
LOCATION:Kiser Senior Center\, 123 W Pennsylvania Avenue\, Bessemer City\, NC\, 28016\, United States
CATEGORIES:Senior Event
END:VEVENT
BEGIN:VEVENT
DTSTART;TZID=America/New_York:20290608T090000
DTEND;TZID=America/New_York:20290608T100000
DTSTAMP:20260419T132139
CREATED:20251030T201848Z
LAST-MODIFIED:20260127T164333Z
UID:10001028-1875603600-1875607200@bessemercity.com
SUMMARY:Men's Breakfast
DESCRIPTION:
URL:https://bessemercity.com/calendar/mens-breakfast/2029-06-08/
LOCATION:NC
CATEGORIES:Senior Event
END:VEVENT
BEGIN:VEVENT
DTSTART;TZID=America/New_York:20290612T090000
DTEND;TZID=America/New_York:20290612T100000
DTSTAMP:20260419T132139
CREATED:20251030T201445Z
LAST-MODIFIED:20251030T201445Z
UID:10000905-1875949200-1875952800@bessemercity.com
SUMMARY:Aerobics/Silver Sneakers/Chair Yoga
DESCRIPTION:
URL:https://bessemercity.com/calendar/aerobics-silver-sneakers-chair-yoga/2029-06-12/
LOCATION:Kiser Senior Center\, 123 W Pennsylvania Avenue\, Bessemer City\, NC\, 28016\, United States
CATEGORIES:Senior Event
END:VEVENT
BEGIN:VEVENT
DTSTART;TZID=America/New_York:20290619T090000
DTEND;TZID=America/New_York:20290619T100000
DTSTAMP:20260419T132139
CREATED:20251030T201445Z
LAST-MODIFIED:20251030T201445Z
UID:10000906-1876554000-1876557600@bessemercity.com
SUMMARY:Aerobics/Silver Sneakers/Chair Yoga
DESCRIPTION:
URL:https://bessemercity.com/calendar/aerobics-silver-sneakers-chair-yoga/2029-06-19/
LOCATION:Kiser Senior Center\, 123 W Pennsylvania Avenue\, Bessemer City\, NC\, 28016\, United States
CATEGORIES:Senior Event
END:VEVENT
BEGIN:VEVENT
DTSTART;TZID=America/New_York:20290626T090000
DTEND;TZID=America/New_York:20290626T100000
DTSTAMP:20260419T132139
CREATED:20251030T201445Z
LAST-MODIFIED:20251030T201445Z
UID:10000907-1877158800-1877162400@bessemercity.com
SUMMARY:Aerobics/Silver Sneakers/Chair Yoga
DESCRIPTION:
URL:https://bessemercity.com/calendar/aerobics-silver-sneakers-chair-yoga/2029-06-26/
LOCATION:Kiser Senior Center\, 123 W Pennsylvania Avenue\, Bessemer City\, NC\, 28016\, United States
CATEGORIES:Senior Event
END:VEVENT
BEGIN:VEVENT
DTSTART;TZID=America/New_York:20290702T113000
DTEND;TZID=America/New_York:20290702T123000
DTSTAMP:20260419T132139
CREATED:20251030T201958Z
LAST-MODIFIED:20260127T164546Z
UID:10001089-1877686200-1877689800@bessemercity.com
SUMMARY:Veteran's Lunch
DESCRIPTION:
URL:https://bessemercity.com/calendar/veterans-lunch/2029-07-02/
LOCATION:Allan Farris Community Center\, 220 South 14th Street\, Bessemer City\, NC\, 28016\, United States
CATEGORIES:Senior Event
END:VEVENT
BEGIN:VEVENT
DTSTART;TZID=America/New_York:20290703T090000
DTEND;TZID=America/New_York:20290703T100000
DTSTAMP:20260419T132139
CREATED:20251030T201445Z
LAST-MODIFIED:20251030T201445Z
UID:10000908-1877763600-1877767200@bessemercity.com
SUMMARY:Aerobics/Silver Sneakers/Chair Yoga
DESCRIPTION:
URL:https://bessemercity.com/calendar/aerobics-silver-sneakers-chair-yoga/2029-07-03/
LOCATION:Kiser Senior Center\, 123 W Pennsylvania Avenue\, Bessemer City\, NC\, 28016\, United States
CATEGORIES:Senior Event
END:VEVENT
BEGIN:VEVENT
DTSTART;TZID=America/New_York:20290710T090000
DTEND;TZID=America/New_York:20290710T100000
DTSTAMP:20260419T132139
CREATED:20251030T201445Z
LAST-MODIFIED:20251030T201445Z
UID:10000909-1878368400-1878372000@bessemercity.com
SUMMARY:Aerobics/Silver Sneakers/Chair Yoga
DESCRIPTION:
URL:https://bessemercity.com/calendar/aerobics-silver-sneakers-chair-yoga/2029-07-10/
LOCATION:Kiser Senior Center\, 123 W Pennsylvania Avenue\, Bessemer City\, NC\, 28016\, United States
CATEGORIES:Senior Event
END:VEVENT
END:VCALENDAR