BEGIN:VCALENDAR
VERSION:2.0
PRODID:-//Bessemer City, NC - ECPv6.15.20//NONSGML v1.0//EN
CALSCALE:GREGORIAN
METHOD:PUBLISH
X-ORIGINAL-URL:https://bessemercity.com
X-WR-CALDESC:Events for Bessemer City, NC
REFRESH-INTERVAL;VALUE=DURATION:PT1H
X-Robots-Tag:noindex
X-PUBLISHED-TTL:PT1H
BEGIN:VTIMEZONE
TZID:America/New_York
BEGIN:DAYLIGHT
TZOFFSETFROM:-0500
TZOFFSETTO:-0400
TZNAME:EDT
DTSTART:20280312T070000
END:DAYLIGHT
BEGIN:STANDARD
TZOFFSETFROM:-0400
TZOFFSETTO:-0500
TZNAME:EST
DTSTART:20281105T060000
END:STANDARD
BEGIN:DAYLIGHT
TZOFFSETFROM:-0500
TZOFFSETTO:-0400
TZNAME:EDT
DTSTART:20290311T070000
END:DAYLIGHT
BEGIN:STANDARD
TZOFFSETFROM:-0400
TZOFFSETTO:-0500
TZNAME:EST
DTSTART:20291104T060000
END:STANDARD
BEGIN:DAYLIGHT
TZOFFSETFROM:-0500
TZOFFSETTO:-0400
TZNAME:EDT
DTSTART:20300310T070000
END:DAYLIGHT
BEGIN:STANDARD
TZOFFSETFROM:-0400
TZOFFSETTO:-0500
TZNAME:EST
DTSTART:20301103T060000
END:STANDARD
BEGIN:DAYLIGHT
TZOFFSETFROM:-0500
TZOFFSETTO:-0400
TZNAME:EDT
DTSTART:20310309T070000
END:DAYLIGHT
BEGIN:STANDARD
TZOFFSETFROM:-0400
TZOFFSETTO:-0500
TZNAME:EST
DTSTART:20311102T060000
END:STANDARD
END:VTIMEZONE
BEGIN:VEVENT
DTSTART;TZID=America/New_York:20290810T090000
DTEND;TZID=America/New_York:20290810T100000
DTSTAMP:20260419T173709
CREATED:20251030T201848Z
LAST-MODIFIED:20260127T164333Z
UID:10001030-1881046800-1881050400@bessemercity.com
SUMMARY:Men's Breakfast
DESCRIPTION:
URL:https://bessemercity.com/calendar/mens-breakfast/2029-08-10/
LOCATION:NC
CATEGORIES:Senior Event
END:VEVENT
BEGIN:VEVENT
DTSTART;TZID=America/New_York:20290814T090000
DTEND;TZID=America/New_York:20290814T100000
DTSTAMP:20260419T173709
CREATED:20251030T201445Z
LAST-MODIFIED:20251030T201445Z
UID:10000914-1881392400-1881396000@bessemercity.com
SUMMARY:Aerobics/Silver Sneakers/Chair Yoga
DESCRIPTION:
URL:https://bessemercity.com/calendar/aerobics-silver-sneakers-chair-yoga/2029-08-14/
LOCATION:Kiser Senior Center\, 123 W Pennsylvania Avenue\, Bessemer City\, NC\, 28016\, United States
CATEGORIES:Senior Event
END:VEVENT
BEGIN:VEVENT
DTSTART;TZID=America/New_York:20290821T090000
DTEND;TZID=America/New_York:20290821T100000
DTSTAMP:20260419T173709
CREATED:20251030T201445Z
LAST-MODIFIED:20251030T201445Z
UID:10000915-1881997200-1882000800@bessemercity.com
SUMMARY:Aerobics/Silver Sneakers/Chair Yoga
DESCRIPTION:
URL:https://bessemercity.com/calendar/aerobics-silver-sneakers-chair-yoga/2029-08-21/
LOCATION:Kiser Senior Center\, 123 W Pennsylvania Avenue\, Bessemer City\, NC\, 28016\, United States
CATEGORIES:Senior Event
END:VEVENT
BEGIN:VEVENT
DTSTART;TZID=America/New_York:20290828T090000
DTEND;TZID=America/New_York:20290828T100000
DTSTAMP:20260419T173709
CREATED:20251030T201445Z
LAST-MODIFIED:20251030T201445Z
UID:10000916-1882602000-1882605600@bessemercity.com
SUMMARY:Aerobics/Silver Sneakers/Chair Yoga
DESCRIPTION:
URL:https://bessemercity.com/calendar/aerobics-silver-sneakers-chair-yoga/2029-08-28/
LOCATION:Kiser Senior Center\, 123 W Pennsylvania Avenue\, Bessemer City\, NC\, 28016\, United States
CATEGORIES:Senior Event
END:VEVENT
BEGIN:VEVENT
DTSTART;TZID=America/New_York:20290903T113000
DTEND;TZID=America/New_York:20290903T123000
DTSTAMP:20260419T173709
CREATED:20251030T201958Z
LAST-MODIFIED:20260127T164546Z
UID:10001091-1883129400-1883133000@bessemercity.com
SUMMARY:Veteran's Lunch
DESCRIPTION:
URL:https://bessemercity.com/calendar/veterans-lunch/2029-09-03/
LOCATION:Allan Farris Community Center\, 220 South 14th Street\, Bessemer City\, NC\, 28016\, United States
CATEGORIES:Senior Event
END:VEVENT
BEGIN:VEVENT
DTSTART;TZID=America/New_York:20290904T090000
DTEND;TZID=America/New_York:20290904T100000
DTSTAMP:20260419T173709
CREATED:20251030T201445Z
LAST-MODIFIED:20251030T201445Z
UID:10000917-1883206800-1883210400@bessemercity.com
SUMMARY:Aerobics/Silver Sneakers/Chair Yoga
DESCRIPTION:
URL:https://bessemercity.com/calendar/aerobics-silver-sneakers-chair-yoga/2029-09-04/
LOCATION:Kiser Senior Center\, 123 W Pennsylvania Avenue\, Bessemer City\, NC\, 28016\, United States
CATEGORIES:Senior Event
END:VEVENT
BEGIN:VEVENT
DTSTART;TZID=America/New_York:20290911T090000
DTEND;TZID=America/New_York:20290911T100000
DTSTAMP:20260419T173709
CREATED:20251030T201445Z
LAST-MODIFIED:20251030T201445Z
UID:10000918-1883811600-1883815200@bessemercity.com
SUMMARY:Aerobics/Silver Sneakers/Chair Yoga
DESCRIPTION:
URL:https://bessemercity.com/calendar/aerobics-silver-sneakers-chair-yoga/2029-09-11/
LOCATION:Kiser Senior Center\, 123 W Pennsylvania Avenue\, Bessemer City\, NC\, 28016\, United States
CATEGORIES:Senior Event
END:VEVENT
BEGIN:VEVENT
DTSTART;TZID=America/New_York:20290914T090000
DTEND;TZID=America/New_York:20290914T100000
DTSTAMP:20260419T173709
CREATED:20251030T201848Z
LAST-MODIFIED:20260127T164333Z
UID:10001031-1884070800-1884074400@bessemercity.com
SUMMARY:Men's Breakfast
DESCRIPTION:
URL:https://bessemercity.com/calendar/mens-breakfast/2029-09-14/
LOCATION:NC
CATEGORIES:Senior Event
END:VEVENT
BEGIN:VEVENT
DTSTART;TZID=America/New_York:20290918T090000
DTEND;TZID=America/New_York:20290918T100000
DTSTAMP:20260419T173709
CREATED:20251030T201445Z
LAST-MODIFIED:20251030T201445Z
UID:10000919-1884416400-1884420000@bessemercity.com
SUMMARY:Aerobics/Silver Sneakers/Chair Yoga
DESCRIPTION:
URL:https://bessemercity.com/calendar/aerobics-silver-sneakers-chair-yoga/2029-09-18/
LOCATION:Kiser Senior Center\, 123 W Pennsylvania Avenue\, Bessemer City\, NC\, 28016\, United States
CATEGORIES:Senior Event
END:VEVENT
BEGIN:VEVENT
DTSTART;TZID=America/New_York:20290925T090000
DTEND;TZID=America/New_York:20290925T100000
DTSTAMP:20260419T173709
CREATED:20251030T201445Z
LAST-MODIFIED:20251030T201445Z
UID:10000920-1885021200-1885024800@bessemercity.com
SUMMARY:Aerobics/Silver Sneakers/Chair Yoga
DESCRIPTION:
URL:https://bessemercity.com/calendar/aerobics-silver-sneakers-chair-yoga/2029-09-25/
LOCATION:Kiser Senior Center\, 123 W Pennsylvania Avenue\, Bessemer City\, NC\, 28016\, United States
CATEGORIES:Senior Event
END:VEVENT
BEGIN:VEVENT
DTSTART;TZID=America/New_York:20291001T113000
DTEND;TZID=America/New_York:20291001T123000
DTSTAMP:20260419T173709
CREATED:20251030T201958Z
LAST-MODIFIED:20260127T164546Z
UID:10001092-1885548600-1885552200@bessemercity.com
SUMMARY:Veteran's Lunch
DESCRIPTION:
URL:https://bessemercity.com/calendar/veterans-lunch/2029-10-01/
LOCATION:Allan Farris Community Center\, 220 South 14th Street\, Bessemer City\, NC\, 28016\, United States
CATEGORIES:Senior Event
END:VEVENT
BEGIN:VEVENT
DTSTART;TZID=America/New_York:20291002T090000
DTEND;TZID=America/New_York:20291002T100000
DTSTAMP:20260419T173709
CREATED:20251030T201445Z
LAST-MODIFIED:20251030T201445Z
UID:10000921-1885626000-1885629600@bessemercity.com
SUMMARY:Aerobics/Silver Sneakers/Chair Yoga
DESCRIPTION:
URL:https://bessemercity.com/calendar/aerobics-silver-sneakers-chair-yoga/2029-10-02/
LOCATION:Kiser Senior Center\, 123 W Pennsylvania Avenue\, Bessemer City\, NC\, 28016\, United States
CATEGORIES:Senior Event
END:VEVENT
BEGIN:VEVENT
DTSTART;TZID=America/New_York:20291009T090000
DTEND;TZID=America/New_York:20291009T100000
DTSTAMP:20260419T173709
CREATED:20251030T201445Z
LAST-MODIFIED:20251030T201445Z
UID:10000922-1886230800-1886234400@bessemercity.com
SUMMARY:Aerobics/Silver Sneakers/Chair Yoga
DESCRIPTION:
URL:https://bessemercity.com/calendar/aerobics-silver-sneakers-chair-yoga/2029-10-09/
LOCATION:Kiser Senior Center\, 123 W Pennsylvania Avenue\, Bessemer City\, NC\, 28016\, United States
CATEGORIES:Senior Event
END:VEVENT
BEGIN:VEVENT
DTSTART;TZID=America/New_York:20291012T090000
DTEND;TZID=America/New_York:20291012T100000
DTSTAMP:20260419T173709
CREATED:20251030T201848Z
LAST-MODIFIED:20260127T164333Z
UID:10001032-1886490000-1886493600@bessemercity.com
SUMMARY:Men's Breakfast
DESCRIPTION:
URL:https://bessemercity.com/calendar/mens-breakfast/2029-10-12/
LOCATION:NC
CATEGORIES:Senior Event
END:VEVENT
BEGIN:VEVENT
DTSTART;TZID=America/New_York:20291016T090000
DTEND;TZID=America/New_York:20291016T100000
DTSTAMP:20260419T173709
CREATED:20251030T201445Z
LAST-MODIFIED:20251030T201445Z
UID:10000923-1886835600-1886839200@bessemercity.com
SUMMARY:Aerobics/Silver Sneakers/Chair Yoga
DESCRIPTION:
URL:https://bessemercity.com/calendar/aerobics-silver-sneakers-chair-yoga/2029-10-16/
LOCATION:Kiser Senior Center\, 123 W Pennsylvania Avenue\, Bessemer City\, NC\, 28016\, United States
CATEGORIES:Senior Event
END:VEVENT
BEGIN:VEVENT
DTSTART;TZID=America/New_York:20291023T090000
DTEND;TZID=America/New_York:20291023T100000
DTSTAMP:20260419T173709
CREATED:20251030T201445Z
LAST-MODIFIED:20251030T201445Z
UID:10000924-1887440400-1887444000@bessemercity.com
SUMMARY:Aerobics/Silver Sneakers/Chair Yoga
DESCRIPTION:
URL:https://bessemercity.com/calendar/aerobics-silver-sneakers-chair-yoga/2029-10-23/
LOCATION:Kiser Senior Center\, 123 W Pennsylvania Avenue\, Bessemer City\, NC\, 28016\, United States
CATEGORIES:Senior Event
END:VEVENT
BEGIN:VEVENT
DTSTART;TZID=America/New_York:20291030T090000
DTEND;TZID=America/New_York:20291030T100000
DTSTAMP:20260419T173709
CREATED:20251030T201445Z
LAST-MODIFIED:20251030T201445Z
UID:10000925-1888045200-1888048800@bessemercity.com
SUMMARY:Aerobics/Silver Sneakers/Chair Yoga
DESCRIPTION:
URL:https://bessemercity.com/calendar/aerobics-silver-sneakers-chair-yoga/2029-10-30/
LOCATION:Kiser Senior Center\, 123 W Pennsylvania Avenue\, Bessemer City\, NC\, 28016\, United States
CATEGORIES:Senior Event
END:VEVENT
BEGIN:VEVENT
DTSTART;TZID=America/New_York:20291105T113000
DTEND;TZID=America/New_York:20291105T123000
DTSTAMP:20260419T173709
CREATED:20251030T201958Z
LAST-MODIFIED:20260127T164546Z
UID:10001093-1888572600-1888576200@bessemercity.com
SUMMARY:Veteran's Lunch
DESCRIPTION:
URL:https://bessemercity.com/calendar/veterans-lunch/2029-11-05/
LOCATION:Allan Farris Community Center\, 220 South 14th Street\, Bessemer City\, NC\, 28016\, United States
CATEGORIES:Senior Event
END:VEVENT
BEGIN:VEVENT
DTSTART;TZID=America/New_York:20291106T090000
DTEND;TZID=America/New_York:20291106T100000
DTSTAMP:20260419T173709
CREATED:20251030T201445Z
LAST-MODIFIED:20251030T201445Z
UID:10000926-1888650000-1888653600@bessemercity.com
SUMMARY:Aerobics/Silver Sneakers/Chair Yoga
DESCRIPTION:
URL:https://bessemercity.com/calendar/aerobics-silver-sneakers-chair-yoga/2029-11-06/
LOCATION:Kiser Senior Center\, 123 W Pennsylvania Avenue\, Bessemer City\, NC\, 28016\, United States
CATEGORIES:Senior Event
END:VEVENT
BEGIN:VEVENT
DTSTART;TZID=America/New_York:20291109T090000
DTEND;TZID=America/New_York:20291109T100000
DTSTAMP:20260419T173709
CREATED:20251030T201848Z
LAST-MODIFIED:20260127T164333Z
UID:10001033-1888909200-1888912800@bessemercity.com
SUMMARY:Men's Breakfast
DESCRIPTION:
URL:https://bessemercity.com/calendar/mens-breakfast/2029-11-09/
LOCATION:NC
CATEGORIES:Senior Event
END:VEVENT
BEGIN:VEVENT
DTSTART;TZID=America/New_York:20291113T090000
DTEND;TZID=America/New_York:20291113T100000
DTSTAMP:20260419T173709
CREATED:20251030T201445Z
LAST-MODIFIED:20251030T201445Z
UID:10000927-1889254800-1889258400@bessemercity.com
SUMMARY:Aerobics/Silver Sneakers/Chair Yoga
DESCRIPTION:
URL:https://bessemercity.com/calendar/aerobics-silver-sneakers-chair-yoga/2029-11-13/
LOCATION:Kiser Senior Center\, 123 W Pennsylvania Avenue\, Bessemer City\, NC\, 28016\, United States
CATEGORIES:Senior Event
END:VEVENT
BEGIN:VEVENT
DTSTART;TZID=America/New_York:20291120T090000
DTEND;TZID=America/New_York:20291120T100000
DTSTAMP:20260419T173709
CREATED:20251030T201445Z
LAST-MODIFIED:20251030T201445Z
UID:10000928-1889859600-1889863200@bessemercity.com
SUMMARY:Aerobics/Silver Sneakers/Chair Yoga
DESCRIPTION:
URL:https://bessemercity.com/calendar/aerobics-silver-sneakers-chair-yoga/2029-11-20/
LOCATION:Kiser Senior Center\, 123 W Pennsylvania Avenue\, Bessemer City\, NC\, 28016\, United States
CATEGORIES:Senior Event
END:VEVENT
BEGIN:VEVENT
DTSTART;TZID=America/New_York:20291127T090000
DTEND;TZID=America/New_York:20291127T100000
DTSTAMP:20260419T173709
CREATED:20251030T201445Z
LAST-MODIFIED:20251030T201445Z
UID:10000929-1890464400-1890468000@bessemercity.com
SUMMARY:Aerobics/Silver Sneakers/Chair Yoga
DESCRIPTION:
URL:https://bessemercity.com/calendar/aerobics-silver-sneakers-chair-yoga/2029-11-27/
LOCATION:Kiser Senior Center\, 123 W Pennsylvania Avenue\, Bessemer City\, NC\, 28016\, United States
CATEGORIES:Senior Event
END:VEVENT
BEGIN:VEVENT
DTSTART;TZID=America/New_York:20291203T113000
DTEND;TZID=America/New_York:20291203T123000
DTSTAMP:20260419T173709
CREATED:20251030T201958Z
LAST-MODIFIED:20260127T164546Z
UID:10001094-1890991800-1890995400@bessemercity.com
SUMMARY:Veteran's Lunch
DESCRIPTION:
URL:https://bessemercity.com/calendar/veterans-lunch/2029-12-03/
LOCATION:Allan Farris Community Center\, 220 South 14th Street\, Bessemer City\, NC\, 28016\, United States
CATEGORIES:Senior Event
END:VEVENT
BEGIN:VEVENT
DTSTART;TZID=America/New_York:20291204T090000
DTEND;TZID=America/New_York:20291204T100000
DTSTAMP:20260419T173709
CREATED:20251030T201445Z
LAST-MODIFIED:20251030T201445Z
UID:10000930-1891069200-1891072800@bessemercity.com
SUMMARY:Aerobics/Silver Sneakers/Chair Yoga
DESCRIPTION:
URL:https://bessemercity.com/calendar/aerobics-silver-sneakers-chair-yoga/2029-12-04/
LOCATION:Kiser Senior Center\, 123 W Pennsylvania Avenue\, Bessemer City\, NC\, 28016\, United States
CATEGORIES:Senior Event
END:VEVENT
BEGIN:VEVENT
DTSTART;TZID=America/New_York:20291211T090000
DTEND;TZID=America/New_York:20291211T100000
DTSTAMP:20260419T173709
CREATED:20251030T201445Z
LAST-MODIFIED:20251030T201445Z
UID:10000931-1891674000-1891677600@bessemercity.com
SUMMARY:Aerobics/Silver Sneakers/Chair Yoga
DESCRIPTION:
URL:https://bessemercity.com/calendar/aerobics-silver-sneakers-chair-yoga/2029-12-11/
LOCATION:Kiser Senior Center\, 123 W Pennsylvania Avenue\, Bessemer City\, NC\, 28016\, United States
CATEGORIES:Senior Event
END:VEVENT
BEGIN:VEVENT
DTSTART;TZID=America/New_York:20291214T090000
DTEND;TZID=America/New_York:20291214T100000
DTSTAMP:20260419T173709
CREATED:20251030T201848Z
LAST-MODIFIED:20260127T164333Z
UID:10001034-1891933200-1891936800@bessemercity.com
SUMMARY:Men's Breakfast
DESCRIPTION:
URL:https://bessemercity.com/calendar/mens-breakfast/2029-12-14/
LOCATION:NC
CATEGORIES:Senior Event
END:VEVENT
BEGIN:VEVENT
DTSTART;TZID=America/New_York:20291218T090000
DTEND;TZID=America/New_York:20291218T100000
DTSTAMP:20260419T173709
CREATED:20251030T201445Z
LAST-MODIFIED:20251030T201445Z
UID:10000932-1892278800-1892282400@bessemercity.com
SUMMARY:Aerobics/Silver Sneakers/Chair Yoga
DESCRIPTION:
URL:https://bessemercity.com/calendar/aerobics-silver-sneakers-chair-yoga/2029-12-18/
LOCATION:Kiser Senior Center\, 123 W Pennsylvania Avenue\, Bessemer City\, NC\, 28016\, United States
CATEGORIES:Senior Event
END:VEVENT
BEGIN:VEVENT
DTSTART;TZID=America/New_York:20291225T090000
DTEND;TZID=America/New_York:20291225T100000
DTSTAMP:20260419T173709
CREATED:20251030T201445Z
LAST-MODIFIED:20251030T201445Z
UID:10000933-1892883600-1892887200@bessemercity.com
SUMMARY:Aerobics/Silver Sneakers/Chair Yoga
DESCRIPTION:
URL:https://bessemercity.com/calendar/aerobics-silver-sneakers-chair-yoga/2029-12-25/
LOCATION:Kiser Senior Center\, 123 W Pennsylvania Avenue\, Bessemer City\, NC\, 28016\, United States
CATEGORIES:Senior Event
END:VEVENT
BEGIN:VEVENT
DTSTART;TZID=America/New_York:20300101T090000
DTEND;TZID=America/New_York:20300101T100000
DTSTAMP:20260419T173709
CREATED:20251030T201445Z
LAST-MODIFIED:20251030T201445Z
UID:10000934-1893488400-1893492000@bessemercity.com
SUMMARY:Aerobics/Silver Sneakers/Chair Yoga
DESCRIPTION:
URL:https://bessemercity.com/calendar/aerobics-silver-sneakers-chair-yoga/2030-01-01/
LOCATION:Kiser Senior Center\, 123 W Pennsylvania Avenue\, Bessemer City\, NC\, 28016\, United States
CATEGORIES:Senior Event
END:VEVENT
END:VCALENDAR