BEGIN:VCALENDAR
VERSION:2.0
PRODID:-//Bessemer City, NC - ECPv6.15.20//NONSGML v1.0//EN
CALSCALE:GREGORIAN
METHOD:PUBLISH
X-WR-CALNAME:Bessemer City, NC
X-ORIGINAL-URL:https://bessemercity.com
X-WR-CALDESC:Events for Bessemer City, NC
REFRESH-INTERVAL;VALUE=DURATION:PT1H
X-Robots-Tag:noindex
X-PUBLISHED-TTL:PT1H
BEGIN:VTIMEZONE
TZID:America/New_York
BEGIN:DAYLIGHT
TZOFFSETFROM:-0500
TZOFFSETTO:-0400
TZNAME:EDT
DTSTART:20290311T070000
END:DAYLIGHT
BEGIN:STANDARD
TZOFFSETFROM:-0400
TZOFFSETTO:-0500
TZNAME:EST
DTSTART:20291104T060000
END:STANDARD
BEGIN:DAYLIGHT
TZOFFSETFROM:-0500
TZOFFSETTO:-0400
TZNAME:EDT
DTSTART:20300310T070000
END:DAYLIGHT
BEGIN:STANDARD
TZOFFSETFROM:-0400
TZOFFSETTO:-0500
TZNAME:EST
DTSTART:20301103T060000
END:STANDARD
BEGIN:DAYLIGHT
TZOFFSETFROM:-0500
TZOFFSETTO:-0400
TZNAME:EDT
DTSTART:20310309T070000
END:DAYLIGHT
BEGIN:STANDARD
TZOFFSETFROM:-0400
TZOFFSETTO:-0500
TZNAME:EST
DTSTART:20311102T060000
END:STANDARD
END:VTIMEZONE
BEGIN:VEVENT
DTSTART;TZID=America/New_York:20300204T113000
DTEND;TZID=America/New_York:20300204T123000
DTSTAMP:20260419T221609
CREATED:20251030T201958Z
LAST-MODIFIED:20260127T164546Z
UID:10001096-1896435000-1896438600@bessemercity.com
SUMMARY:Veteran's Lunch
DESCRIPTION:
URL:https://bessemercity.com/calendar/veterans-lunch/2030-02-04/
LOCATION:Allan Farris Community Center\, 220 South 14th Street\, Bessemer City\, NC\, 28016\, United States
CATEGORIES:Senior Event
END:VEVENT
BEGIN:VEVENT
DTSTART;TZID=America/New_York:20300205T090000
DTEND;TZID=America/New_York:20300205T100000
DTSTAMP:20260419T221610
CREATED:20251030T201445Z
LAST-MODIFIED:20251030T201445Z
UID:10000939-1896512400-1896516000@bessemercity.com
SUMMARY:Aerobics/Silver Sneakers/Chair Yoga
DESCRIPTION:
URL:https://bessemercity.com/calendar/aerobics-silver-sneakers-chair-yoga/2030-02-05/
LOCATION:Kiser Senior Center\, 123 W Pennsylvania Avenue\, Bessemer City\, NC\, 28016\, United States
CATEGORIES:Senior Event
END:VEVENT
BEGIN:VEVENT
DTSTART;TZID=America/New_York:20300208T090000
DTEND;TZID=America/New_York:20300208T100000
DTSTAMP:20260419T221610
CREATED:20251030T201848Z
LAST-MODIFIED:20260127T164333Z
UID:10001036-1896771600-1896775200@bessemercity.com
SUMMARY:Men's Breakfast
DESCRIPTION:
URL:https://bessemercity.com/calendar/mens-breakfast/2030-02-08/
LOCATION:NC
CATEGORIES:Senior Event
END:VEVENT
BEGIN:VEVENT
DTSTART;TZID=America/New_York:20300212T090000
DTEND;TZID=America/New_York:20300212T100000
DTSTAMP:20260419T221610
CREATED:20251030T201445Z
LAST-MODIFIED:20251030T201445Z
UID:10000940-1897117200-1897120800@bessemercity.com
SUMMARY:Aerobics/Silver Sneakers/Chair Yoga
DESCRIPTION:
URL:https://bessemercity.com/calendar/aerobics-silver-sneakers-chair-yoga/2030-02-12/
LOCATION:Kiser Senior Center\, 123 W Pennsylvania Avenue\, Bessemer City\, NC\, 28016\, United States
CATEGORIES:Senior Event
END:VEVENT
BEGIN:VEVENT
DTSTART;TZID=America/New_York:20300219T090000
DTEND;TZID=America/New_York:20300219T100000
DTSTAMP:20260419T221610
CREATED:20251030T201445Z
LAST-MODIFIED:20251030T201445Z
UID:10000941-1897722000-1897725600@bessemercity.com
SUMMARY:Aerobics/Silver Sneakers/Chair Yoga
DESCRIPTION:
URL:https://bessemercity.com/calendar/aerobics-silver-sneakers-chair-yoga/2030-02-19/
LOCATION:Kiser Senior Center\, 123 W Pennsylvania Avenue\, Bessemer City\, NC\, 28016\, United States
CATEGORIES:Senior Event
END:VEVENT
BEGIN:VEVENT
DTSTART;TZID=America/New_York:20300226T090000
DTEND;TZID=America/New_York:20300226T100000
DTSTAMP:20260419T221610
CREATED:20251030T201445Z
LAST-MODIFIED:20251030T201445Z
UID:10000942-1898326800-1898330400@bessemercity.com
SUMMARY:Aerobics/Silver Sneakers/Chair Yoga
DESCRIPTION:
URL:https://bessemercity.com/calendar/aerobics-silver-sneakers-chair-yoga/2030-02-26/
LOCATION:Kiser Senior Center\, 123 W Pennsylvania Avenue\, Bessemer City\, NC\, 28016\, United States
CATEGORIES:Senior Event
END:VEVENT
BEGIN:VEVENT
DTSTART;TZID=America/New_York:20300304T113000
DTEND;TZID=America/New_York:20300304T123000
DTSTAMP:20260419T221610
CREATED:20251030T201958Z
LAST-MODIFIED:20260127T164546Z
UID:10001097-1898854200-1898857800@bessemercity.com
SUMMARY:Veteran's Lunch
DESCRIPTION:
URL:https://bessemercity.com/calendar/veterans-lunch/2030-03-04/
LOCATION:Allan Farris Community Center\, 220 South 14th Street\, Bessemer City\, NC\, 28016\, United States
CATEGORIES:Senior Event
END:VEVENT
BEGIN:VEVENT
DTSTART;TZID=America/New_York:20300305T090000
DTEND;TZID=America/New_York:20300305T100000
DTSTAMP:20260419T221610
CREATED:20251030T201445Z
LAST-MODIFIED:20251030T201445Z
UID:10000943-1898931600-1898935200@bessemercity.com
SUMMARY:Aerobics/Silver Sneakers/Chair Yoga
DESCRIPTION:
URL:https://bessemercity.com/calendar/aerobics-silver-sneakers-chair-yoga/2030-03-05/
LOCATION:Kiser Senior Center\, 123 W Pennsylvania Avenue\, Bessemer City\, NC\, 28016\, United States
CATEGORIES:Senior Event
END:VEVENT
BEGIN:VEVENT
DTSTART;TZID=America/New_York:20300308T090000
DTEND;TZID=America/New_York:20300308T100000
DTSTAMP:20260419T221610
CREATED:20251030T201848Z
LAST-MODIFIED:20260127T164333Z
UID:10001037-1899190800-1899194400@bessemercity.com
SUMMARY:Men's Breakfast
DESCRIPTION:
URL:https://bessemercity.com/calendar/mens-breakfast/2030-03-08/
LOCATION:NC
CATEGORIES:Senior Event
END:VEVENT
BEGIN:VEVENT
DTSTART;TZID=America/New_York:20300312T090000
DTEND;TZID=America/New_York:20300312T100000
DTSTAMP:20260419T221610
CREATED:20251030T201445Z
LAST-MODIFIED:20251030T201445Z
UID:10000944-1899536400-1899540000@bessemercity.com
SUMMARY:Aerobics/Silver Sneakers/Chair Yoga
DESCRIPTION:
URL:https://bessemercity.com/calendar/aerobics-silver-sneakers-chair-yoga/2030-03-12/
LOCATION:Kiser Senior Center\, 123 W Pennsylvania Avenue\, Bessemer City\, NC\, 28016\, United States
CATEGORIES:Senior Event
END:VEVENT
BEGIN:VEVENT
DTSTART;TZID=America/New_York:20300319T090000
DTEND;TZID=America/New_York:20300319T100000
DTSTAMP:20260419T221610
CREATED:20251030T201445Z
LAST-MODIFIED:20251030T201445Z
UID:10000945-1900141200-1900144800@bessemercity.com
SUMMARY:Aerobics/Silver Sneakers/Chair Yoga
DESCRIPTION:
URL:https://bessemercity.com/calendar/aerobics-silver-sneakers-chair-yoga/2030-03-19/
LOCATION:Kiser Senior Center\, 123 W Pennsylvania Avenue\, Bessemer City\, NC\, 28016\, United States
CATEGORIES:Senior Event
END:VEVENT
BEGIN:VEVENT
DTSTART;TZID=America/New_York:20300326T090000
DTEND;TZID=America/New_York:20300326T100000
DTSTAMP:20260419T221610
CREATED:20251030T201445Z
LAST-MODIFIED:20251030T201445Z
UID:10000946-1900746000-1900749600@bessemercity.com
SUMMARY:Aerobics/Silver Sneakers/Chair Yoga
DESCRIPTION:
URL:https://bessemercity.com/calendar/aerobics-silver-sneakers-chair-yoga/2030-03-26/
LOCATION:Kiser Senior Center\, 123 W Pennsylvania Avenue\, Bessemer City\, NC\, 28016\, United States
CATEGORIES:Senior Event
END:VEVENT
BEGIN:VEVENT
DTSTART;TZID=America/New_York:20300401T113000
DTEND;TZID=America/New_York:20300401T123000
DTSTAMP:20260419T221610
CREATED:20251030T201958Z
LAST-MODIFIED:20260127T164546Z
UID:10001098-1901273400-1901277000@bessemercity.com
SUMMARY:Veteran's Lunch
DESCRIPTION:
URL:https://bessemercity.com/calendar/veterans-lunch/2030-04-01/
LOCATION:Allan Farris Community Center\, 220 South 14th Street\, Bessemer City\, NC\, 28016\, United States
CATEGORIES:Senior Event
END:VEVENT
BEGIN:VEVENT
DTSTART;TZID=America/New_York:20300402T090000
DTEND;TZID=America/New_York:20300402T100000
DTSTAMP:20260419T221610
CREATED:20251030T201445Z
LAST-MODIFIED:20251030T201445Z
UID:10000947-1901350800-1901354400@bessemercity.com
SUMMARY:Aerobics/Silver Sneakers/Chair Yoga
DESCRIPTION:
URL:https://bessemercity.com/calendar/aerobics-silver-sneakers-chair-yoga/2030-04-02/
LOCATION:Kiser Senior Center\, 123 W Pennsylvania Avenue\, Bessemer City\, NC\, 28016\, United States
CATEGORIES:Senior Event
END:VEVENT
BEGIN:VEVENT
DTSTART;TZID=America/New_York:20300409T090000
DTEND;TZID=America/New_York:20300409T100000
DTSTAMP:20260419T221610
CREATED:20251030T201445Z
LAST-MODIFIED:20251030T201445Z
UID:10000948-1901955600-1901959200@bessemercity.com
SUMMARY:Aerobics/Silver Sneakers/Chair Yoga
DESCRIPTION:
URL:https://bessemercity.com/calendar/aerobics-silver-sneakers-chair-yoga/2030-04-09/
LOCATION:Kiser Senior Center\, 123 W Pennsylvania Avenue\, Bessemer City\, NC\, 28016\, United States
CATEGORIES:Senior Event
END:VEVENT
BEGIN:VEVENT
DTSTART;TZID=America/New_York:20300412T090000
DTEND;TZID=America/New_York:20300412T100000
DTSTAMP:20260419T221610
CREATED:20251030T201848Z
LAST-MODIFIED:20260127T164333Z
UID:10001038-1902214800-1902218400@bessemercity.com
SUMMARY:Men's Breakfast
DESCRIPTION:
URL:https://bessemercity.com/calendar/mens-breakfast/2030-04-12/
LOCATION:NC
CATEGORIES:Senior Event
END:VEVENT
BEGIN:VEVENT
DTSTART;TZID=America/New_York:20300416T090000
DTEND;TZID=America/New_York:20300416T100000
DTSTAMP:20260419T221610
CREATED:20251030T201445Z
LAST-MODIFIED:20251030T201445Z
UID:10000949-1902560400-1902564000@bessemercity.com
SUMMARY:Aerobics/Silver Sneakers/Chair Yoga
DESCRIPTION:
URL:https://bessemercity.com/calendar/aerobics-silver-sneakers-chair-yoga/2030-04-16/
LOCATION:Kiser Senior Center\, 123 W Pennsylvania Avenue\, Bessemer City\, NC\, 28016\, United States
CATEGORIES:Senior Event
END:VEVENT
BEGIN:VEVENT
DTSTART;TZID=America/New_York:20300423T090000
DTEND;TZID=America/New_York:20300423T100000
DTSTAMP:20260419T221610
CREATED:20251030T201445Z
LAST-MODIFIED:20251030T201445Z
UID:10000950-1903165200-1903168800@bessemercity.com
SUMMARY:Aerobics/Silver Sneakers/Chair Yoga
DESCRIPTION:
URL:https://bessemercity.com/calendar/aerobics-silver-sneakers-chair-yoga/2030-04-23/
LOCATION:Kiser Senior Center\, 123 W Pennsylvania Avenue\, Bessemer City\, NC\, 28016\, United States
CATEGORIES:Senior Event
END:VEVENT
BEGIN:VEVENT
DTSTART;TZID=America/New_York:20300430T090000
DTEND;TZID=America/New_York:20300430T100000
DTSTAMP:20260419T221610
CREATED:20251030T201445Z
LAST-MODIFIED:20251030T201445Z
UID:10000951-1903770000-1903773600@bessemercity.com
SUMMARY:Aerobics/Silver Sneakers/Chair Yoga
DESCRIPTION:
URL:https://bessemercity.com/calendar/aerobics-silver-sneakers-chair-yoga/2030-04-30/
LOCATION:Kiser Senior Center\, 123 W Pennsylvania Avenue\, Bessemer City\, NC\, 28016\, United States
CATEGORIES:Senior Event
END:VEVENT
BEGIN:VEVENT
DTSTART;TZID=America/New_York:20300506T113000
DTEND;TZID=America/New_York:20300506T123000
DTSTAMP:20260419T221610
CREATED:20251030T201958Z
LAST-MODIFIED:20260127T164546Z
UID:10001099-1904297400-1904301000@bessemercity.com
SUMMARY:Veteran's Lunch
DESCRIPTION:
URL:https://bessemercity.com/calendar/veterans-lunch/2030-05-06/
LOCATION:Allan Farris Community Center\, 220 South 14th Street\, Bessemer City\, NC\, 28016\, United States
CATEGORIES:Senior Event
END:VEVENT
BEGIN:VEVENT
DTSTART;TZID=America/New_York:20300507T090000
DTEND;TZID=America/New_York:20300507T100000
DTSTAMP:20260419T221610
CREATED:20251030T201445Z
LAST-MODIFIED:20251030T201445Z
UID:10000952-1904374800-1904378400@bessemercity.com
SUMMARY:Aerobics/Silver Sneakers/Chair Yoga
DESCRIPTION:
URL:https://bessemercity.com/calendar/aerobics-silver-sneakers-chair-yoga/2030-05-07/
LOCATION:Kiser Senior Center\, 123 W Pennsylvania Avenue\, Bessemer City\, NC\, 28016\, United States
CATEGORIES:Senior Event
END:VEVENT
BEGIN:VEVENT
DTSTART;TZID=America/New_York:20300510T090000
DTEND;TZID=America/New_York:20300510T100000
DTSTAMP:20260419T221610
CREATED:20251030T201848Z
LAST-MODIFIED:20260127T164333Z
UID:10001039-1904634000-1904637600@bessemercity.com
SUMMARY:Men's Breakfast
DESCRIPTION:
URL:https://bessemercity.com/calendar/mens-breakfast/2030-05-10/
LOCATION:NC
CATEGORIES:Senior Event
END:VEVENT
BEGIN:VEVENT
DTSTART;TZID=America/New_York:20300514T090000
DTEND;TZID=America/New_York:20300514T100000
DTSTAMP:20260419T221610
CREATED:20251030T201445Z
LAST-MODIFIED:20251030T201445Z
UID:10000953-1904979600-1904983200@bessemercity.com
SUMMARY:Aerobics/Silver Sneakers/Chair Yoga
DESCRIPTION:
URL:https://bessemercity.com/calendar/aerobics-silver-sneakers-chair-yoga/2030-05-14/
LOCATION:Kiser Senior Center\, 123 W Pennsylvania Avenue\, Bessemer City\, NC\, 28016\, United States
CATEGORIES:Senior Event
END:VEVENT
BEGIN:VEVENT
DTSTART;TZID=America/New_York:20300521T090000
DTEND;TZID=America/New_York:20300521T100000
DTSTAMP:20260419T221610
CREATED:20251030T201445Z
LAST-MODIFIED:20251030T201445Z
UID:10000954-1905584400-1905588000@bessemercity.com
SUMMARY:Aerobics/Silver Sneakers/Chair Yoga
DESCRIPTION:
URL:https://bessemercity.com/calendar/aerobics-silver-sneakers-chair-yoga/2030-05-21/
LOCATION:Kiser Senior Center\, 123 W Pennsylvania Avenue\, Bessemer City\, NC\, 28016\, United States
CATEGORIES:Senior Event
END:VEVENT
BEGIN:VEVENT
DTSTART;TZID=America/New_York:20300528T090000
DTEND;TZID=America/New_York:20300528T100000
DTSTAMP:20260419T221610
CREATED:20251030T201445Z
LAST-MODIFIED:20251030T201445Z
UID:10000955-1906189200-1906192800@bessemercity.com
SUMMARY:Aerobics/Silver Sneakers/Chair Yoga
DESCRIPTION:
URL:https://bessemercity.com/calendar/aerobics-silver-sneakers-chair-yoga/2030-05-28/
LOCATION:Kiser Senior Center\, 123 W Pennsylvania Avenue\, Bessemer City\, NC\, 28016\, United States
CATEGORIES:Senior Event
END:VEVENT
BEGIN:VEVENT
DTSTART;TZID=America/New_York:20300603T113000
DTEND;TZID=America/New_York:20300603T123000
DTSTAMP:20260419T221610
CREATED:20251030T201958Z
LAST-MODIFIED:20260127T164546Z
UID:10001100-1906716600-1906720200@bessemercity.com
SUMMARY:Veteran's Lunch
DESCRIPTION:
URL:https://bessemercity.com/calendar/veterans-lunch/2030-06-03/
LOCATION:Allan Farris Community Center\, 220 South 14th Street\, Bessemer City\, NC\, 28016\, United States
CATEGORIES:Senior Event
END:VEVENT
BEGIN:VEVENT
DTSTART;TZID=America/New_York:20300604T090000
DTEND;TZID=America/New_York:20300604T100000
DTSTAMP:20260419T221610
CREATED:20251030T201445Z
LAST-MODIFIED:20251030T201445Z
UID:10000956-1906794000-1906797600@bessemercity.com
SUMMARY:Aerobics/Silver Sneakers/Chair Yoga
DESCRIPTION:
URL:https://bessemercity.com/calendar/aerobics-silver-sneakers-chair-yoga/2030-06-04/
LOCATION:Kiser Senior Center\, 123 W Pennsylvania Avenue\, Bessemer City\, NC\, 28016\, United States
CATEGORIES:Senior Event
END:VEVENT
BEGIN:VEVENT
DTSTART;TZID=America/New_York:20300611T090000
DTEND;TZID=America/New_York:20300611T100000
DTSTAMP:20260419T221610
CREATED:20251030T201445Z
LAST-MODIFIED:20251030T201445Z
UID:10000957-1907398800-1907402400@bessemercity.com
SUMMARY:Aerobics/Silver Sneakers/Chair Yoga
DESCRIPTION:
URL:https://bessemercity.com/calendar/aerobics-silver-sneakers-chair-yoga/2030-06-11/
LOCATION:Kiser Senior Center\, 123 W Pennsylvania Avenue\, Bessemer City\, NC\, 28016\, United States
CATEGORIES:Senior Event
END:VEVENT
BEGIN:VEVENT
DTSTART;TZID=America/New_York:20300614T090000
DTEND;TZID=America/New_York:20300614T100000
DTSTAMP:20260419T221610
CREATED:20251030T201848Z
LAST-MODIFIED:20260127T164333Z
UID:10001040-1907658000-1907661600@bessemercity.com
SUMMARY:Men's Breakfast
DESCRIPTION:
URL:https://bessemercity.com/calendar/mens-breakfast/2030-06-14/
LOCATION:NC
CATEGORIES:Senior Event
END:VEVENT
BEGIN:VEVENT
DTSTART;TZID=America/New_York:20300618T090000
DTEND;TZID=America/New_York:20300618T100000
DTSTAMP:20260419T221610
CREATED:20251030T201445Z
LAST-MODIFIED:20251030T201445Z
UID:10000958-1908003600-1908007200@bessemercity.com
SUMMARY:Aerobics/Silver Sneakers/Chair Yoga
DESCRIPTION:
URL:https://bessemercity.com/calendar/aerobics-silver-sneakers-chair-yoga/2030-06-18/
LOCATION:Kiser Senior Center\, 123 W Pennsylvania Avenue\, Bessemer City\, NC\, 28016\, United States
CATEGORIES:Senior Event
END:VEVENT
END:VCALENDAR