BEGIN:VCALENDAR
VERSION:2.0
PRODID:-//Bessemer City, NC - ECPv6.15.20//NONSGML v1.0//EN
CALSCALE:GREGORIAN
METHOD:PUBLISH
X-ORIGINAL-URL:https://bessemercity.com
X-WR-CALDESC:Events for Bessemer City, NC
REFRESH-INTERVAL;VALUE=DURATION:PT1H
X-Robots-Tag:noindex
X-PUBLISHED-TTL:PT1H
BEGIN:VTIMEZONE
TZID:America/New_York
BEGIN:DAYLIGHT
TZOFFSETFROM:-0500
TZOFFSETTO:-0400
TZNAME:EDT
DTSTART:20290311T070000
END:DAYLIGHT
BEGIN:STANDARD
TZOFFSETFROM:-0400
TZOFFSETTO:-0500
TZNAME:EST
DTSTART:20291104T060000
END:STANDARD
BEGIN:DAYLIGHT
TZOFFSETFROM:-0500
TZOFFSETTO:-0400
TZNAME:EDT
DTSTART:20300310T070000
END:DAYLIGHT
BEGIN:STANDARD
TZOFFSETFROM:-0400
TZOFFSETTO:-0500
TZNAME:EST
DTSTART:20301103T060000
END:STANDARD
BEGIN:DAYLIGHT
TZOFFSETFROM:-0500
TZOFFSETTO:-0400
TZNAME:EDT
DTSTART:20310309T070000
END:DAYLIGHT
BEGIN:STANDARD
TZOFFSETFROM:-0400
TZOFFSETTO:-0500
TZNAME:EST
DTSTART:20311102T060000
END:STANDARD
BEGIN:DAYLIGHT
TZOFFSETFROM:-0500
TZOFFSETTO:-0400
TZNAME:EDT
DTSTART:20320314T070000
END:DAYLIGHT
BEGIN:STANDARD
TZOFFSETFROM:-0400
TZOFFSETTO:-0500
TZNAME:EST
DTSTART:20321107T060000
END:STANDARD
END:VTIMEZONE
BEGIN:VEVENT
DTSTART;TZID=America/New_York:20300723T090000
DTEND;TZID=America/New_York:20300723T100000
DTSTAMP:20260420T025315
CREATED:20251030T201445Z
LAST-MODIFIED:20251030T201445Z
UID:10000963-1911027600-1911031200@bessemercity.com
SUMMARY:Aerobics/Silver Sneakers/Chair Yoga
DESCRIPTION:
URL:https://bessemercity.com/calendar/aerobics-silver-sneakers-chair-yoga/2030-07-23/
LOCATION:Kiser Senior Center\, 123 W Pennsylvania Avenue\, Bessemer City\, NC\, 28016\, United States
CATEGORIES:Senior Event
END:VEVENT
BEGIN:VEVENT
DTSTART;TZID=America/New_York:20300730T090000
DTEND;TZID=America/New_York:20300730T100000
DTSTAMP:20260420T025315
CREATED:20251030T201445Z
LAST-MODIFIED:20251030T201445Z
UID:10000964-1911632400-1911636000@bessemercity.com
SUMMARY:Aerobics/Silver Sneakers/Chair Yoga
DESCRIPTION:
URL:https://bessemercity.com/calendar/aerobics-silver-sneakers-chair-yoga/2030-07-30/
LOCATION:Kiser Senior Center\, 123 W Pennsylvania Avenue\, Bessemer City\, NC\, 28016\, United States
CATEGORIES:Senior Event
END:VEVENT
BEGIN:VEVENT
DTSTART;TZID=America/New_York:20300805T113000
DTEND;TZID=America/New_York:20300805T123000
DTSTAMP:20260420T025315
CREATED:20251030T201958Z
LAST-MODIFIED:20260127T164546Z
UID:10001102-1912159800-1912163400@bessemercity.com
SUMMARY:Veteran's Lunch
DESCRIPTION:
URL:https://bessemercity.com/calendar/veterans-lunch/2030-08-05/
LOCATION:Allan Farris Community Center\, 220 South 14th Street\, Bessemer City\, NC\, 28016\, United States
CATEGORIES:Senior Event
END:VEVENT
BEGIN:VEVENT
DTSTART;TZID=America/New_York:20300806T090000
DTEND;TZID=America/New_York:20300806T100000
DTSTAMP:20260420T025315
CREATED:20251030T201445Z
LAST-MODIFIED:20251030T201445Z
UID:10000965-1912237200-1912240800@bessemercity.com
SUMMARY:Aerobics/Silver Sneakers/Chair Yoga
DESCRIPTION:
URL:https://bessemercity.com/calendar/aerobics-silver-sneakers-chair-yoga/2030-08-06/
LOCATION:Kiser Senior Center\, 123 W Pennsylvania Avenue\, Bessemer City\, NC\, 28016\, United States
CATEGORIES:Senior Event
END:VEVENT
BEGIN:VEVENT
DTSTART;TZID=America/New_York:20300809T090000
DTEND;TZID=America/New_York:20300809T100000
DTSTAMP:20260420T025315
CREATED:20251030T201848Z
LAST-MODIFIED:20260127T164333Z
UID:10001042-1912496400-1912500000@bessemercity.com
SUMMARY:Men's Breakfast
DESCRIPTION:
URL:https://bessemercity.com/calendar/mens-breakfast/2030-08-09/
LOCATION:NC
CATEGORIES:Senior Event
END:VEVENT
BEGIN:VEVENT
DTSTART;TZID=America/New_York:20300813T090000
DTEND;TZID=America/New_York:20300813T100000
DTSTAMP:20260420T025315
CREATED:20251030T201445Z
LAST-MODIFIED:20251030T201445Z
UID:10000966-1912842000-1912845600@bessemercity.com
SUMMARY:Aerobics/Silver Sneakers/Chair Yoga
DESCRIPTION:
URL:https://bessemercity.com/calendar/aerobics-silver-sneakers-chair-yoga/2030-08-13/
LOCATION:Kiser Senior Center\, 123 W Pennsylvania Avenue\, Bessemer City\, NC\, 28016\, United States
CATEGORIES:Senior Event
END:VEVENT
BEGIN:VEVENT
DTSTART;TZID=America/New_York:20300820T090000
DTEND;TZID=America/New_York:20300820T100000
DTSTAMP:20260420T025315
CREATED:20251030T201445Z
LAST-MODIFIED:20251030T201445Z
UID:10000967-1913446800-1913450400@bessemercity.com
SUMMARY:Aerobics/Silver Sneakers/Chair Yoga
DESCRIPTION:
URL:https://bessemercity.com/calendar/aerobics-silver-sneakers-chair-yoga/2030-08-20/
LOCATION:Kiser Senior Center\, 123 W Pennsylvania Avenue\, Bessemer City\, NC\, 28016\, United States
CATEGORIES:Senior Event
END:VEVENT
BEGIN:VEVENT
DTSTART;TZID=America/New_York:20300827T090000
DTEND;TZID=America/New_York:20300827T100000
DTSTAMP:20260420T025315
CREATED:20251030T201445Z
LAST-MODIFIED:20251030T201445Z
UID:10000968-1914051600-1914055200@bessemercity.com
SUMMARY:Aerobics/Silver Sneakers/Chair Yoga
DESCRIPTION:
URL:https://bessemercity.com/calendar/aerobics-silver-sneakers-chair-yoga/2030-08-27/
LOCATION:Kiser Senior Center\, 123 W Pennsylvania Avenue\, Bessemer City\, NC\, 28016\, United States
CATEGORIES:Senior Event
END:VEVENT
BEGIN:VEVENT
DTSTART;TZID=America/New_York:20300902T113000
DTEND;TZID=America/New_York:20300902T123000
DTSTAMP:20260420T025315
CREATED:20251030T201958Z
LAST-MODIFIED:20260127T164546Z
UID:10001103-1914579000-1914582600@bessemercity.com
SUMMARY:Veteran's Lunch
DESCRIPTION:
URL:https://bessemercity.com/calendar/veterans-lunch/2030-09-02/
LOCATION:Allan Farris Community Center\, 220 South 14th Street\, Bessemer City\, NC\, 28016\, United States
CATEGORIES:Senior Event
END:VEVENT
BEGIN:VEVENT
DTSTART;TZID=America/New_York:20300903T090000
DTEND;TZID=America/New_York:20300903T100000
DTSTAMP:20260420T025315
CREATED:20251030T201445Z
LAST-MODIFIED:20251030T201445Z
UID:10000969-1914656400-1914660000@bessemercity.com
SUMMARY:Aerobics/Silver Sneakers/Chair Yoga
DESCRIPTION:
URL:https://bessemercity.com/calendar/aerobics-silver-sneakers-chair-yoga/2030-09-03/
LOCATION:Kiser Senior Center\, 123 W Pennsylvania Avenue\, Bessemer City\, NC\, 28016\, United States
CATEGORIES:Senior Event
END:VEVENT
BEGIN:VEVENT
DTSTART;TZID=America/New_York:20300910T090000
DTEND;TZID=America/New_York:20300910T100000
DTSTAMP:20260420T025315
CREATED:20251030T201445Z
LAST-MODIFIED:20251030T201445Z
UID:10000970-1915261200-1915264800@bessemercity.com
SUMMARY:Aerobics/Silver Sneakers/Chair Yoga
DESCRIPTION:
URL:https://bessemercity.com/calendar/aerobics-silver-sneakers-chair-yoga/2030-09-10/
LOCATION:Kiser Senior Center\, 123 W Pennsylvania Avenue\, Bessemer City\, NC\, 28016\, United States
CATEGORIES:Senior Event
END:VEVENT
BEGIN:VEVENT
DTSTART;TZID=America/New_York:20300913T090000
DTEND;TZID=America/New_York:20300913T100000
DTSTAMP:20260420T025315
CREATED:20251030T201848Z
LAST-MODIFIED:20260127T164333Z
UID:10001043-1915520400-1915524000@bessemercity.com
SUMMARY:Men's Breakfast
DESCRIPTION:
URL:https://bessemercity.com/calendar/mens-breakfast/2030-09-13/
LOCATION:NC
CATEGORIES:Senior Event
END:VEVENT
BEGIN:VEVENT
DTSTART;TZID=America/New_York:20300917T090000
DTEND;TZID=America/New_York:20300917T100000
DTSTAMP:20260420T025315
CREATED:20251030T201445Z
LAST-MODIFIED:20251030T201445Z
UID:10000971-1915866000-1915869600@bessemercity.com
SUMMARY:Aerobics/Silver Sneakers/Chair Yoga
DESCRIPTION:
URL:https://bessemercity.com/calendar/aerobics-silver-sneakers-chair-yoga/2030-09-17/
LOCATION:Kiser Senior Center\, 123 W Pennsylvania Avenue\, Bessemer City\, NC\, 28016\, United States
CATEGORIES:Senior Event
END:VEVENT
BEGIN:VEVENT
DTSTART;TZID=America/New_York:20300924T090000
DTEND;TZID=America/New_York:20300924T100000
DTSTAMP:20260420T025315
CREATED:20251030T201445Z
LAST-MODIFIED:20251030T201445Z
UID:10000972-1916470800-1916474400@bessemercity.com
SUMMARY:Aerobics/Silver Sneakers/Chair Yoga
DESCRIPTION:
URL:https://bessemercity.com/calendar/aerobics-silver-sneakers-chair-yoga/2030-09-24/
LOCATION:Kiser Senior Center\, 123 W Pennsylvania Avenue\, Bessemer City\, NC\, 28016\, United States
CATEGORIES:Senior Event
END:VEVENT
BEGIN:VEVENT
DTSTART;TZID=America/New_York:20301001T090000
DTEND;TZID=America/New_York:20301001T100000
DTSTAMP:20260420T025315
CREATED:20251030T201445Z
LAST-MODIFIED:20251030T201445Z
UID:10000973-1917075600-1917079200@bessemercity.com
SUMMARY:Aerobics/Silver Sneakers/Chair Yoga
DESCRIPTION:
URL:https://bessemercity.com/calendar/aerobics-silver-sneakers-chair-yoga/2030-10-01/
LOCATION:Kiser Senior Center\, 123 W Pennsylvania Avenue\, Bessemer City\, NC\, 28016\, United States
CATEGORIES:Senior Event
END:VEVENT
BEGIN:VEVENT
DTSTART;TZID=America/New_York:20301007T113000
DTEND;TZID=America/New_York:20301007T123000
DTSTAMP:20260420T025315
CREATED:20251030T201958Z
LAST-MODIFIED:20260127T164546Z
UID:10001104-1917603000-1917606600@bessemercity.com
SUMMARY:Veteran's Lunch
DESCRIPTION:
URL:https://bessemercity.com/calendar/veterans-lunch/2030-10-07/
LOCATION:Allan Farris Community Center\, 220 South 14th Street\, Bessemer City\, NC\, 28016\, United States
CATEGORIES:Senior Event
END:VEVENT
BEGIN:VEVENT
DTSTART;TZID=America/New_York:20301008T090000
DTEND;TZID=America/New_York:20301008T100000
DTSTAMP:20260420T025315
CREATED:20251030T201445Z
LAST-MODIFIED:20251030T201445Z
UID:10000974-1917680400-1917684000@bessemercity.com
SUMMARY:Aerobics/Silver Sneakers/Chair Yoga
DESCRIPTION:
URL:https://bessemercity.com/calendar/aerobics-silver-sneakers-chair-yoga/2030-10-08/
LOCATION:Kiser Senior Center\, 123 W Pennsylvania Avenue\, Bessemer City\, NC\, 28016\, United States
CATEGORIES:Senior Event
END:VEVENT
BEGIN:VEVENT
DTSTART;TZID=America/New_York:20301011T090000
DTEND;TZID=America/New_York:20301011T100000
DTSTAMP:20260420T025315
CREATED:20251030T201848Z
LAST-MODIFIED:20260127T164333Z
UID:10001044-1917939600-1917943200@bessemercity.com
SUMMARY:Men's Breakfast
DESCRIPTION:
URL:https://bessemercity.com/calendar/mens-breakfast/2030-10-11/
LOCATION:NC
CATEGORIES:Senior Event
END:VEVENT
BEGIN:VEVENT
DTSTART;TZID=America/New_York:20301015T090000
DTEND;TZID=America/New_York:20301015T100000
DTSTAMP:20260420T025315
CREATED:20251030T201445Z
LAST-MODIFIED:20251030T201445Z
UID:10000975-1918285200-1918288800@bessemercity.com
SUMMARY:Aerobics/Silver Sneakers/Chair Yoga
DESCRIPTION:
URL:https://bessemercity.com/calendar/aerobics-silver-sneakers-chair-yoga/2030-10-15/
LOCATION:Kiser Senior Center\, 123 W Pennsylvania Avenue\, Bessemer City\, NC\, 28016\, United States
CATEGORIES:Senior Event
END:VEVENT
BEGIN:VEVENT
DTSTART;TZID=America/New_York:20301022T090000
DTEND;TZID=America/New_York:20301022T100000
DTSTAMP:20260420T025315
CREATED:20251030T201445Z
LAST-MODIFIED:20251030T201445Z
UID:10000976-1918890000-1918893600@bessemercity.com
SUMMARY:Aerobics/Silver Sneakers/Chair Yoga
DESCRIPTION:
URL:https://bessemercity.com/calendar/aerobics-silver-sneakers-chair-yoga/2030-10-22/
LOCATION:Kiser Senior Center\, 123 W Pennsylvania Avenue\, Bessemer City\, NC\, 28016\, United States
CATEGORIES:Senior Event
END:VEVENT
BEGIN:VEVENT
DTSTART;TZID=America/New_York:20301029T090000
DTEND;TZID=America/New_York:20301029T100000
DTSTAMP:20260420T025315
CREATED:20251030T201445Z
LAST-MODIFIED:20251030T201445Z
UID:10000977-1919494800-1919498400@bessemercity.com
SUMMARY:Aerobics/Silver Sneakers/Chair Yoga
DESCRIPTION:
URL:https://bessemercity.com/calendar/aerobics-silver-sneakers-chair-yoga/2030-10-29/
LOCATION:Kiser Senior Center\, 123 W Pennsylvania Avenue\, Bessemer City\, NC\, 28016\, United States
CATEGORIES:Senior Event
END:VEVENT
BEGIN:VEVENT
DTSTART;TZID=America/New_York:20301104T113000
DTEND;TZID=America/New_York:20301104T123000
DTSTAMP:20260420T025315
CREATED:20251030T201958Z
LAST-MODIFIED:20260127T164546Z
UID:10001105-1920022200-1920025800@bessemercity.com
SUMMARY:Veteran's Lunch
DESCRIPTION:
URL:https://bessemercity.com/calendar/veterans-lunch/2030-11-04/
LOCATION:Allan Farris Community Center\, 220 South 14th Street\, Bessemer City\, NC\, 28016\, United States
CATEGORIES:Senior Event
END:VEVENT
BEGIN:VEVENT
DTSTART;TZID=America/New_York:20301108T090000
DTEND;TZID=America/New_York:20301108T100000
DTSTAMP:20260420T025315
CREATED:20251030T201848Z
LAST-MODIFIED:20260127T164333Z
UID:10001045-1920358800-1920362400@bessemercity.com
SUMMARY:Men's Breakfast
DESCRIPTION:
URL:https://bessemercity.com/calendar/mens-breakfast/2030-11-08/
LOCATION:NC
CATEGORIES:Senior Event
END:VEVENT
BEGIN:VEVENT
DTSTART;TZID=America/New_York:20301202T113000
DTEND;TZID=America/New_York:20301202T123000
DTSTAMP:20260420T025315
CREATED:20251030T201958Z
LAST-MODIFIED:20260127T164546Z
UID:10001106-1922441400-1922445000@bessemercity.com
SUMMARY:Veteran's Lunch
DESCRIPTION:
URL:https://bessemercity.com/calendar/veterans-lunch/2030-12-02/
LOCATION:Allan Farris Community Center\, 220 South 14th Street\, Bessemer City\, NC\, 28016\, United States
CATEGORIES:Senior Event
END:VEVENT
BEGIN:VEVENT
DTSTART;TZID=America/New_York:20301213T090000
DTEND;TZID=America/New_York:20301213T100000
DTSTAMP:20260420T025315
CREATED:20251030T201848Z
LAST-MODIFIED:20260127T164333Z
UID:10001046-1923382800-1923386400@bessemercity.com
SUMMARY:Men's Breakfast
DESCRIPTION:
URL:https://bessemercity.com/calendar/mens-breakfast/2030-12-13/
LOCATION:NC
CATEGORIES:Senior Event
END:VEVENT
BEGIN:VEVENT
DTSTART;TZID=America/New_York:20310106T113000
DTEND;TZID=America/New_York:20310106T123000
DTSTAMP:20260420T025315
CREATED:20251030T201958Z
LAST-MODIFIED:20260127T164546Z
UID:10001107-1925465400-1925469000@bessemercity.com
SUMMARY:Veteran's Lunch
DESCRIPTION:
URL:https://bessemercity.com/calendar/veterans-lunch/2031-01-06/
LOCATION:Allan Farris Community Center\, 220 South 14th Street\, Bessemer City\, NC\, 28016\, United States
CATEGORIES:Senior Event
END:VEVENT
BEGIN:VEVENT
DTSTART;TZID=America/New_York:20310110T090000
DTEND;TZID=America/New_York:20310110T100000
DTSTAMP:20260420T025315
CREATED:20251030T201848Z
LAST-MODIFIED:20260127T164333Z
UID:10001047-1925802000-1925805600@bessemercity.com
SUMMARY:Men's Breakfast
DESCRIPTION:
URL:https://bessemercity.com/calendar/mens-breakfast/2031-01-10/
LOCATION:NC
CATEGORIES:Senior Event
END:VEVENT
END:VCALENDAR