BEGIN:VCALENDAR
VERSION:2.0
PRODID:-//Bessemer City, NC - ECPv6.15.20//NONSGML v1.0//EN
CALSCALE:GREGORIAN
METHOD:PUBLISH
X-WR-CALNAME:Bessemer City, NC
X-ORIGINAL-URL:https://bessemercity.com
X-WR-CALDESC:Events for Bessemer City, NC
REFRESH-INTERVAL;VALUE=DURATION:PT1H
X-Robots-Tag:noindex
X-PUBLISHED-TTL:PT1H
BEGIN:VTIMEZONE
TZID:America/New_York
BEGIN:DAYLIGHT
TZOFFSETFROM:-0500
TZOFFSETTO:-0400
TZNAME:EDT
DTSTART:20270314T070000
END:DAYLIGHT
BEGIN:STANDARD
TZOFFSETFROM:-0400
TZOFFSETTO:-0500
TZNAME:EST
DTSTART:20271107T060000
END:STANDARD
BEGIN:DAYLIGHT
TZOFFSETFROM:-0500
TZOFFSETTO:-0400
TZNAME:EDT
DTSTART:20280312T070000
END:DAYLIGHT
BEGIN:STANDARD
TZOFFSETFROM:-0400
TZOFFSETTO:-0500
TZNAME:EST
DTSTART:20281105T060000
END:STANDARD
BEGIN:DAYLIGHT
TZOFFSETFROM:-0500
TZOFFSETTO:-0400
TZNAME:EDT
DTSTART:20290311T070000
END:DAYLIGHT
BEGIN:STANDARD
TZOFFSETFROM:-0400
TZOFFSETTO:-0500
TZNAME:EST
DTSTART:20291104T060000
END:STANDARD
END:VTIMEZONE
BEGIN:VEVENT
DTSTART;TZID=America/New_York:20280904T113000
DTEND;TZID=America/New_York:20280904T123000
DTSTAMP:20260423T163314
CREATED:20251030T201958Z
LAST-MODIFIED:20260127T164546Z
UID:10001079-1851679800-1851683400@bessemercity.com
SUMMARY:Veteran's Lunch
DESCRIPTION:
URL:https://bessemercity.com/calendar/veterans-lunch/2028-09-04/
LOCATION:Allan Farris Community Center\, 220 South 14th Street\, Bessemer City\, NC\, 28016\, United States
CATEGORIES:Senior Event
END:VEVENT
BEGIN:VEVENT
DTSTART;TZID=America/New_York:20280904T180000
DTEND;TZID=America/New_York:20280904T190000
DTSTAMP:20260423T163314
CREATED:20241002T132100Z
LAST-MODIFIED:20250723T132316Z
UID:10000105-1851703200-1851706800@bessemercity.com
SUMMARY:Planning & Zoning Board of Adjustment Meeting
DESCRIPTION:
URL:https://bessemercity.com/calendar/planning-zoning-board-of-adjustment-meeting/2028-09-04/
LOCATION:City Council Chambers\, 132 W. Virginia Ave.\, Bessemer City\, NC\, 28016\, United States
ORGANIZER;CN="City of Bessemer City":MAILTO:hhayes@bessemercity.com
END:VEVENT
BEGIN:VEVENT
DTSTART;TZID=America/New_York:20280905T090000
DTEND;TZID=America/New_York:20280905T100000
DTSTAMP:20260423T163314
CREATED:20251030T201445Z
LAST-MODIFIED:20251030T201445Z
UID:10000865-1851757200-1851760800@bessemercity.com
SUMMARY:Aerobics/Silver Sneakers/Chair Yoga
DESCRIPTION:
URL:https://bessemercity.com/calendar/aerobics-silver-sneakers-chair-yoga/2028-09-05/
LOCATION:Kiser Senior Center\, 123 W Pennsylvania Avenue\, Bessemer City\, NC\, 28016\, United States
CATEGORIES:Senior Event
END:VEVENT
BEGIN:VEVENT
DTSTART;TZID=America/New_York:20280908T090000
DTEND;TZID=America/New_York:20280908T100000
DTSTAMP:20260423T163314
CREATED:20251030T201848Z
LAST-MODIFIED:20260127T164333Z
UID:10001019-1852016400-1852020000@bessemercity.com
SUMMARY:Men's Breakfast
DESCRIPTION:
URL:https://bessemercity.com/calendar/mens-breakfast/2028-09-08/
LOCATION:NC
CATEGORIES:Senior Event
END:VEVENT
BEGIN:VEVENT
DTSTART;VALUE=DATE:20280910
DTEND;VALUE=DATE:20280911
DTSTAMP:20260423T163314
CREATED:20250724T022327Z
LAST-MODIFIED:20250724T022327Z
UID:10000526-1852156800-1852243199@bessemercity.com
SUMMARY:City Utility Bill Due
DESCRIPTION:Bill Pay Options
URL:https://bessemercity.com/calendar/city-utility-bill-due/2028-09-10/
LOCATION:NC
END:VEVENT
BEGIN:VEVENT
DTSTART;TZID=America/New_York:20280911T190000
DTEND;TZID=America/New_York:20280911T210000
DTSTAMP:20260423T163314
CREATED:20241002T173040Z
LAST-MODIFIED:20250723T135446Z
UID:10000045-1852311600-1852318800@bessemercity.com
SUMMARY:City Council Regular Meeting
DESCRIPTION:Click Here for agendas\, minutes\, and live recordings of meetings!
URL:https://bessemercity.com/calendar/city-council-regular-meeting/2028-09-11/
LOCATION:City Council Chambers\, 132 W. Virginia Ave.\, Bessemer City\, NC\, 28016\, United States
CATEGORIES:City Council,Community Events
END:VEVENT
BEGIN:VEVENT
DTSTART;TZID=America/New_York:20280912T090000
DTEND;TZID=America/New_York:20280912T100000
DTSTAMP:20260423T163314
CREATED:20251030T201445Z
LAST-MODIFIED:20251030T201445Z
UID:10000866-1852362000-1852365600@bessemercity.com
SUMMARY:Aerobics/Silver Sneakers/Chair Yoga
DESCRIPTION:
URL:https://bessemercity.com/calendar/aerobics-silver-sneakers-chair-yoga/2028-09-12/
LOCATION:Kiser Senior Center\, 123 W Pennsylvania Avenue\, Bessemer City\, NC\, 28016\, United States
CATEGORIES:Senior Event
END:VEVENT
BEGIN:VEVENT
DTSTART;TZID=America/New_York:20280912T180000
DTEND;TZID=America/New_York:20280912T190000
DTSTAMP:20260423T163314
CREATED:20250723T132707Z
LAST-MODIFIED:20250723T133044Z
UID:10000345-1852394400-1852398000@bessemercity.com
SUMMARY:Parks and Recreation Board
DESCRIPTION:
URL:https://bessemercity.com/calendar/parks-and-recreation-board/2028-09-12/
LOCATION:Allan Farris Community Center\, 220 South 14th Street\, Bessemer City\, NC\, 28016\, United States
END:VEVENT
BEGIN:VEVENT
DTSTART;TZID=America/New_York:20280918T180000
DTEND;TZID=America/New_York:20280918T193000
DTSTAMP:20260423T163314
CREATED:20250730T211720Z
LAST-MODIFIED:20250730T211951Z
UID:10000654-1852912800-1852918200@bessemercity.com
SUMMARY:Senior Bingo
DESCRIPTION:
URL:https://bessemercity.com/calendar/senior-bingo-3/2028-09-18/
LOCATION:Allan Farris Community Center\, 220 South 14th Street\, Bessemer City\, NC\, 28016\, United States
END:VEVENT
BEGIN:VEVENT
DTSTART;TZID=America/New_York:20280919T090000
DTEND;TZID=America/New_York:20280919T100000
DTSTAMP:20260423T163314
CREATED:20251030T201445Z
LAST-MODIFIED:20251030T201445Z
UID:10000867-1852966800-1852970400@bessemercity.com
SUMMARY:Aerobics/Silver Sneakers/Chair Yoga
DESCRIPTION:
URL:https://bessemercity.com/calendar/aerobics-silver-sneakers-chair-yoga/2028-09-19/
LOCATION:Kiser Senior Center\, 123 W Pennsylvania Avenue\, Bessemer City\, NC\, 28016\, United States
CATEGORIES:Senior Event
END:VEVENT
BEGIN:VEVENT
DTSTART;TZID=America/New_York:20280925T170000
DTEND;TZID=America/New_York:20280925T180000
DTSTAMP:20260423T163314
CREATED:20250908T223959Z
LAST-MODIFIED:20250908T223959Z
UID:10000466-1853514000-1853517600@bessemercity.com
SUMMARY:ABC Board Meeting
DESCRIPTION:
URL:https://bessemercity.com/calendar/abc-board-meeting-2/2028-09-25/
LOCATION:ABC Store\, 208 W. Alabama Ave.\, Bessemer City\, NC\, 28016\, United States
END:VEVENT
BEGIN:VEVENT
DTSTART;TZID=America/New_York:20280926T090000
DTEND;TZID=America/New_York:20280926T100000
DTSTAMP:20260423T163314
CREATED:20251030T201445Z
LAST-MODIFIED:20251030T201445Z
UID:10000868-1853571600-1853575200@bessemercity.com
SUMMARY:Aerobics/Silver Sneakers/Chair Yoga
DESCRIPTION:
URL:https://bessemercity.com/calendar/aerobics-silver-sneakers-chair-yoga/2028-09-26/
LOCATION:Kiser Senior Center\, 123 W Pennsylvania Avenue\, Bessemer City\, NC\, 28016\, United States
CATEGORIES:Senior Event
END:VEVENT
BEGIN:VEVENT
DTSTART;TZID=America/New_York:20280926T150000
DTEND;TZID=America/New_York:20280926T170000
DTSTAMP:20260423T163314
CREATED:20250723T133813Z
LAST-MODIFIED:20250723T163502Z
UID:10000406-1853593200-1853600400@bessemercity.com
SUMMARY:City Council Work Session Meeting
DESCRIPTION:Click Here for agenda and minutes.
URL:https://bessemercity.com/calendar/city-council-work-session/2028-09-26/
LOCATION:City Council Chambers\, 132 W. Virginia Ave.\, Bessemer City\, NC\, 28016\, United States
END:VEVENT
BEGIN:VEVENT
DTSTART;TZID=America/New_York:20280926T190000
DTEND;TZID=America/New_York:20280926T203000
DTSTAMP:20260423T163314
CREATED:20250723T132835Z
LAST-MODIFIED:20250723T132835Z
UID:10000286-1853607600-1853613000@bessemercity.com
SUMMARY:Downtown Development Board
DESCRIPTION:
URL:https://bessemercity.com/calendar/downtown-development-board/2028-09-26/
LOCATION:City Council Chambers\, 132 W. Virginia Ave.\, Bessemer City\, NC\, 28016\, United States
END:VEVENT
BEGIN:VEVENT
DTSTART;TZID=America/New_York:20281002T113000
DTEND;TZID=America/New_York:20281002T123000
DTSTAMP:20260423T163314
CREATED:20251030T201958Z
LAST-MODIFIED:20260127T164546Z
UID:10001080-1854099000-1854102600@bessemercity.com
SUMMARY:Veteran's Lunch
DESCRIPTION:
URL:https://bessemercity.com/calendar/veterans-lunch/2028-10-02/
LOCATION:Allan Farris Community Center\, 220 South 14th Street\, Bessemer City\, NC\, 28016\, United States
CATEGORIES:Senior Event
END:VEVENT
BEGIN:VEVENT
DTSTART;TZID=America/New_York:20281002T180000
DTEND;TZID=America/New_York:20281002T190000
DTSTAMP:20260423T163314
CREATED:20241002T132100Z
LAST-MODIFIED:20250723T132316Z
UID:10000106-1854122400-1854126000@bessemercity.com
SUMMARY:Planning & Zoning Board of Adjustment Meeting
DESCRIPTION:
URL:https://bessemercity.com/calendar/planning-zoning-board-of-adjustment-meeting/2028-10-02/
LOCATION:City Council Chambers\, 132 W. Virginia Ave.\, Bessemer City\, NC\, 28016\, United States
ORGANIZER;CN="City of Bessemer City":MAILTO:hhayes@bessemercity.com
END:VEVENT
BEGIN:VEVENT
DTSTART;TZID=America/New_York:20281003T090000
DTEND;TZID=America/New_York:20281003T100000
DTSTAMP:20260423T163314
CREATED:20251030T201445Z
LAST-MODIFIED:20251030T201445Z
UID:10000869-1854176400-1854180000@bessemercity.com
SUMMARY:Aerobics/Silver Sneakers/Chair Yoga
DESCRIPTION:
URL:https://bessemercity.com/calendar/aerobics-silver-sneakers-chair-yoga/2028-10-03/
LOCATION:Kiser Senior Center\, 123 W Pennsylvania Avenue\, Bessemer City\, NC\, 28016\, United States
CATEGORIES:Senior Event
END:VEVENT
BEGIN:VEVENT
DTSTART;TZID=America/New_York:20281009T190000
DTEND;TZID=America/New_York:20281009T210000
DTSTAMP:20260423T163314
CREATED:20241002T173040Z
LAST-MODIFIED:20250723T135446Z
UID:10000046-1854730800-1854738000@bessemercity.com
SUMMARY:City Council Regular Meeting
DESCRIPTION:Click Here for agendas\, minutes\, and live recordings of meetings!
URL:https://bessemercity.com/calendar/city-council-regular-meeting/2028-10-09/
LOCATION:City Council Chambers\, 132 W. Virginia Ave.\, Bessemer City\, NC\, 28016\, United States
CATEGORIES:City Council,Community Events
END:VEVENT
BEGIN:VEVENT
DTSTART;VALUE=DATE:20281010
DTEND;VALUE=DATE:20281011
DTSTAMP:20260423T163314
CREATED:20250724T022327Z
LAST-MODIFIED:20250724T022327Z
UID:10000527-1854748800-1854835199@bessemercity.com
SUMMARY:City Utility Bill Due
DESCRIPTION:Bill Pay Options
URL:https://bessemercity.com/calendar/city-utility-bill-due/2028-10-10/
LOCATION:NC
END:VEVENT
BEGIN:VEVENT
DTSTART;TZID=America/New_York:20281010T090000
DTEND;TZID=America/New_York:20281010T100000
DTSTAMP:20260423T163314
CREATED:20251030T201445Z
LAST-MODIFIED:20251030T201445Z
UID:10000870-1854781200-1854784800@bessemercity.com
SUMMARY:Aerobics/Silver Sneakers/Chair Yoga
DESCRIPTION:
URL:https://bessemercity.com/calendar/aerobics-silver-sneakers-chair-yoga/2028-10-10/
LOCATION:Kiser Senior Center\, 123 W Pennsylvania Avenue\, Bessemer City\, NC\, 28016\, United States
CATEGORIES:Senior Event
END:VEVENT
BEGIN:VEVENT
DTSTART;TZID=America/New_York:20281010T180000
DTEND;TZID=America/New_York:20281010T190000
DTSTAMP:20260423T163314
CREATED:20250723T132707Z
LAST-MODIFIED:20250723T133044Z
UID:10000346-1854813600-1854817200@bessemercity.com
SUMMARY:Parks and Recreation Board
DESCRIPTION:
URL:https://bessemercity.com/calendar/parks-and-recreation-board/2028-10-10/
LOCATION:Allan Farris Community Center\, 220 South 14th Street\, Bessemer City\, NC\, 28016\, United States
END:VEVENT
BEGIN:VEVENT
DTSTART;TZID=America/New_York:20281013T090000
DTEND;TZID=America/New_York:20281013T100000
DTSTAMP:20260423T163314
CREATED:20251030T201848Z
LAST-MODIFIED:20260127T164333Z
UID:10001020-1855040400-1855044000@bessemercity.com
SUMMARY:Men's Breakfast
DESCRIPTION:
URL:https://bessemercity.com/calendar/mens-breakfast/2028-10-13/
LOCATION:NC
CATEGORIES:Senior Event
END:VEVENT
BEGIN:VEVENT
DTSTART;TZID=America/New_York:20281016T180000
DTEND;TZID=America/New_York:20281016T193000
DTSTAMP:20260423T163314
CREATED:20250730T211720Z
LAST-MODIFIED:20250730T211951Z
UID:10000655-1855332000-1855337400@bessemercity.com
SUMMARY:Senior Bingo
DESCRIPTION:
URL:https://bessemercity.com/calendar/senior-bingo-3/2028-10-16/
LOCATION:Allan Farris Community Center\, 220 South 14th Street\, Bessemer City\, NC\, 28016\, United States
END:VEVENT
BEGIN:VEVENT
DTSTART;TZID=America/New_York:20281017T090000
DTEND;TZID=America/New_York:20281017T100000
DTSTAMP:20260423T163314
CREATED:20251030T201445Z
LAST-MODIFIED:20251030T201445Z
UID:10000871-1855386000-1855389600@bessemercity.com
SUMMARY:Aerobics/Silver Sneakers/Chair Yoga
DESCRIPTION:
URL:https://bessemercity.com/calendar/aerobics-silver-sneakers-chair-yoga/2028-10-17/
LOCATION:Kiser Senior Center\, 123 W Pennsylvania Avenue\, Bessemer City\, NC\, 28016\, United States
CATEGORIES:Senior Event
END:VEVENT
BEGIN:VEVENT
DTSTART;TZID=America/New_York:20281023T170000
DTEND;TZID=America/New_York:20281023T180000
DTSTAMP:20260423T163314
CREATED:20250908T223959Z
LAST-MODIFIED:20250908T223959Z
UID:10000700-1855933200-1855936800@bessemercity.com
SUMMARY:ABC Board Meeting
DESCRIPTION:
URL:https://bessemercity.com/calendar/abc-board-meeting-2/2028-10-23/
LOCATION:ABC Store\, 208 W. Alabama Ave.\, Bessemer City\, NC\, 28016\, United States
END:VEVENT
BEGIN:VEVENT
DTSTART;TZID=America/New_York:20281024T090000
DTEND;TZID=America/New_York:20281024T100000
DTSTAMP:20260423T163314
CREATED:20251030T201445Z
LAST-MODIFIED:20251030T201445Z
UID:10000872-1855990800-1855994400@bessemercity.com
SUMMARY:Aerobics/Silver Sneakers/Chair Yoga
DESCRIPTION:
URL:https://bessemercity.com/calendar/aerobics-silver-sneakers-chair-yoga/2028-10-24/
LOCATION:Kiser Senior Center\, 123 W Pennsylvania Avenue\, Bessemer City\, NC\, 28016\, United States
CATEGORIES:Senior Event
END:VEVENT
BEGIN:VEVENT
DTSTART;TZID=America/New_York:20281031T090000
DTEND;TZID=America/New_York:20281031T100000
DTSTAMP:20260423T163314
CREATED:20251030T201445Z
LAST-MODIFIED:20251030T201445Z
UID:10000873-1856595600-1856599200@bessemercity.com
SUMMARY:Aerobics/Silver Sneakers/Chair Yoga
DESCRIPTION:
URL:https://bessemercity.com/calendar/aerobics-silver-sneakers-chair-yoga/2028-10-31/
LOCATION:Kiser Senior Center\, 123 W Pennsylvania Avenue\, Bessemer City\, NC\, 28016\, United States
CATEGORIES:Senior Event
END:VEVENT
BEGIN:VEVENT
DTSTART;TZID=America/New_York:20281031T150000
DTEND;TZID=America/New_York:20281031T170000
DTSTAMP:20260423T163314
CREATED:20250723T133813Z
LAST-MODIFIED:20250723T163502Z
UID:10000407-1856617200-1856624400@bessemercity.com
SUMMARY:City Council Work Session Meeting
DESCRIPTION:Click Here for agenda and minutes.
URL:https://bessemercity.com/calendar/city-council-work-session/2028-10-31/
LOCATION:City Council Chambers\, 132 W. Virginia Ave.\, Bessemer City\, NC\, 28016\, United States
END:VEVENT
BEGIN:VEVENT
DTSTART;TZID=America/New_York:20281031T190000
DTEND;TZID=America/New_York:20281031T203000
DTSTAMP:20260423T163314
CREATED:20250723T132835Z
LAST-MODIFIED:20250723T132835Z
UID:10000287-1856631600-1856637000@bessemercity.com
SUMMARY:Downtown Development Board
DESCRIPTION:
URL:https://bessemercity.com/calendar/downtown-development-board/2028-10-31/
LOCATION:City Council Chambers\, 132 W. Virginia Ave.\, Bessemer City\, NC\, 28016\, United States
END:VEVENT
BEGIN:VEVENT
DTSTART;TZID=America/New_York:20281106T113000
DTEND;TZID=America/New_York:20281106T123000
DTSTAMP:20260423T163314
CREATED:20251030T201958Z
LAST-MODIFIED:20260127T164546Z
UID:10001081-1857123000-1857126600@bessemercity.com
SUMMARY:Veteran's Lunch
DESCRIPTION:
URL:https://bessemercity.com/calendar/veterans-lunch/2028-11-06/
LOCATION:Allan Farris Community Center\, 220 South 14th Street\, Bessemer City\, NC\, 28016\, United States
CATEGORIES:Senior Event
END:VEVENT
END:VCALENDAR