BEGIN:VCALENDAR
VERSION:2.0
PRODID:-//Bessemer City, NC - ECPv6.15.20//NONSGML v1.0//EN
CALSCALE:GREGORIAN
METHOD:PUBLISH
X-WR-CALNAME:Bessemer City, NC
X-ORIGINAL-URL:https://bessemercity.com
X-WR-CALDESC:Events for Bessemer City, NC
REFRESH-INTERVAL;VALUE=DURATION:PT1H
X-Robots-Tag:noindex
X-PUBLISHED-TTL:PT1H
BEGIN:VTIMEZONE
TZID:America/New_York
BEGIN:DAYLIGHT
TZOFFSETFROM:-0500
TZOFFSETTO:-0400
TZNAME:EDT
DTSTART:20240310T070000
END:DAYLIGHT
BEGIN:STANDARD
TZOFFSETFROM:-0400
TZOFFSETTO:-0500
TZNAME:EST
DTSTART:20241103T060000
END:STANDARD
BEGIN:DAYLIGHT
TZOFFSETFROM:-0500
TZOFFSETTO:-0400
TZNAME:EDT
DTSTART:20250309T070000
END:DAYLIGHT
BEGIN:STANDARD
TZOFFSETFROM:-0400
TZOFFSETTO:-0500
TZNAME:EST
DTSTART:20251102T060000
END:STANDARD
BEGIN:DAYLIGHT
TZOFFSETFROM:-0500
TZOFFSETTO:-0400
TZNAME:EDT
DTSTART:20260308T070000
END:DAYLIGHT
BEGIN:STANDARD
TZOFFSETFROM:-0400
TZOFFSETTO:-0500
TZNAME:EST
DTSTART:20261101T060000
END:STANDARD
END:VTIMEZONE
BEGIN:VEVENT
DTSTART;TZID=America/New_York:20250922T170000
DTEND;TZID=America/New_York:20250922T180000
DTSTAMP:20260423T063603
CREATED:20250908T223959Z
LAST-MODIFIED:20250908T223959Z
UID:10000430-1758560400-1758564000@bessemercity.com
SUMMARY:ABC Board Meeting
DESCRIPTION:
URL:https://bessemercity.com/calendar/abc-board-meeting-2/2025-09-22/
LOCATION:ABC Store\, 208 W. Alabama Ave.\, Bessemer City\, NC\, 28016\, United States
END:VEVENT
BEGIN:VEVENT
DTSTART;TZID=America/New_York:20250920T160000
DTEND;TZID=America/New_York:20250920T220000
DTSTAMP:20260423T063603
CREATED:20250828T183922Z
LAST-MODIFIED:20250828T183930Z
UID:10000684-1758384000-1758405600@bessemercity.com
SUMMARY:Bessemer City Alive: Concert & Cruise-In
DESCRIPTION:Saturday\, September 20 @ 4:00–10:00 pm\, Downtown Bessemer City Free and Open to the Public Join us for an evening of classic cars and live music featuring The Extraordinaires! The Cruise-In begins at 4:00 pm\, and the band hits the stage at 6:30 pm. Fun for all ages!
URL:https://bessemercity.com/calendar/bessemer-city-alive-concert-cruise-in/
LOCATION:NC
CATEGORIES:Community Events,Senior Event,Youth Event
END:VEVENT
BEGIN:VEVENT
DTSTART;TZID=America/New_York:20250919T180000
DTEND;TZID=America/New_York:20250919T193000
DTSTAMP:20260423T063603
CREATED:20250828T183745Z
LAST-MODIFIED:20250828T184135Z
UID:10000683-1758304800-1758310200@bessemercity.com
SUMMARY:Art in the Park
DESCRIPTION:Friday\, September 19 @ 6:00 pm\, Stinger Park. All ages are welcome to participate in this creative competition! Sign up on our website to reserve your spot\, only 15 spots available per age group. Prizes awarded to winners in each group.
URL:https://bessemercity.com/calendar/art-in-the-park-2/
LOCATION:NC
CATEGORIES:Community Events,Youth Event
END:VEVENT
BEGIN:VEVENT
DTSTART;TZID=America/New_York:20250916T160000
DTEND;TZID=America/New_York:20250916T170000
DTSTAMP:20260423T063603
CREATED:20250828T183045Z
LAST-MODIFIED:20250828T183058Z
UID:10000682-1758038400-1758042000@bessemercity.com
SUMMARY:Paint & Slurp
DESCRIPTION:Tuesday\, September 16 @ 4:00 pm\, Allan Farris Community Center Free and Open to the Public All ages are welcome to enjoy a fun\, creative afternoon! Participants receive a themed canvas\, art materials\, and a beverage. RSVP by calling (704) 629-5111 or message us on Facebook.
URL:https://bessemercity.com/calendar/paint-slurp/
LOCATION:NC
CATEGORIES:Community Events,Senior Event,Youth Event
END:VEVENT
BEGIN:VEVENT
DTSTART;TZID=America/New_York:20250915T180000
DTEND;TZID=America/New_York:20250915T193000
DTSTAMP:20260423T063603
CREATED:20250730T211720Z
LAST-MODIFIED:20250730T211951Z
UID:10000630-1757959200-1757964600@bessemercity.com
SUMMARY:Senior Bingo
DESCRIPTION:
URL:https://bessemercity.com/calendar/senior-bingo-3/2025-09-15/
LOCATION:Allan Farris Community Center\, 220 South 14th Street\, Bessemer City\, NC\, 28016\, United States
END:VEVENT
BEGIN:VEVENT
DTSTART;TZID=America/New_York:20250911T090000
DTEND;TZID=America/New_York:20250911T103000
DTSTAMP:20260423T063603
CREATED:20250828T182449Z
LAST-MODIFIED:20250828T182500Z
UID:10000681-1757581200-1757586600@bessemercity.com
SUMMARY:Public Safety Day
DESCRIPTION:Thursday\, September 11 @ 9:00–10:30 am\, City Hall Free and Open to the Public Come meet and thank our local police and fire personnel during this special community appreciation event!
URL:https://bessemercity.com/calendar/public-safety-day/
LOCATION:NC
END:VEVENT
BEGIN:VEVENT
DTSTART;TZID=America/New_York:20250911T083000
DTEND;TZID=America/New_York:20250911T090000
DTSTAMP:20260423T063603
CREATED:20250828T182011Z
LAST-MODIFIED:20250828T182025Z
UID:10000680-1757579400-1757581200@bessemercity.com
SUMMARY:9/11 “We Will Remember” Memorial Service
DESCRIPTION:Thursday\, September 11 @ 8:30 am\, City Hall Free and Open to the Public
URL:https://bessemercity.com/calendar/9-11-we-will-remember-memorial-service/
LOCATION:Bessemer City\, 125 East Virginia Avenue\, Bessemer City\, NC\, 28016\, United States
CATEGORIES:Community Events
END:VEVENT
BEGIN:VEVENT
DTSTART;VALUE=DATE:20250910
DTEND;VALUE=DATE:20250911
DTSTAMP:20260423T063603
CREATED:20250724T022327Z
LAST-MODIFIED:20250724T022327Z
UID:10000490-1757462400-1757548799@bessemercity.com
SUMMARY:City Utility Bill Due
DESCRIPTION:Bill Pay Options
URL:https://bessemercity.com/calendar/city-utility-bill-due/2025-09-10/
LOCATION:NC
END:VEVENT
BEGIN:VEVENT
DTSTART;TZID=America/New_York:20250909T180000
DTEND;TZID=America/New_York:20250909T190000
DTSTAMP:20260423T063603
CREATED:20250723T132707Z
LAST-MODIFIED:20250723T133044Z
UID:10000309-1757440800-1757444400@bessemercity.com
SUMMARY:Parks and Recreation Board
DESCRIPTION:
URL:https://bessemercity.com/calendar/parks-and-recreation-board/2025-09-09/
LOCATION:Allan Farris Community Center\, 220 South 14th Street\, Bessemer City\, NC\, 28016\, United States
END:VEVENT
BEGIN:VEVENT
DTSTART;TZID=America/New_York:20250908T190000
DTEND;TZID=America/New_York:20250908T210000
DTSTAMP:20260423T063603
CREATED:20241002T173040Z
LAST-MODIFIED:20250723T135446Z
UID:10000009-1757358000-1757365200@bessemercity.com
SUMMARY:City Council Regular Meeting
DESCRIPTION:Click Here for agendas\, minutes\, and live recordings of meetings!
URL:https://bessemercity.com/calendar/city-council-regular-meeting/2025-09-08/
LOCATION:City Council Chambers\, 132 W. Virginia Ave.\, Bessemer City\, NC\, 28016\, United States
CATEGORIES:City Council,Community Events
END:VEVENT
BEGIN:VEVENT
DTSTART;TZID=America/New_York:20250901T180000
DTEND;TZID=America/New_York:20250901T190000
DTSTAMP:20260423T063603
CREATED:20241002T132100Z
LAST-MODIFIED:20250723T132316Z
UID:10000069-1756749600-1756753200@bessemercity.com
SUMMARY:Planning & Zoning Board of Adjustment Meeting
DESCRIPTION:
URL:https://bessemercity.com/calendar/planning-zoning-board-of-adjustment-meeting/2025-09-01/
LOCATION:City Council Chambers\, 132 W. Virginia Ave.\, Bessemer City\, NC\, 28016\, United States
ORGANIZER;CN="City of Bessemer City":MAILTO:hhayes@bessemercity.com
END:VEVENT
BEGIN:VEVENT
DTSTART;TZID=America/New_York:20250830T160000
DTEND;TZID=America/New_York:20250830T220000
DTSTAMP:20260423T063603
CREATED:20250731T191039Z
LAST-MODIFIED:20250731T191052Z
UID:10000679-1756569600-1756591200@bessemercity.com
SUMMARY:BC Alive Concert & Cruise In - 80's Night
DESCRIPTION:The 80’s are taking over our August Concert and Cruise In! We encourage you to show up in 80’s attire\, bring out some 80’s cars\, and party like it’s the 80’s! Our band for the evening will be Kids In America!
URL:https://bessemercity.com/calendar/bc-alive-concert-cruise-in-80s-night/
LOCATION:Centennial Park\, 114 W Virginia Ave\,\, Bessemer City\, NC\, 28016\, United States
END:VEVENT
BEGIN:VEVENT
DTSTART;TZID=America/New_York:20250827T160000
DTEND;TZID=America/New_York:20250827T170000
DTSTAMP:20260423T063603
CREATED:20250731T190812Z
LAST-MODIFIED:20250731T190903Z
UID:10000678-1756310400-1756314000@bessemercity.com
SUMMARY:Paint and Slurp
DESCRIPTION:Join us for a sweet time painting 80s-themed art and enjoying a cold treat! Held indoors at the AFCC in partnership with the Builders & Creators @ Bessemer City. All supplies (and ice cream) provided!
URL:https://bessemercity.com/calendar/paint-and-slurp/
LOCATION:Allan Farris Community Center\, 220 South 14th Street\, Bessemer City\, NC\, 28016\, United States
END:VEVENT
BEGIN:VEVENT
DTSTART;TZID=America/New_York:20250826T190000
DTEND;TZID=America/New_York:20250826T203000
DTSTAMP:20260423T063603
CREATED:20250723T132835Z
LAST-MODIFIED:20250723T132835Z
UID:10000249-1756234800-1756240200@bessemercity.com
SUMMARY:Downtown Development Board
DESCRIPTION:
URL:https://bessemercity.com/calendar/downtown-development-board/2025-08-26/
LOCATION:City Council Chambers\, 132 W. Virginia Ave.\, Bessemer City\, NC\, 28016\, United States
END:VEVENT
BEGIN:VEVENT
DTSTART;TZID=America/New_York:20250826T150000
DTEND;TZID=America/New_York:20250826T170000
DTSTAMP:20260423T063603
CREATED:20250723T133813Z
LAST-MODIFIED:20250723T163502Z
UID:10000369-1756220400-1756227600@bessemercity.com
SUMMARY:City Council Work Session Meeting
DESCRIPTION:Click Here for agenda and minutes.
URL:https://bessemercity.com/calendar/city-council-work-session/2025-08-26/
LOCATION:City Council Chambers\, 132 W. Virginia Ave.\, Bessemer City\, NC\, 28016\, United States
END:VEVENT
BEGIN:VEVENT
DTSTART;TZID=America/New_York:20250826T100000
DTEND;TZID=America/New_York:20250826T113000
DTSTAMP:20260423T063603
CREATED:20250731T185119Z
LAST-MODIFIED:20250731T185137Z
UID:10000674-1756202400-1756207800@bessemercity.com
SUMMARY:Water Wigglers
DESCRIPTION:A time for moms and toddlers to meet up to play in the splash pad. Feel free to invite a friend with toddlers to join in on the fun! Be sure to bring a towel and snack for your toddler! Let’s get those water wiggles out together!
URL:https://bessemercity.com/calendar/water-wigglers/2025-08-26/
LOCATION:NC
END:VEVENT
BEGIN:VEVENT
DTSTART;TZID=America/New_York:20250825T170000
DTEND;TZID=America/New_York:20250825T180000
DTSTAMP:20260423T063603
CREATED:20250724T022103Z
LAST-MODIFIED:20250724T022103Z
UID:10000429-1756141200-1756144800@bessemercity.com
SUMMARY:ABC Board Meeting
DESCRIPTION:
URL:https://bessemercity.com/calendar/abc-board-meeting/2025-08-25/
LOCATION:ABC Store\, 208 W. Alabama Ave.\, Bessemer City\, NC\, 28016\, United States
END:VEVENT
BEGIN:VEVENT
DTSTART;VALUE=DATE:20250821
DTEND;VALUE=DATE:20250822
DTSTAMP:20260423T063603
CREATED:20250731T190436Z
LAST-MODIFIED:20250731T190538Z
UID:10000677-1755734400-1755820799@bessemercity.com
SUMMARY:BC Game Circuit
DESCRIPTION:Join us at Osage Mills for a family feud style game night! Time and more details will be posted on our social media pages.
URL:https://bessemercity.com/calendar/bc-game-circuit/
LOCATION:NC
END:VEVENT
BEGIN:VEVENT
DTSTART;TZID=America/New_York:20250819T100000
DTEND;TZID=America/New_York:20250819T113000
DTSTAMP:20260423T063603
CREATED:20250731T185119Z
LAST-MODIFIED:20250731T185137Z
UID:10000673-1755597600-1755603000@bessemercity.com
SUMMARY:Water Wigglers
DESCRIPTION:A time for moms and toddlers to meet up to play in the splash pad. Feel free to invite a friend with toddlers to join in on the fun! Be sure to bring a towel and snack for your toddler! Let’s get those water wiggles out together!
URL:https://bessemercity.com/calendar/water-wigglers/2025-08-19/
LOCATION:NC
END:VEVENT
BEGIN:VEVENT
DTSTART;TZID=America/New_York:20250818T180000
DTEND;TZID=America/New_York:20250818T193000
DTSTAMP:20260423T063603
CREATED:20250730T211720Z
LAST-MODIFIED:20250730T211951Z
UID:10000610-1755540000-1755545400@bessemercity.com
SUMMARY:Senior Bingo
DESCRIPTION:
URL:https://bessemercity.com/calendar/senior-bingo-3/2025-08-18/
LOCATION:Allan Farris Community Center\, 220 South 14th Street\, Bessemer City\, NC\, 28016\, United States
END:VEVENT
BEGIN:VEVENT
DTSTART;TZID=America/New_York:20250812T180000
DTEND;TZID=America/New_York:20250812T190000
DTSTAMP:20260423T063603
CREATED:20250723T132707Z
LAST-MODIFIED:20250723T133044Z
UID:10000308-1755021600-1755025200@bessemercity.com
SUMMARY:Parks and Recreation Board
DESCRIPTION:
URL:https://bessemercity.com/calendar/parks-and-recreation-board/2025-08-12/
LOCATION:Allan Farris Community Center\, 220 South 14th Street\, Bessemer City\, NC\, 28016\, United States
END:VEVENT
BEGIN:VEVENT
DTSTART;TZID=America/New_York:20250812T100000
DTEND;TZID=America/New_York:20250812T113000
DTSTAMP:20260423T063603
CREATED:20250731T185119Z
LAST-MODIFIED:20250731T185137Z
UID:10000672-1754992800-1754998200@bessemercity.com
SUMMARY:Water Wigglers
DESCRIPTION:A time for moms and toddlers to meet up to play in the splash pad. Feel free to invite a friend with toddlers to join in on the fun! Be sure to bring a towel and snack for your toddler! Let’s get those water wiggles out together!
URL:https://bessemercity.com/calendar/water-wigglers/2025-08-12/
LOCATION:NC
END:VEVENT
BEGIN:VEVENT
DTSTART;TZID=America/New_York:20250811T190000
DTEND;TZID=America/New_York:20250811T210000
DTSTAMP:20260423T063603
CREATED:20241002T173040Z
LAST-MODIFIED:20250723T135446Z
UID:10000008-1754938800-1754946000@bessemercity.com
SUMMARY:City Council Regular Meeting
DESCRIPTION:Click Here for agendas\, minutes\, and live recordings of meetings!
URL:https://bessemercity.com/calendar/city-council-regular-meeting/2025-08-11/
LOCATION:City Council Chambers\, 132 W. Virginia Ave.\, Bessemer City\, NC\, 28016\, United States
CATEGORIES:City Council,Community Events
END:VEVENT
BEGIN:VEVENT
DTSTART;TZID=America/New_York:20250811T150000
DTEND;TZID=America/New_York:20250811T160000
DTSTAMP:20260423T063603
CREATED:20250731T190110Z
LAST-MODIFIED:20250731T190221Z
UID:10000676-1754924400-1754928000@bessemercity.com
SUMMARY:DIY Days
DESCRIPTION:Get creative at DIY Days! Join us for an hour of fun\, hands-on crafting for all ages. All materials provided. Call 704-729-6537 to RSVP or message the Parks and Rec Facebook page.
URL:https://bessemercity.com/calendar/diy-days/
LOCATION:Kiser Senior Center\, 123 W Pennsylvania Avenue\, Bessemer City\, NC\, 28016\, United States
END:VEVENT
BEGIN:VEVENT
DTSTART;VALUE=DATE:20250810
DTEND;VALUE=DATE:20250811
DTSTAMP:20260423T063603
CREATED:20250724T022327Z
LAST-MODIFIED:20250724T022327Z
UID:10000489-1754784000-1754870399@bessemercity.com
SUMMARY:City Utility Bill Due
DESCRIPTION:Bill Pay Options
URL:https://bessemercity.com/calendar/city-utility-bill-due/2025-08-10/
LOCATION:NC
END:VEVENT
BEGIN:VEVENT
DTSTART;TZID=America/New_York:20250808T180000
DTEND;TZID=America/New_York:20250808T193000
DTSTAMP:20260423T063603
CREATED:20250731T185432Z
LAST-MODIFIED:20250731T185454Z
UID:10000675-1754676000-1754681400@bessemercity.com
SUMMARY:Art in the Park
DESCRIPTION:Bring your creativity for a fun-filled evening of sidewalk chalk art! This free community event is open to all ages\, with age group categories for fair and friendly competition. Each participant will receive a sidewalk square to decorate\, and the best artwork in each age group will win a prize!
URL:https://bessemercity.com/calendar/art-in-the-park/
LOCATION:Stinger Park\, 555 Stinger Park Way\, Bessemer City\, NC\, 28016
END:VEVENT
BEGIN:VEVENT
DTSTART;TZID=America/New_York:20250805T100000
DTEND;TZID=America/New_York:20250805T113000
DTSTAMP:20260423T063603
CREATED:20250731T185119Z
LAST-MODIFIED:20250731T185137Z
UID:10000671-1754388000-1754393400@bessemercity.com
SUMMARY:Water Wigglers
DESCRIPTION:A time for moms and toddlers to meet up to play in the splash pad. Feel free to invite a friend with toddlers to join in on the fun! Be sure to bring a towel and snack for your toddler! Let’s get those water wiggles out together!
URL:https://bessemercity.com/calendar/water-wigglers/2025-08-05/
LOCATION:NC
END:VEVENT
BEGIN:VEVENT
DTSTART;TZID=America/New_York:20250804T180000
DTEND;TZID=America/New_York:20250804T190000
DTSTAMP:20260423T063603
CREATED:20250804T203641Z
LAST-MODIFIED:20250804T203641Z
UID:10000068-1754330400-1754334000@bessemercity.com
SUMMARY:Planning & Zoning Board of Adjustment Meeting
DESCRIPTION:August 4\, 2025 Meeting- CANCELLED (no business)
URL:https://bessemercity.com/calendar/planning-zoning-board-of-adjustment-meeting-2/
LOCATION:City Council Chambers\, 132 W. Virginia Ave.\, Bessemer City\, NC\, 28016\, United States
ORGANIZER;CN="City of Bessemer City":MAILTO:hhayes@bessemercity.com
END:VEVENT
BEGIN:VEVENT
DTSTART;TZID=America/New_York:20250801T100000
DTEND;TZID=America/New_York:20250801T113000
DTSTAMP:20260423T063603
CREATED:20250731T184546Z
LAST-MODIFIED:20250731T184604Z
UID:10000670-1754042400-1754047800@bessemercity.com
SUMMARY:Toddler Time
DESCRIPTION:Make a splash at Toddler Time! Enjoy a relaxed morning at the pool just for toddlers and their parent. This special time is reserved for little ones to play and explore the water safely. $5 admission covers both parent and toddler. ($3 per adult\, $2 per toddler)
URL:https://bessemercity.com/calendar/toddler-time/
LOCATION:Bessemer City Pool\, 210 S. 14th Street\, Bessemer City\, NC\, 28016\, United States
END:VEVENT
BEGIN:VEVENT
DTSTART;TZID=America/New_York:20250729T190000
DTEND;TZID=America/New_York:20250729T203000
DTSTAMP:20260423T063603
CREATED:20250723T132835Z
LAST-MODIFIED:20250723T132835Z
UID:10000248-1753815600-1753821000@bessemercity.com
SUMMARY:Downtown Development Board
DESCRIPTION:
URL:https://bessemercity.com/calendar/downtown-development-board/2025-07-29/
LOCATION:City Council Chambers\, 132 W. Virginia Ave.\, Bessemer City\, NC\, 28016\, United States
END:VEVENT
END:VCALENDAR