BEGIN:VCALENDAR
VERSION:2.0
PRODID:-//Bessemer City, NC - ECPv6.15.20//NONSGML v1.0//EN
CALSCALE:GREGORIAN
METHOD:PUBLISH
X-ORIGINAL-URL:https://bessemercity.com
X-WR-CALDESC:Events for Bessemer City, NC
REFRESH-INTERVAL;VALUE=DURATION:PT1H
X-Robots-Tag:noindex
X-PUBLISHED-TTL:PT1H
BEGIN:VTIMEZONE
TZID:America/New_York
BEGIN:DAYLIGHT
TZOFFSETFROM:-0500
TZOFFSETTO:-0400
TZNAME:EDT
DTSTART:20280312T070000
END:DAYLIGHT
BEGIN:STANDARD
TZOFFSETFROM:-0400
TZOFFSETTO:-0500
TZNAME:EST
DTSTART:20281105T060000
END:STANDARD
BEGIN:DAYLIGHT
TZOFFSETFROM:-0500
TZOFFSETTO:-0400
TZNAME:EDT
DTSTART:20290311T070000
END:DAYLIGHT
BEGIN:STANDARD
TZOFFSETFROM:-0400
TZOFFSETTO:-0500
TZNAME:EST
DTSTART:20291104T060000
END:STANDARD
BEGIN:DAYLIGHT
TZOFFSETFROM:-0500
TZOFFSETTO:-0400
TZNAME:EDT
DTSTART:20300310T070000
END:DAYLIGHT
BEGIN:STANDARD
TZOFFSETFROM:-0400
TZOFFSETTO:-0500
TZNAME:EST
DTSTART:20301103T060000
END:STANDARD
END:VTIMEZONE
BEGIN:VEVENT
DTSTART;TZID=America/New_York:20290828T090000
DTEND;TZID=America/New_York:20290828T100000
DTSTAMP:20260425T100233
CREATED:20251030T201445Z
LAST-MODIFIED:20251030T201445Z
UID:10000916-1882602000-1882605600@bessemercity.com
SUMMARY:Aerobics/Silver Sneakers/Chair Yoga
DESCRIPTION:
URL:https://bessemercity.com/calendar/aerobics-silver-sneakers-chair-yoga/2029-08-28/
LOCATION:Kiser Senior Center\, 123 W Pennsylvania Avenue\, Bessemer City\, NC\, 28016\, United States
CATEGORIES:Senior Event
END:VEVENT
BEGIN:VEVENT
DTSTART;TZID=America/New_York:20290828T150000
DTEND;TZID=America/New_York:20290828T170000
DTSTAMP:20260425T100233
CREATED:20250723T133813Z
LAST-MODIFIED:20250723T163502Z
UID:10000417-1882623600-1882630800@bessemercity.com
SUMMARY:City Council Work Session Meeting
DESCRIPTION:Click Here for agenda and minutes.
URL:https://bessemercity.com/calendar/city-council-work-session/2029-08-28/
LOCATION:City Council Chambers\, 132 W. Virginia Ave.\, Bessemer City\, NC\, 28016\, United States
END:VEVENT
BEGIN:VEVENT
DTSTART;TZID=America/New_York:20290828T190000
DTEND;TZID=America/New_York:20290828T203000
DTSTAMP:20260425T100233
CREATED:20250723T132835Z
LAST-MODIFIED:20250723T132835Z
UID:10000297-1882638000-1882643400@bessemercity.com
SUMMARY:Downtown Development Board
DESCRIPTION:
URL:https://bessemercity.com/calendar/downtown-development-board/2029-08-28/
LOCATION:City Council Chambers\, 132 W. Virginia Ave.\, Bessemer City\, NC\, 28016\, United States
END:VEVENT
BEGIN:VEVENT
DTSTART;TZID=America/New_York:20290903T113000
DTEND;TZID=America/New_York:20290903T123000
DTSTAMP:20260425T100233
CREATED:20251030T201958Z
LAST-MODIFIED:20260127T164546Z
UID:10001091-1883129400-1883133000@bessemercity.com
SUMMARY:Veteran's Lunch
DESCRIPTION:
URL:https://bessemercity.com/calendar/veterans-lunch/2029-09-03/
LOCATION:Allan Farris Community Center\, 220 South 14th Street\, Bessemer City\, NC\, 28016\, United States
CATEGORIES:Senior Event
END:VEVENT
BEGIN:VEVENT
DTSTART;TZID=America/New_York:20290903T180000
DTEND;TZID=America/New_York:20290903T190000
DTSTAMP:20260425T100233
CREATED:20241002T132100Z
LAST-MODIFIED:20250723T132316Z
UID:10000117-1883152800-1883156400@bessemercity.com
SUMMARY:Planning & Zoning Board of Adjustment Meeting
DESCRIPTION:
URL:https://bessemercity.com/calendar/planning-zoning-board-of-adjustment-meeting/2029-09-03/
LOCATION:City Council Chambers\, 132 W. Virginia Ave.\, Bessemer City\, NC\, 28016\, United States
ORGANIZER;CN="City of Bessemer City":MAILTO:hhayes@bessemercity.com
END:VEVENT
BEGIN:VEVENT
DTSTART;TZID=America/New_York:20290904T090000
DTEND;TZID=America/New_York:20290904T100000
DTSTAMP:20260425T100233
CREATED:20251030T201445Z
LAST-MODIFIED:20251030T201445Z
UID:10000917-1883206800-1883210400@bessemercity.com
SUMMARY:Aerobics/Silver Sneakers/Chair Yoga
DESCRIPTION:
URL:https://bessemercity.com/calendar/aerobics-silver-sneakers-chair-yoga/2029-09-04/
LOCATION:Kiser Senior Center\, 123 W Pennsylvania Avenue\, Bessemer City\, NC\, 28016\, United States
CATEGORIES:Senior Event
END:VEVENT
BEGIN:VEVENT
DTSTART;VALUE=DATE:20290910
DTEND;VALUE=DATE:20290911
DTSTAMP:20260425T100233
CREATED:20250724T022327Z
LAST-MODIFIED:20250724T022327Z
UID:10000538-1883692800-1883779199@bessemercity.com
SUMMARY:City Utility Bill Due
DESCRIPTION:Bill Pay Options
URL:https://bessemercity.com/calendar/city-utility-bill-due/2029-09-10/
LOCATION:NC
END:VEVENT
BEGIN:VEVENT
DTSTART;TZID=America/New_York:20290910T190000
DTEND;TZID=America/New_York:20290910T210000
DTSTAMP:20260425T100233
CREATED:20241002T173040Z
LAST-MODIFIED:20250723T135446Z
UID:10000057-1883761200-1883768400@bessemercity.com
SUMMARY:City Council Regular Meeting
DESCRIPTION:Click Here for agendas\, minutes\, and live recordings of meetings!
URL:https://bessemercity.com/calendar/city-council-regular-meeting/2029-09-10/
LOCATION:City Council Chambers\, 132 W. Virginia Ave.\, Bessemer City\, NC\, 28016\, United States
CATEGORIES:City Council,Community Events
END:VEVENT
BEGIN:VEVENT
DTSTART;TZID=America/New_York:20290911T090000
DTEND;TZID=America/New_York:20290911T100000
DTSTAMP:20260425T100233
CREATED:20251030T201445Z
LAST-MODIFIED:20251030T201445Z
UID:10000918-1883811600-1883815200@bessemercity.com
SUMMARY:Aerobics/Silver Sneakers/Chair Yoga
DESCRIPTION:
URL:https://bessemercity.com/calendar/aerobics-silver-sneakers-chair-yoga/2029-09-11/
LOCATION:Kiser Senior Center\, 123 W Pennsylvania Avenue\, Bessemer City\, NC\, 28016\, United States
CATEGORIES:Senior Event
END:VEVENT
BEGIN:VEVENT
DTSTART;TZID=America/New_York:20290911T180000
DTEND;TZID=America/New_York:20290911T190000
DTSTAMP:20260425T100233
CREATED:20250723T132707Z
LAST-MODIFIED:20250723T133044Z
UID:10000357-1883844000-1883847600@bessemercity.com
SUMMARY:Parks and Recreation Board
DESCRIPTION:
URL:https://bessemercity.com/calendar/parks-and-recreation-board/2029-09-11/
LOCATION:Allan Farris Community Center\, 220 South 14th Street\, Bessemer City\, NC\, 28016\, United States
END:VEVENT
BEGIN:VEVENT
DTSTART;TZID=America/New_York:20290914T090000
DTEND;TZID=America/New_York:20290914T100000
DTSTAMP:20260425T100233
CREATED:20251030T201848Z
LAST-MODIFIED:20260127T164333Z
UID:10001031-1884070800-1884074400@bessemercity.com
SUMMARY:Men's Breakfast
DESCRIPTION:
URL:https://bessemercity.com/calendar/mens-breakfast/2029-09-14/
LOCATION:NC
CATEGORIES:Senior Event
END:VEVENT
BEGIN:VEVENT
DTSTART;TZID=America/New_York:20290917T180000
DTEND;TZID=America/New_York:20290917T193000
DTSTAMP:20260425T100233
CREATED:20250730T211720Z
LAST-MODIFIED:20250730T211951Z
UID:10000662-1884362400-1884367800@bessemercity.com
SUMMARY:Senior Bingo
DESCRIPTION:
URL:https://bessemercity.com/calendar/senior-bingo-3/2029-09-17/
LOCATION:Allan Farris Community Center\, 220 South 14th Street\, Bessemer City\, NC\, 28016\, United States
END:VEVENT
BEGIN:VEVENT
DTSTART;TZID=America/New_York:20290918T090000
DTEND;TZID=America/New_York:20290918T100000
DTSTAMP:20260425T100233
CREATED:20251030T201445Z
LAST-MODIFIED:20251030T201445Z
UID:10000919-1884416400-1884420000@bessemercity.com
SUMMARY:Aerobics/Silver Sneakers/Chair Yoga
DESCRIPTION:
URL:https://bessemercity.com/calendar/aerobics-silver-sneakers-chair-yoga/2029-09-18/
LOCATION:Kiser Senior Center\, 123 W Pennsylvania Avenue\, Bessemer City\, NC\, 28016\, United States
CATEGORIES:Senior Event
END:VEVENT
BEGIN:VEVENT
DTSTART;TZID=America/New_York:20290924T170000
DTEND;TZID=America/New_York:20290924T180000
DTSTAMP:20260425T100233
CREATED:20250908T223959Z
LAST-MODIFIED:20250908T223959Z
UID:10000478-1884963600-1884967200@bessemercity.com
SUMMARY:ABC Board Meeting
DESCRIPTION:
URL:https://bessemercity.com/calendar/abc-board-meeting-2/2029-09-24/
LOCATION:ABC Store\, 208 W. Alabama Ave.\, Bessemer City\, NC\, 28016\, United States
END:VEVENT
BEGIN:VEVENT
DTSTART;TZID=America/New_York:20290925T090000
DTEND;TZID=America/New_York:20290925T100000
DTSTAMP:20260425T100233
CREATED:20251030T201445Z
LAST-MODIFIED:20251030T201445Z
UID:10000920-1885021200-1885024800@bessemercity.com
SUMMARY:Aerobics/Silver Sneakers/Chair Yoga
DESCRIPTION:
URL:https://bessemercity.com/calendar/aerobics-silver-sneakers-chair-yoga/2029-09-25/
LOCATION:Kiser Senior Center\, 123 W Pennsylvania Avenue\, Bessemer City\, NC\, 28016\, United States
CATEGORIES:Senior Event
END:VEVENT
BEGIN:VEVENT
DTSTART;TZID=America/New_York:20290925T150000
DTEND;TZID=America/New_York:20290925T170000
DTSTAMP:20260425T100233
CREATED:20250723T133813Z
LAST-MODIFIED:20250723T163502Z
UID:10000418-1885042800-1885050000@bessemercity.com
SUMMARY:City Council Work Session Meeting
DESCRIPTION:Click Here for agenda and minutes.
URL:https://bessemercity.com/calendar/city-council-work-session/2029-09-25/
LOCATION:City Council Chambers\, 132 W. Virginia Ave.\, Bessemer City\, NC\, 28016\, United States
END:VEVENT
BEGIN:VEVENT
DTSTART;TZID=America/New_York:20290925T190000
DTEND;TZID=America/New_York:20290925T203000
DTSTAMP:20260425T100233
CREATED:20250723T132835Z
LAST-MODIFIED:20250723T132835Z
UID:10000298-1885057200-1885062600@bessemercity.com
SUMMARY:Downtown Development Board
DESCRIPTION:
URL:https://bessemercity.com/calendar/downtown-development-board/2029-09-25/
LOCATION:City Council Chambers\, 132 W. Virginia Ave.\, Bessemer City\, NC\, 28016\, United States
END:VEVENT
BEGIN:VEVENT
DTSTART;TZID=America/New_York:20291001T113000
DTEND;TZID=America/New_York:20291001T123000
DTSTAMP:20260425T100233
CREATED:20251030T201958Z
LAST-MODIFIED:20260127T164546Z
UID:10001092-1885548600-1885552200@bessemercity.com
SUMMARY:Veteran's Lunch
DESCRIPTION:
URL:https://bessemercity.com/calendar/veterans-lunch/2029-10-01/
LOCATION:Allan Farris Community Center\, 220 South 14th Street\, Bessemer City\, NC\, 28016\, United States
CATEGORIES:Senior Event
END:VEVENT
BEGIN:VEVENT
DTSTART;TZID=America/New_York:20291001T180000
DTEND;TZID=America/New_York:20291001T190000
DTSTAMP:20260425T100233
CREATED:20241002T132100Z
LAST-MODIFIED:20250723T132316Z
UID:10000118-1885572000-1885575600@bessemercity.com
SUMMARY:Planning & Zoning Board of Adjustment Meeting
DESCRIPTION:
URL:https://bessemercity.com/calendar/planning-zoning-board-of-adjustment-meeting/2029-10-01/
LOCATION:City Council Chambers\, 132 W. Virginia Ave.\, Bessemer City\, NC\, 28016\, United States
ORGANIZER;CN="City of Bessemer City":MAILTO:hhayes@bessemercity.com
END:VEVENT
BEGIN:VEVENT
DTSTART;TZID=America/New_York:20291002T090000
DTEND;TZID=America/New_York:20291002T100000
DTSTAMP:20260425T100233
CREATED:20251030T201445Z
LAST-MODIFIED:20251030T201445Z
UID:10000921-1885626000-1885629600@bessemercity.com
SUMMARY:Aerobics/Silver Sneakers/Chair Yoga
DESCRIPTION:
URL:https://bessemercity.com/calendar/aerobics-silver-sneakers-chair-yoga/2029-10-02/
LOCATION:Kiser Senior Center\, 123 W Pennsylvania Avenue\, Bessemer City\, NC\, 28016\, United States
CATEGORIES:Senior Event
END:VEVENT
BEGIN:VEVENT
DTSTART;TZID=America/New_York:20291008T190000
DTEND;TZID=America/New_York:20291008T210000
DTSTAMP:20260425T100233
CREATED:20241002T173040Z
LAST-MODIFIED:20250723T135446Z
UID:10000058-1886180400-1886187600@bessemercity.com
SUMMARY:City Council Regular Meeting
DESCRIPTION:Click Here for agendas\, minutes\, and live recordings of meetings!
URL:https://bessemercity.com/calendar/city-council-regular-meeting/2029-10-08/
LOCATION:City Council Chambers\, 132 W. Virginia Ave.\, Bessemer City\, NC\, 28016\, United States
CATEGORIES:City Council,Community Events
END:VEVENT
BEGIN:VEVENT
DTSTART;TZID=America/New_York:20291009T090000
DTEND;TZID=America/New_York:20291009T100000
DTSTAMP:20260425T100233
CREATED:20251030T201445Z
LAST-MODIFIED:20251030T201445Z
UID:10000922-1886230800-1886234400@bessemercity.com
SUMMARY:Aerobics/Silver Sneakers/Chair Yoga
DESCRIPTION:
URL:https://bessemercity.com/calendar/aerobics-silver-sneakers-chair-yoga/2029-10-09/
LOCATION:Kiser Senior Center\, 123 W Pennsylvania Avenue\, Bessemer City\, NC\, 28016\, United States
CATEGORIES:Senior Event
END:VEVENT
BEGIN:VEVENT
DTSTART;TZID=America/New_York:20291009T180000
DTEND;TZID=America/New_York:20291009T190000
DTSTAMP:20260425T100233
CREATED:20250723T132707Z
LAST-MODIFIED:20250723T133044Z
UID:10000358-1886263200-1886266800@bessemercity.com
SUMMARY:Parks and Recreation Board
DESCRIPTION:
URL:https://bessemercity.com/calendar/parks-and-recreation-board/2029-10-09/
LOCATION:Allan Farris Community Center\, 220 South 14th Street\, Bessemer City\, NC\, 28016\, United States
END:VEVENT
BEGIN:VEVENT
DTSTART;VALUE=DATE:20291010
DTEND;VALUE=DATE:20291011
DTSTAMP:20260425T100233
CREATED:20250724T022327Z
LAST-MODIFIED:20250724T022327Z
UID:10000539-1886284800-1886371199@bessemercity.com
SUMMARY:City Utility Bill Due
DESCRIPTION:Bill Pay Options
URL:https://bessemercity.com/calendar/city-utility-bill-due/2029-10-10/
LOCATION:NC
END:VEVENT
BEGIN:VEVENT
DTSTART;TZID=America/New_York:20291012T090000
DTEND;TZID=America/New_York:20291012T100000
DTSTAMP:20260425T100233
CREATED:20251030T201848Z
LAST-MODIFIED:20260127T164333Z
UID:10001032-1886490000-1886493600@bessemercity.com
SUMMARY:Men's Breakfast
DESCRIPTION:
URL:https://bessemercity.com/calendar/mens-breakfast/2029-10-12/
LOCATION:NC
CATEGORIES:Senior Event
END:VEVENT
BEGIN:VEVENT
DTSTART;TZID=America/New_York:20291015T180000
DTEND;TZID=America/New_York:20291015T193000
DTSTAMP:20260425T100233
CREATED:20250730T211720Z
LAST-MODIFIED:20250730T211951Z
UID:10000663-1886781600-1886787000@bessemercity.com
SUMMARY:Senior Bingo
DESCRIPTION:
URL:https://bessemercity.com/calendar/senior-bingo-3/2029-10-15/
LOCATION:Allan Farris Community Center\, 220 South 14th Street\, Bessemer City\, NC\, 28016\, United States
END:VEVENT
BEGIN:VEVENT
DTSTART;TZID=America/New_York:20291016T090000
DTEND;TZID=America/New_York:20291016T100000
DTSTAMP:20260425T100233
CREATED:20251030T201445Z
LAST-MODIFIED:20251030T201445Z
UID:10000923-1886835600-1886839200@bessemercity.com
SUMMARY:Aerobics/Silver Sneakers/Chair Yoga
DESCRIPTION:
URL:https://bessemercity.com/calendar/aerobics-silver-sneakers-chair-yoga/2029-10-16/
LOCATION:Kiser Senior Center\, 123 W Pennsylvania Avenue\, Bessemer City\, NC\, 28016\, United States
CATEGORIES:Senior Event
END:VEVENT
BEGIN:VEVENT
DTSTART;TZID=America/New_York:20291022T170000
DTEND;TZID=America/New_York:20291022T180000
DTSTAMP:20260425T100233
CREATED:20250908T223959Z
LAST-MODIFIED:20250908T223959Z
UID:10000704-1887382800-1887386400@bessemercity.com
SUMMARY:ABC Board Meeting
DESCRIPTION:
URL:https://bessemercity.com/calendar/abc-board-meeting-2/2029-10-22/
LOCATION:ABC Store\, 208 W. Alabama Ave.\, Bessemer City\, NC\, 28016\, United States
END:VEVENT
BEGIN:VEVENT
DTSTART;TZID=America/New_York:20291023T090000
DTEND;TZID=America/New_York:20291023T100000
DTSTAMP:20260425T100233
CREATED:20251030T201445Z
LAST-MODIFIED:20251030T201445Z
UID:10000924-1887440400-1887444000@bessemercity.com
SUMMARY:Aerobics/Silver Sneakers/Chair Yoga
DESCRIPTION:
URL:https://bessemercity.com/calendar/aerobics-silver-sneakers-chair-yoga/2029-10-23/
LOCATION:Kiser Senior Center\, 123 W Pennsylvania Avenue\, Bessemer City\, NC\, 28016\, United States
CATEGORIES:Senior Event
END:VEVENT
BEGIN:VEVENT
DTSTART;TZID=America/New_York:20291030T090000
DTEND;TZID=America/New_York:20291030T100000
DTSTAMP:20260425T100233
CREATED:20251030T201445Z
LAST-MODIFIED:20251030T201445Z
UID:10000925-1888045200-1888048800@bessemercity.com
SUMMARY:Aerobics/Silver Sneakers/Chair Yoga
DESCRIPTION:
URL:https://bessemercity.com/calendar/aerobics-silver-sneakers-chair-yoga/2029-10-30/
LOCATION:Kiser Senior Center\, 123 W Pennsylvania Avenue\, Bessemer City\, NC\, 28016\, United States
CATEGORIES:Senior Event
END:VEVENT
END:VCALENDAR