BEGIN:VCALENDAR
VERSION:2.0
PRODID:-//Bessemer City, NC - ECPv6.15.20//NONSGML v1.0//EN
CALSCALE:GREGORIAN
METHOD:PUBLISH
X-ORIGINAL-URL:https://bessemercity.com
X-WR-CALDESC:Events for Bessemer City, NC
REFRESH-INTERVAL;VALUE=DURATION:PT1H
X-Robots-Tag:noindex
X-PUBLISHED-TTL:PT1H
BEGIN:VTIMEZONE
TZID:America/New_York
BEGIN:DAYLIGHT
TZOFFSETFROM:-0500
TZOFFSETTO:-0400
TZNAME:EDT
DTSTART:20260308T070000
END:DAYLIGHT
BEGIN:STANDARD
TZOFFSETFROM:-0400
TZOFFSETTO:-0500
TZNAME:EST
DTSTART:20261101T060000
END:STANDARD
BEGIN:DAYLIGHT
TZOFFSETFROM:-0500
TZOFFSETTO:-0400
TZNAME:EDT
DTSTART:20270314T070000
END:DAYLIGHT
BEGIN:STANDARD
TZOFFSETFROM:-0400
TZOFFSETTO:-0500
TZNAME:EST
DTSTART:20271107T060000
END:STANDARD
BEGIN:DAYLIGHT
TZOFFSETFROM:-0500
TZOFFSETTO:-0400
TZNAME:EDT
DTSTART:20280312T070000
END:DAYLIGHT
BEGIN:STANDARD
TZOFFSETFROM:-0400
TZOFFSETTO:-0500
TZNAME:EST
DTSTART:20281105T060000
END:STANDARD
END:VTIMEZONE
BEGIN:VEVENT
DTSTART;TZID=America/New_York:20270223T150000
DTEND;TZID=America/New_York:20270223T170000
DTSTAMP:20260422T183246
CREATED:20250723T133813Z
LAST-MODIFIED:20250723T163502Z
UID:10000387-1803394800-1803402000@bessemercity.com
SUMMARY:City Council Work Session Meeting
DESCRIPTION:Click Here for agenda and minutes.
URL:https://bessemercity.com/calendar/city-council-work-session/2027-02-23/
LOCATION:City Council Chambers\, 132 W. Virginia Ave.\, Bessemer City\, NC\, 28016\, United States
END:VEVENT
BEGIN:VEVENT
DTSTART;TZID=America/New_York:20270223T190000
DTEND;TZID=America/New_York:20270223T203000
DTSTAMP:20260422T183246
CREATED:20250723T132835Z
LAST-MODIFIED:20250723T132835Z
UID:10000267-1803409200-1803414600@bessemercity.com
SUMMARY:Downtown Development Board
DESCRIPTION:
URL:https://bessemercity.com/calendar/downtown-development-board/2027-02-23/
LOCATION:City Council Chambers\, 132 W. Virginia Ave.\, Bessemer City\, NC\, 28016\, United States
END:VEVENT
BEGIN:VEVENT
DTSTART;TZID=America/New_York:20270301T113000
DTEND;TZID=America/New_York:20270301T123000
DTSTAMP:20260422T183246
CREATED:20251030T201958Z
LAST-MODIFIED:20260127T164546Z
UID:10001061-1803900600-1803904200@bessemercity.com
SUMMARY:Veteran's Lunch
DESCRIPTION:
URL:https://bessemercity.com/calendar/veterans-lunch/2027-03-01/
LOCATION:Allan Farris Community Center\, 220 South 14th Street\, Bessemer City\, NC\, 28016\, United States
CATEGORIES:Senior Event
END:VEVENT
BEGIN:VEVENT
DTSTART;TZID=America/New_York:20270301T180000
DTEND;TZID=America/New_York:20270301T190000
DTSTAMP:20260422T183246
CREATED:20241002T132100Z
LAST-MODIFIED:20250723T132316Z
UID:10000087-1803924000-1803927600@bessemercity.com
SUMMARY:Planning & Zoning Board of Adjustment Meeting
DESCRIPTION:
URL:https://bessemercity.com/calendar/planning-zoning-board-of-adjustment-meeting/2027-03-01/
LOCATION:City Council Chambers\, 132 W. Virginia Ave.\, Bessemer City\, NC\, 28016\, United States
ORGANIZER;CN="City of Bessemer City":MAILTO:hhayes@bessemercity.com
END:VEVENT
BEGIN:VEVENT
DTSTART;TZID=America/New_York:20270302T090000
DTEND;TZID=America/New_York:20270302T100000
DTSTAMP:20260422T183246
CREATED:20251030T201445Z
LAST-MODIFIED:20251030T201445Z
UID:10000786-1803978000-1803981600@bessemercity.com
SUMMARY:Aerobics/Silver Sneakers/Chair Yoga
DESCRIPTION:
URL:https://bessemercity.com/calendar/aerobics-silver-sneakers-chair-yoga/2027-03-02/
LOCATION:Kiser Senior Center\, 123 W Pennsylvania Avenue\, Bessemer City\, NC\, 28016\, United States
CATEGORIES:Senior Event
END:VEVENT
BEGIN:VEVENT
DTSTART;TZID=America/New_York:20270308T190000
DTEND;TZID=America/New_York:20270308T210000
DTSTAMP:20260422T183246
CREATED:20241002T173040Z
LAST-MODIFIED:20250723T135446Z
UID:10000027-1804532400-1804539600@bessemercity.com
SUMMARY:City Council Regular Meeting
DESCRIPTION:Click Here for agendas\, minutes\, and live recordings of meetings!
URL:https://bessemercity.com/calendar/city-council-regular-meeting/2027-03-08/
LOCATION:City Council Chambers\, 132 W. Virginia Ave.\, Bessemer City\, NC\, 28016\, United States
CATEGORIES:City Council,Community Events
END:VEVENT
BEGIN:VEVENT
DTSTART;TZID=America/New_York:20270309T090000
DTEND;TZID=America/New_York:20270309T100000
DTSTAMP:20260422T183246
CREATED:20251030T201445Z
LAST-MODIFIED:20251030T201445Z
UID:10000787-1804582800-1804586400@bessemercity.com
SUMMARY:Aerobics/Silver Sneakers/Chair Yoga
DESCRIPTION:
URL:https://bessemercity.com/calendar/aerobics-silver-sneakers-chair-yoga/2027-03-09/
LOCATION:Kiser Senior Center\, 123 W Pennsylvania Avenue\, Bessemer City\, NC\, 28016\, United States
CATEGORIES:Senior Event
END:VEVENT
BEGIN:VEVENT
DTSTART;TZID=America/New_York:20270309T180000
DTEND;TZID=America/New_York:20270309T190000
DTSTAMP:20260422T183246
CREATED:20250723T132707Z
LAST-MODIFIED:20250723T133044Z
UID:10000327-1804615200-1804618800@bessemercity.com
SUMMARY:Parks and Recreation Board
DESCRIPTION:
URL:https://bessemercity.com/calendar/parks-and-recreation-board/2027-03-09/
LOCATION:Allan Farris Community Center\, 220 South 14th Street\, Bessemer City\, NC\, 28016\, United States
END:VEVENT
BEGIN:VEVENT
DTSTART;VALUE=DATE:20270310
DTEND;VALUE=DATE:20270311
DTSTAMP:20260422T183246
CREATED:20250724T022327Z
LAST-MODIFIED:20250724T022327Z
UID:10000508-1804636800-1804723199@bessemercity.com
SUMMARY:City Utility Bill Due
DESCRIPTION:Bill Pay Options
URL:https://bessemercity.com/calendar/city-utility-bill-due/2027-03-10/
LOCATION:NC
END:VEVENT
BEGIN:VEVENT
DTSTART;TZID=America/New_York:20270312T090000
DTEND;TZID=America/New_York:20270312T100000
DTSTAMP:20260422T183246
CREATED:20251030T201848Z
LAST-MODIFIED:20260127T164333Z
UID:10001001-1804842000-1804845600@bessemercity.com
SUMMARY:Men's Breakfast
DESCRIPTION:
URL:https://bessemercity.com/calendar/mens-breakfast/2027-03-12/
LOCATION:NC
CATEGORIES:Senior Event
END:VEVENT
BEGIN:VEVENT
DTSTART;TZID=America/New_York:20270315T180000
DTEND;TZID=America/New_York:20270315T193000
DTSTAMP:20260422T183246
CREATED:20250730T211720Z
LAST-MODIFIED:20250730T211951Z
UID:10000642-1805133600-1805139000@bessemercity.com
SUMMARY:Senior Bingo
DESCRIPTION:
URL:https://bessemercity.com/calendar/senior-bingo-3/2027-03-15/
LOCATION:Allan Farris Community Center\, 220 South 14th Street\, Bessemer City\, NC\, 28016\, United States
END:VEVENT
BEGIN:VEVENT
DTSTART;TZID=America/New_York:20270316T090000
DTEND;TZID=America/New_York:20270316T100000
DTSTAMP:20260422T183246
CREATED:20251030T201445Z
LAST-MODIFIED:20251030T201445Z
UID:10000788-1805187600-1805191200@bessemercity.com
SUMMARY:Aerobics/Silver Sneakers/Chair Yoga
DESCRIPTION:
URL:https://bessemercity.com/calendar/aerobics-silver-sneakers-chair-yoga/2027-03-16/
LOCATION:Kiser Senior Center\, 123 W Pennsylvania Avenue\, Bessemer City\, NC\, 28016\, United States
CATEGORIES:Senior Event
END:VEVENT
BEGIN:VEVENT
DTSTART;TZID=America/New_York:20270322T170000
DTEND;TZID=America/New_York:20270322T180000
DTSTAMP:20260422T183246
CREATED:20250908T223959Z
LAST-MODIFIED:20250908T223959Z
UID:10000693-1805734800-1805738400@bessemercity.com
SUMMARY:ABC Board Meeting
DESCRIPTION:
URL:https://bessemercity.com/calendar/abc-board-meeting-2/2027-03-22/
LOCATION:ABC Store\, 208 W. Alabama Ave.\, Bessemer City\, NC\, 28016\, United States
END:VEVENT
BEGIN:VEVENT
DTSTART;TZID=America/New_York:20270323T090000
DTEND;TZID=America/New_York:20270323T100000
DTSTAMP:20260422T183246
CREATED:20251030T201445Z
LAST-MODIFIED:20251030T201445Z
UID:10000789-1805792400-1805796000@bessemercity.com
SUMMARY:Aerobics/Silver Sneakers/Chair Yoga
DESCRIPTION:
URL:https://bessemercity.com/calendar/aerobics-silver-sneakers-chair-yoga/2027-03-23/
LOCATION:Kiser Senior Center\, 123 W Pennsylvania Avenue\, Bessemer City\, NC\, 28016\, United States
CATEGORIES:Senior Event
END:VEVENT
BEGIN:VEVENT
DTSTART;TZID=America/New_York:20270330T090000
DTEND;TZID=America/New_York:20270330T100000
DTSTAMP:20260422T183246
CREATED:20251030T201445Z
LAST-MODIFIED:20251030T201445Z
UID:10000790-1806397200-1806400800@bessemercity.com
SUMMARY:Aerobics/Silver Sneakers/Chair Yoga
DESCRIPTION:
URL:https://bessemercity.com/calendar/aerobics-silver-sneakers-chair-yoga/2027-03-30/
LOCATION:Kiser Senior Center\, 123 W Pennsylvania Avenue\, Bessemer City\, NC\, 28016\, United States
CATEGORIES:Senior Event
END:VEVENT
BEGIN:VEVENT
DTSTART;TZID=America/New_York:20270330T150000
DTEND;TZID=America/New_York:20270330T170000
DTSTAMP:20260422T183246
CREATED:20250723T133813Z
LAST-MODIFIED:20250723T163502Z
UID:10000388-1806418800-1806426000@bessemercity.com
SUMMARY:City Council Work Session Meeting
DESCRIPTION:Click Here for agenda and minutes.
URL:https://bessemercity.com/calendar/city-council-work-session/2027-03-30/
LOCATION:City Council Chambers\, 132 W. Virginia Ave.\, Bessemer City\, NC\, 28016\, United States
END:VEVENT
BEGIN:VEVENT
DTSTART;TZID=America/New_York:20270330T190000
DTEND;TZID=America/New_York:20270330T203000
DTSTAMP:20260422T183246
CREATED:20250723T132835Z
LAST-MODIFIED:20250723T132835Z
UID:10000268-1806433200-1806438600@bessemercity.com
SUMMARY:Downtown Development Board
DESCRIPTION:
URL:https://bessemercity.com/calendar/downtown-development-board/2027-03-30/
LOCATION:City Council Chambers\, 132 W. Virginia Ave.\, Bessemer City\, NC\, 28016\, United States
END:VEVENT
BEGIN:VEVENT
DTSTART;TZID=America/New_York:20270405T113000
DTEND;TZID=America/New_York:20270405T123000
DTSTAMP:20260422T183246
CREATED:20251030T201958Z
LAST-MODIFIED:20260127T164546Z
UID:10001062-1806924600-1806928200@bessemercity.com
SUMMARY:Veteran's Lunch
DESCRIPTION:
URL:https://bessemercity.com/calendar/veterans-lunch/2027-04-05/
LOCATION:Allan Farris Community Center\, 220 South 14th Street\, Bessemer City\, NC\, 28016\, United States
CATEGORIES:Senior Event
END:VEVENT
BEGIN:VEVENT
DTSTART;TZID=America/New_York:20270405T180000
DTEND;TZID=America/New_York:20270405T190000
DTSTAMP:20260422T183246
CREATED:20241002T132100Z
LAST-MODIFIED:20250723T132316Z
UID:10000088-1806948000-1806951600@bessemercity.com
SUMMARY:Planning & Zoning Board of Adjustment Meeting
DESCRIPTION:
URL:https://bessemercity.com/calendar/planning-zoning-board-of-adjustment-meeting/2027-04-05/
LOCATION:City Council Chambers\, 132 W. Virginia Ave.\, Bessemer City\, NC\, 28016\, United States
ORGANIZER;CN="City of Bessemer City":MAILTO:hhayes@bessemercity.com
END:VEVENT
BEGIN:VEVENT
DTSTART;TZID=America/New_York:20270406T090000
DTEND;TZID=America/New_York:20270406T100000
DTSTAMP:20260422T183246
CREATED:20251030T201445Z
LAST-MODIFIED:20251030T201445Z
UID:10000791-1807002000-1807005600@bessemercity.com
SUMMARY:Aerobics/Silver Sneakers/Chair Yoga
DESCRIPTION:
URL:https://bessemercity.com/calendar/aerobics-silver-sneakers-chair-yoga/2027-04-06/
LOCATION:Kiser Senior Center\, 123 W Pennsylvania Avenue\, Bessemer City\, NC\, 28016\, United States
CATEGORIES:Senior Event
END:VEVENT
BEGIN:VEVENT
DTSTART;TZID=America/New_York:20270409T090000
DTEND;TZID=America/New_York:20270409T100000
DTSTAMP:20260422T183246
CREATED:20251030T201848Z
LAST-MODIFIED:20260127T164333Z
UID:10001002-1807261200-1807264800@bessemercity.com
SUMMARY:Men's Breakfast
DESCRIPTION:
URL:https://bessemercity.com/calendar/mens-breakfast/2027-04-09/
LOCATION:NC
CATEGORIES:Senior Event
END:VEVENT
BEGIN:VEVENT
DTSTART;VALUE=DATE:20270410
DTEND;VALUE=DATE:20270411
DTSTAMP:20260422T183246
CREATED:20250724T022327Z
LAST-MODIFIED:20250724T022327Z
UID:10000509-1807315200-1807401599@bessemercity.com
SUMMARY:City Utility Bill Due
DESCRIPTION:Bill Pay Options
URL:https://bessemercity.com/calendar/city-utility-bill-due/2027-04-10/
LOCATION:NC
END:VEVENT
BEGIN:VEVENT
DTSTART;TZID=America/New_York:20270412T190000
DTEND;TZID=America/New_York:20270412T210000
DTSTAMP:20260422T183246
CREATED:20241002T173040Z
LAST-MODIFIED:20250723T135446Z
UID:10000028-1807556400-1807563600@bessemercity.com
SUMMARY:City Council Regular Meeting
DESCRIPTION:Click Here for agendas\, minutes\, and live recordings of meetings!
URL:https://bessemercity.com/calendar/city-council-regular-meeting/2027-04-12/
LOCATION:City Council Chambers\, 132 W. Virginia Ave.\, Bessemer City\, NC\, 28016\, United States
CATEGORIES:City Council,Community Events
END:VEVENT
BEGIN:VEVENT
DTSTART;TZID=America/New_York:20270413T090000
DTEND;TZID=America/New_York:20270413T100000
DTSTAMP:20260422T183246
CREATED:20251030T201445Z
LAST-MODIFIED:20251030T201445Z
UID:10000792-1807606800-1807610400@bessemercity.com
SUMMARY:Aerobics/Silver Sneakers/Chair Yoga
DESCRIPTION:
URL:https://bessemercity.com/calendar/aerobics-silver-sneakers-chair-yoga/2027-04-13/
LOCATION:Kiser Senior Center\, 123 W Pennsylvania Avenue\, Bessemer City\, NC\, 28016\, United States
CATEGORIES:Senior Event
END:VEVENT
BEGIN:VEVENT
DTSTART;TZID=America/New_York:20270413T180000
DTEND;TZID=America/New_York:20270413T190000
DTSTAMP:20260422T183246
CREATED:20250723T132707Z
LAST-MODIFIED:20250723T133044Z
UID:10000328-1807639200-1807642800@bessemercity.com
SUMMARY:Parks and Recreation Board
DESCRIPTION:
URL:https://bessemercity.com/calendar/parks-and-recreation-board/2027-04-13/
LOCATION:Allan Farris Community Center\, 220 South 14th Street\, Bessemer City\, NC\, 28016\, United States
END:VEVENT
BEGIN:VEVENT
DTSTART;TZID=America/New_York:20270419T180000
DTEND;TZID=America/New_York:20270419T193000
DTSTAMP:20260422T183246
CREATED:20250730T211720Z
LAST-MODIFIED:20250730T211951Z
UID:10000643-1808157600-1808163000@bessemercity.com
SUMMARY:Senior Bingo
DESCRIPTION:
URL:https://bessemercity.com/calendar/senior-bingo-3/2027-04-19/
LOCATION:Allan Farris Community Center\, 220 South 14th Street\, Bessemer City\, NC\, 28016\, United States
END:VEVENT
BEGIN:VEVENT
DTSTART;TZID=America/New_York:20270420T090000
DTEND;TZID=America/New_York:20270420T100000
DTSTAMP:20260422T183246
CREATED:20251030T201445Z
LAST-MODIFIED:20251030T201445Z
UID:10000793-1808211600-1808215200@bessemercity.com
SUMMARY:Aerobics/Silver Sneakers/Chair Yoga
DESCRIPTION:
URL:https://bessemercity.com/calendar/aerobics-silver-sneakers-chair-yoga/2027-04-20/
LOCATION:Kiser Senior Center\, 123 W Pennsylvania Avenue\, Bessemer City\, NC\, 28016\, United States
CATEGORIES:Senior Event
END:VEVENT
BEGIN:VEVENT
DTSTART;TZID=America/New_York:20270426T170000
DTEND;TZID=America/New_York:20270426T180000
DTSTAMP:20260422T183246
CREATED:20250908T223959Z
LAST-MODIFIED:20250908T223959Z
UID:10000449-1808758800-1808762400@bessemercity.com
SUMMARY:ABC Board Meeting
DESCRIPTION:
URL:https://bessemercity.com/calendar/abc-board-meeting-2/2027-04-26/
LOCATION:ABC Store\, 208 W. Alabama Ave.\, Bessemer City\, NC\, 28016\, United States
END:VEVENT
BEGIN:VEVENT
DTSTART;TZID=America/New_York:20270427T090000
DTEND;TZID=America/New_York:20270427T100000
DTSTAMP:20260422T183246
CREATED:20251030T201445Z
LAST-MODIFIED:20251030T201445Z
UID:10000794-1808816400-1808820000@bessemercity.com
SUMMARY:Aerobics/Silver Sneakers/Chair Yoga
DESCRIPTION:
URL:https://bessemercity.com/calendar/aerobics-silver-sneakers-chair-yoga/2027-04-27/
LOCATION:Kiser Senior Center\, 123 W Pennsylvania Avenue\, Bessemer City\, NC\, 28016\, United States
CATEGORIES:Senior Event
END:VEVENT
BEGIN:VEVENT
DTSTART;TZID=America/New_York:20270427T150000
DTEND;TZID=America/New_York:20270427T170000
DTSTAMP:20260422T183246
CREATED:20250723T133813Z
LAST-MODIFIED:20250723T163502Z
UID:10000389-1808838000-1808845200@bessemercity.com
SUMMARY:City Council Work Session Meeting
DESCRIPTION:Click Here for agenda and minutes.
URL:https://bessemercity.com/calendar/city-council-work-session/2027-04-27/
LOCATION:City Council Chambers\, 132 W. Virginia Ave.\, Bessemer City\, NC\, 28016\, United States
END:VEVENT
END:VCALENDAR