BEGIN:VCALENDAR
VERSION:2.0
PRODID:-//Bessemer City, NC - ECPv6.15.20//NONSGML v1.0//EN
CALSCALE:GREGORIAN
METHOD:PUBLISH
X-WR-CALNAME:Bessemer City, NC
X-ORIGINAL-URL:https://bessemercity.com
X-WR-CALDESC:Events for Bessemer City, NC
REFRESH-INTERVAL;VALUE=DURATION:PT1H
X-Robots-Tag:noindex
X-PUBLISHED-TTL:PT1H
BEGIN:VTIMEZONE
TZID:America/New_York
BEGIN:DAYLIGHT
TZOFFSETFROM:-0500
TZOFFSETTO:-0400
TZNAME:EDT
DTSTART:20260308T070000
END:DAYLIGHT
BEGIN:STANDARD
TZOFFSETFROM:-0400
TZOFFSETTO:-0500
TZNAME:EST
DTSTART:20261101T060000
END:STANDARD
BEGIN:DAYLIGHT
TZOFFSETFROM:-0500
TZOFFSETTO:-0400
TZNAME:EDT
DTSTART:20270314T070000
END:DAYLIGHT
BEGIN:STANDARD
TZOFFSETFROM:-0400
TZOFFSETTO:-0500
TZNAME:EST
DTSTART:20271107T060000
END:STANDARD
BEGIN:DAYLIGHT
TZOFFSETFROM:-0500
TZOFFSETTO:-0400
TZNAME:EDT
DTSTART:20280312T070000
END:DAYLIGHT
BEGIN:STANDARD
TZOFFSETFROM:-0400
TZOFFSETTO:-0500
TZNAME:EST
DTSTART:20281105T060000
END:STANDARD
BEGIN:DAYLIGHT
TZOFFSETFROM:-0500
TZOFFSETTO:-0400
TZNAME:EDT
DTSTART:20290311T070000
END:DAYLIGHT
BEGIN:STANDARD
TZOFFSETFROM:-0400
TZOFFSETTO:-0500
TZNAME:EST
DTSTART:20291104T060000
END:STANDARD
END:VTIMEZONE
BEGIN:VEVENT
DTSTART;TZID=America/New_York:20271115T180000
DTEND;TZID=America/New_York:20271115T193000
DTSTAMP:20260423T075229
CREATED:20250730T211720Z
LAST-MODIFIED:20250730T211951Z
UID:10000619-1826301600-1826307000@bessemercity.com
SUMMARY:Senior Bingo
DESCRIPTION:
URL:https://bessemercity.com/calendar/senior-bingo-3/2027-11-15/
LOCATION:Allan Farris Community Center\, 220 South 14th Street\, Bessemer City\, NC\, 28016\, United States
END:VEVENT
BEGIN:VEVENT
DTSTART;TZID=America/New_York:20271116T090000
DTEND;TZID=America/New_York:20271116T100000
DTSTAMP:20260423T075229
CREATED:20251030T201445Z
LAST-MODIFIED:20251030T201445Z
UID:10000823-1826355600-1826359200@bessemercity.com
SUMMARY:Aerobics/Silver Sneakers/Chair Yoga
DESCRIPTION:
URL:https://bessemercity.com/calendar/aerobics-silver-sneakers-chair-yoga/2027-11-16/
LOCATION:Kiser Senior Center\, 123 W Pennsylvania Avenue\, Bessemer City\, NC\, 28016\, United States
CATEGORIES:Senior Event
END:VEVENT
BEGIN:VEVENT
DTSTART;TZID=America/New_York:20271122T170000
DTEND;TZID=America/New_York:20271122T180000
DTSTAMP:20260423T075229
CREATED:20250908T223959Z
LAST-MODIFIED:20250908T223959Z
UID:10000696-1826902800-1826906400@bessemercity.com
SUMMARY:ABC Board Meeting
DESCRIPTION:
URL:https://bessemercity.com/calendar/abc-board-meeting-2/2027-11-22/
LOCATION:ABC Store\, 208 W. Alabama Ave.\, Bessemer City\, NC\, 28016\, United States
END:VEVENT
BEGIN:VEVENT
DTSTART;TZID=America/New_York:20271123T090000
DTEND;TZID=America/New_York:20271123T100000
DTSTAMP:20260423T075229
CREATED:20251030T201445Z
LAST-MODIFIED:20251030T201445Z
UID:10000824-1826960400-1826964000@bessemercity.com
SUMMARY:Aerobics/Silver Sneakers/Chair Yoga
DESCRIPTION:
URL:https://bessemercity.com/calendar/aerobics-silver-sneakers-chair-yoga/2027-11-23/
LOCATION:Kiser Senior Center\, 123 W Pennsylvania Avenue\, Bessemer City\, NC\, 28016\, United States
CATEGORIES:Senior Event
END:VEVENT
BEGIN:VEVENT
DTSTART;TZID=America/New_York:20271130T090000
DTEND;TZID=America/New_York:20271130T100000
DTSTAMP:20260423T075229
CREATED:20251030T201445Z
LAST-MODIFIED:20251030T201445Z
UID:10000825-1827565200-1827568800@bessemercity.com
SUMMARY:Aerobics/Silver Sneakers/Chair Yoga
DESCRIPTION:
URL:https://bessemercity.com/calendar/aerobics-silver-sneakers-chair-yoga/2027-11-30/
LOCATION:Kiser Senior Center\, 123 W Pennsylvania Avenue\, Bessemer City\, NC\, 28016\, United States
CATEGORIES:Senior Event
END:VEVENT
BEGIN:VEVENT
DTSTART;TZID=America/New_York:20271130T150000
DTEND;TZID=America/New_York:20271130T170000
DTSTAMP:20260423T075229
CREATED:20250723T133813Z
LAST-MODIFIED:20250723T163502Z
UID:10000396-1827586800-1827594000@bessemercity.com
SUMMARY:City Council Work Session Meeting
DESCRIPTION:Click Here for agenda and minutes.
URL:https://bessemercity.com/calendar/city-council-work-session/2027-11-30/
LOCATION:City Council Chambers\, 132 W. Virginia Ave.\, Bessemer City\, NC\, 28016\, United States
END:VEVENT
BEGIN:VEVENT
DTSTART;TZID=America/New_York:20271130T190000
DTEND;TZID=America/New_York:20271130T203000
DTSTAMP:20260423T075229
CREATED:20250723T132835Z
LAST-MODIFIED:20250723T132835Z
UID:10000276-1827601200-1827606600@bessemercity.com
SUMMARY:Downtown Development Board
DESCRIPTION:
URL:https://bessemercity.com/calendar/downtown-development-board/2027-11-30/
LOCATION:City Council Chambers\, 132 W. Virginia Ave.\, Bessemer City\, NC\, 28016\, United States
END:VEVENT
BEGIN:VEVENT
DTSTART;TZID=America/New_York:20271206T113000
DTEND;TZID=America/New_York:20271206T123000
DTSTAMP:20260423T075229
CREATED:20251030T201958Z
LAST-MODIFIED:20260127T164546Z
UID:10001070-1828092600-1828096200@bessemercity.com
SUMMARY:Veteran's Lunch
DESCRIPTION:
URL:https://bessemercity.com/calendar/veterans-lunch/2027-12-06/
LOCATION:Allan Farris Community Center\, 220 South 14th Street\, Bessemer City\, NC\, 28016\, United States
CATEGORIES:Senior Event
END:VEVENT
BEGIN:VEVENT
DTSTART;TZID=America/New_York:20271206T180000
DTEND;TZID=America/New_York:20271206T190000
DTSTAMP:20260423T075229
CREATED:20241002T132100Z
LAST-MODIFIED:20250723T132316Z
UID:10000096-1828116000-1828119600@bessemercity.com
SUMMARY:Planning & Zoning Board of Adjustment Meeting
DESCRIPTION:
URL:https://bessemercity.com/calendar/planning-zoning-board-of-adjustment-meeting/2027-12-06/
LOCATION:City Council Chambers\, 132 W. Virginia Ave.\, Bessemer City\, NC\, 28016\, United States
ORGANIZER;CN="City of Bessemer City":MAILTO:hhayes@bessemercity.com
END:VEVENT
BEGIN:VEVENT
DTSTART;TZID=America/New_York:20271207T090000
DTEND;TZID=America/New_York:20271207T100000
DTSTAMP:20260423T075229
CREATED:20251030T201445Z
LAST-MODIFIED:20251030T201445Z
UID:10000826-1828170000-1828173600@bessemercity.com
SUMMARY:Aerobics/Silver Sneakers/Chair Yoga
DESCRIPTION:
URL:https://bessemercity.com/calendar/aerobics-silver-sneakers-chair-yoga/2027-12-07/
LOCATION:Kiser Senior Center\, 123 W Pennsylvania Avenue\, Bessemer City\, NC\, 28016\, United States
CATEGORIES:Senior Event
END:VEVENT
BEGIN:VEVENT
DTSTART;VALUE=DATE:20271210
DTEND;VALUE=DATE:20271211
DTSTAMP:20260423T075229
CREATED:20250724T022327Z
LAST-MODIFIED:20250724T022327Z
UID:10000517-1828396800-1828483199@bessemercity.com
SUMMARY:City Utility Bill Due
DESCRIPTION:Bill Pay Options
URL:https://bessemercity.com/calendar/city-utility-bill-due/2027-12-10/
END:VEVENT
BEGIN:VEVENT
DTSTART;TZID=America/New_York:20271210T090000
DTEND;TZID=America/New_York:20271210T100000
DTSTAMP:20260423T075229
CREATED:20251030T201848Z
LAST-MODIFIED:20260127T164333Z
UID:10001010-1828429200-1828432800@bessemercity.com
SUMMARY:Men's Breakfast
DESCRIPTION:
URL:https://bessemercity.com/calendar/mens-breakfast/2027-12-10/
CATEGORIES:Senior Event
END:VEVENT
BEGIN:VEVENT
DTSTART;TZID=America/New_York:20271213T190000
DTEND;TZID=America/New_York:20271213T210000
DTSTAMP:20260423T075229
CREATED:20241002T173040Z
LAST-MODIFIED:20250723T135446Z
UID:10000036-1828724400-1828731600@bessemercity.com
SUMMARY:City Council Regular Meeting
DESCRIPTION:Click Here for agendas\, minutes\, and live recordings of meetings!
URL:https://bessemercity.com/calendar/city-council-regular-meeting/2027-12-13/
LOCATION:City Council Chambers\, 132 W. Virginia Ave.\, Bessemer City\, NC\, 28016\, United States
CATEGORIES:City Council,Community Events
END:VEVENT
BEGIN:VEVENT
DTSTART;TZID=America/New_York:20271214T090000
DTEND;TZID=America/New_York:20271214T100000
DTSTAMP:20260423T075229
CREATED:20251030T201445Z
LAST-MODIFIED:20251030T201445Z
UID:10000827-1828774800-1828778400@bessemercity.com
SUMMARY:Aerobics/Silver Sneakers/Chair Yoga
DESCRIPTION:
URL:https://bessemercity.com/calendar/aerobics-silver-sneakers-chair-yoga/2027-12-14/
LOCATION:Kiser Senior Center\, 123 W Pennsylvania Avenue\, Bessemer City\, NC\, 28016\, United States
CATEGORIES:Senior Event
END:VEVENT
BEGIN:VEVENT
DTSTART;TZID=America/New_York:20271214T180000
DTEND;TZID=America/New_York:20271214T190000
DTSTAMP:20260423T075229
CREATED:20250723T132707Z
LAST-MODIFIED:20250723T133044Z
UID:10000336-1828807200-1828810800@bessemercity.com
SUMMARY:Parks and Recreation Board
DESCRIPTION:
URL:https://bessemercity.com/calendar/parks-and-recreation-board/2027-12-14/
LOCATION:Allan Farris Community Center\, 220 South 14th Street\, Bessemer City\, NC\, 28016\, United States
END:VEVENT
BEGIN:VEVENT
DTSTART;TZID=America/New_York:20271220T180000
DTEND;TZID=America/New_York:20271220T193000
DTSTAMP:20260423T075229
CREATED:20250730T211720Z
LAST-MODIFIED:20250730T211951Z
UID:10000648-1829325600-1829331000@bessemercity.com
SUMMARY:Senior Bingo
DESCRIPTION:
URL:https://bessemercity.com/calendar/senior-bingo-3/2027-12-20/
LOCATION:Allan Farris Community Center\, 220 South 14th Street\, Bessemer City\, NC\, 28016\, United States
END:VEVENT
BEGIN:VEVENT
DTSTART;TZID=America/New_York:20271221T090000
DTEND;TZID=America/New_York:20271221T100000
DTSTAMP:20260423T075229
CREATED:20251030T201445Z
LAST-MODIFIED:20251030T201445Z
UID:10000828-1829379600-1829383200@bessemercity.com
SUMMARY:Aerobics/Silver Sneakers/Chair Yoga
DESCRIPTION:
URL:https://bessemercity.com/calendar/aerobics-silver-sneakers-chair-yoga/2027-12-21/
LOCATION:Kiser Senior Center\, 123 W Pennsylvania Avenue\, Bessemer City\, NC\, 28016\, United States
CATEGORIES:Senior Event
END:VEVENT
BEGIN:VEVENT
DTSTART;TZID=America/New_York:20271227T170000
DTEND;TZID=America/New_York:20271227T180000
DTSTAMP:20260423T075229
CREATED:20250908T223959Z
LAST-MODIFIED:20250908T223959Z
UID:10000457-1829926800-1829930400@bessemercity.com
SUMMARY:ABC Board Meeting
DESCRIPTION:
URL:https://bessemercity.com/calendar/abc-board-meeting-2/2027-12-27/
LOCATION:ABC Store\, 208 W. Alabama Ave.\, Bessemer City\, NC\, 28016\, United States
END:VEVENT
BEGIN:VEVENT
DTSTART;TZID=America/New_York:20271228T090000
DTEND;TZID=America/New_York:20271228T100000
DTSTAMP:20260423T075229
CREATED:20251030T201445Z
LAST-MODIFIED:20251030T201445Z
UID:10000829-1829984400-1829988000@bessemercity.com
SUMMARY:Aerobics/Silver Sneakers/Chair Yoga
DESCRIPTION:
URL:https://bessemercity.com/calendar/aerobics-silver-sneakers-chair-yoga/2027-12-28/
LOCATION:Kiser Senior Center\, 123 W Pennsylvania Avenue\, Bessemer City\, NC\, 28016\, United States
CATEGORIES:Senior Event
END:VEVENT
BEGIN:VEVENT
DTSTART;TZID=America/New_York:20271228T150000
DTEND;TZID=America/New_York:20271228T170000
DTSTAMP:20260423T075229
CREATED:20250723T133813Z
LAST-MODIFIED:20250723T163502Z
UID:10000397-1830006000-1830013200@bessemercity.com
SUMMARY:City Council Work Session Meeting
DESCRIPTION:Click Here for agenda and minutes.
URL:https://bessemercity.com/calendar/city-council-work-session/2027-12-28/
LOCATION:City Council Chambers\, 132 W. Virginia Ave.\, Bessemer City\, NC\, 28016\, United States
END:VEVENT
BEGIN:VEVENT
DTSTART;TZID=America/New_York:20271228T190000
DTEND;TZID=America/New_York:20271228T203000
DTSTAMP:20260423T075229
CREATED:20250723T132835Z
LAST-MODIFIED:20250723T132835Z
UID:10000277-1830020400-1830025800@bessemercity.com
SUMMARY:Downtown Development Board
DESCRIPTION:
URL:https://bessemercity.com/calendar/downtown-development-board/2027-12-28/
LOCATION:City Council Chambers\, 132 W. Virginia Ave.\, Bessemer City\, NC\, 28016\, United States
END:VEVENT
BEGIN:VEVENT
DTSTART;TZID=America/New_York:20280103T113000
DTEND;TZID=America/New_York:20280103T123000
DTSTAMP:20260423T075229
CREATED:20251030T201958Z
LAST-MODIFIED:20260127T164546Z
UID:10001071-1830511800-1830515400@bessemercity.com
SUMMARY:Veteran's Lunch
DESCRIPTION:
URL:https://bessemercity.com/calendar/veterans-lunch/2028-01-03/
LOCATION:Allan Farris Community Center\, 220 South 14th Street\, Bessemer City\, NC\, 28016\, United States
CATEGORIES:Senior Event
END:VEVENT
BEGIN:VEVENT
DTSTART;TZID=America/New_York:20280103T180000
DTEND;TZID=America/New_York:20280103T190000
DTSTAMP:20260423T075229
CREATED:20241002T132100Z
LAST-MODIFIED:20250723T132316Z
UID:10000097-1830535200-1830538800@bessemercity.com
SUMMARY:Planning & Zoning Board of Adjustment Meeting
DESCRIPTION:
URL:https://bessemercity.com/calendar/planning-zoning-board-of-adjustment-meeting/2028-01-03/
LOCATION:City Council Chambers\, 132 W. Virginia Ave.\, Bessemer City\, NC\, 28016\, United States
ORGANIZER;CN="City of Bessemer City":MAILTO:hhayes@bessemercity.com
END:VEVENT
BEGIN:VEVENT
DTSTART;TZID=America/New_York:20280104T090000
DTEND;TZID=America/New_York:20280104T100000
DTSTAMP:20260423T075230
CREATED:20251030T201445Z
LAST-MODIFIED:20251030T201445Z
UID:10000830-1830589200-1830592800@bessemercity.com
SUMMARY:Aerobics/Silver Sneakers/Chair Yoga
DESCRIPTION:
URL:https://bessemercity.com/calendar/aerobics-silver-sneakers-chair-yoga/2028-01-04/
LOCATION:Kiser Senior Center\, 123 W Pennsylvania Avenue\, Bessemer City\, NC\, 28016\, United States
CATEGORIES:Senior Event
END:VEVENT
BEGIN:VEVENT
DTSTART;VALUE=DATE:20280110
DTEND;VALUE=DATE:20280111
DTSTAMP:20260423T075230
CREATED:20250724T022327Z
LAST-MODIFIED:20250724T022327Z
UID:10000518-1831075200-1831161599@bessemercity.com
SUMMARY:City Utility Bill Due
DESCRIPTION:Bill Pay Options
URL:https://bessemercity.com/calendar/city-utility-bill-due/2028-01-10/
END:VEVENT
BEGIN:VEVENT
DTSTART;TZID=America/New_York:20280110T190000
DTEND;TZID=America/New_York:20280110T210000
DTSTAMP:20260423T075230
CREATED:20241002T173040Z
LAST-MODIFIED:20250723T135446Z
UID:10000037-1831143600-1831150800@bessemercity.com
SUMMARY:City Council Regular Meeting
DESCRIPTION:Click Here for agendas\, minutes\, and live recordings of meetings!
URL:https://bessemercity.com/calendar/city-council-regular-meeting/2028-01-10/
LOCATION:City Council Chambers\, 132 W. Virginia Ave.\, Bessemer City\, NC\, 28016\, United States
CATEGORIES:City Council,Community Events
END:VEVENT
BEGIN:VEVENT
DTSTART;TZID=America/New_York:20280111T090000
DTEND;TZID=America/New_York:20280111T100000
DTSTAMP:20260423T075230
CREATED:20251030T201445Z
LAST-MODIFIED:20251030T201445Z
UID:10000831-1831194000-1831197600@bessemercity.com
SUMMARY:Aerobics/Silver Sneakers/Chair Yoga
DESCRIPTION:
URL:https://bessemercity.com/calendar/aerobics-silver-sneakers-chair-yoga/2028-01-11/
LOCATION:Kiser Senior Center\, 123 W Pennsylvania Avenue\, Bessemer City\, NC\, 28016\, United States
CATEGORIES:Senior Event
END:VEVENT
BEGIN:VEVENT
DTSTART;TZID=America/New_York:20280111T180000
DTEND;TZID=America/New_York:20280111T190000
DTSTAMP:20260423T075230
CREATED:20250723T132707Z
LAST-MODIFIED:20250723T133044Z
UID:10000337-1831226400-1831230000@bessemercity.com
SUMMARY:Parks and Recreation Board
DESCRIPTION:
URL:https://bessemercity.com/calendar/parks-and-recreation-board/2028-01-11/
LOCATION:Allan Farris Community Center\, 220 South 14th Street\, Bessemer City\, NC\, 28016\, United States
END:VEVENT
BEGIN:VEVENT
DTSTART;TZID=America/New_York:20280114T090000
DTEND;TZID=America/New_York:20280114T100000
DTSTAMP:20260423T075230
CREATED:20251030T201848Z
LAST-MODIFIED:20260127T164333Z
UID:10001011-1831453200-1831456800@bessemercity.com
SUMMARY:Men's Breakfast
DESCRIPTION:
URL:https://bessemercity.com/calendar/mens-breakfast/2028-01-14/
CATEGORIES:Senior Event
END:VEVENT
BEGIN:VEVENT
DTSTART;TZID=America/New_York:20280117T180000
DTEND;TZID=America/New_York:20280117T193000
DTSTAMP:20260423T075230
CREATED:20250730T211720Z
LAST-MODIFIED:20250730T211951Z
UID:10000649-1831744800-1831750200@bessemercity.com
SUMMARY:Senior Bingo
DESCRIPTION:
URL:https://bessemercity.com/calendar/senior-bingo-3/2028-01-17/
LOCATION:Allan Farris Community Center\, 220 South 14th Street\, Bessemer City\, NC\, 28016\, United States
END:VEVENT
END:VCALENDAR