BEGIN:VCALENDAR
VERSION:2.0
PRODID:-//Bessemer City, NC - ECPv6.15.20//NONSGML v1.0//EN
CALSCALE:GREGORIAN
METHOD:PUBLISH
X-ORIGINAL-URL:https://bessemercity.com
X-WR-CALDESC:Events for Bessemer City, NC
REFRESH-INTERVAL;VALUE=DURATION:PT1H
X-Robots-Tag:noindex
X-PUBLISHED-TTL:PT1H
BEGIN:VTIMEZONE
TZID:America/New_York
BEGIN:DAYLIGHT
TZOFFSETFROM:-0500
TZOFFSETTO:-0400
TZNAME:EDT
DTSTART:20280312T070000
END:DAYLIGHT
BEGIN:STANDARD
TZOFFSETFROM:-0400
TZOFFSETTO:-0500
TZNAME:EST
DTSTART:20281105T060000
END:STANDARD
BEGIN:DAYLIGHT
TZOFFSETFROM:-0500
TZOFFSETTO:-0400
TZNAME:EDT
DTSTART:20290311T070000
END:DAYLIGHT
BEGIN:STANDARD
TZOFFSETFROM:-0400
TZOFFSETTO:-0500
TZNAME:EST
DTSTART:20291104T060000
END:STANDARD
BEGIN:DAYLIGHT
TZOFFSETFROM:-0500
TZOFFSETTO:-0400
TZNAME:EDT
DTSTART:20300310T070000
END:DAYLIGHT
BEGIN:STANDARD
TZOFFSETFROM:-0400
TZOFFSETTO:-0500
TZNAME:EST
DTSTART:20301103T060000
END:STANDARD
BEGIN:DAYLIGHT
TZOFFSETFROM:-0500
TZOFFSETTO:-0400
TZNAME:EDT
DTSTART:20310309T070000
END:DAYLIGHT
BEGIN:STANDARD
TZOFFSETFROM:-0400
TZOFFSETTO:-0500
TZNAME:EST
DTSTART:20311102T060000
END:STANDARD
END:VTIMEZONE
BEGIN:VEVENT
DTSTART;TZID=America/New_York:20291214T090000
DTEND;TZID=America/New_York:20291214T100000
DTSTAMP:20260425T105625
CREATED:20251030T201848Z
LAST-MODIFIED:20260127T164333Z
UID:10001034-1891933200-1891936800@bessemercity.com
SUMMARY:Men's Breakfast
DESCRIPTION:
URL:https://bessemercity.com/calendar/mens-breakfast/2029-12-14/
LOCATION:NC
CATEGORIES:Senior Event
END:VEVENT
BEGIN:VEVENT
DTSTART;TZID=America/New_York:20291217T180000
DTEND;TZID=America/New_York:20291217T193000
DTSTAMP:20260425T105625
CREATED:20250730T211720Z
LAST-MODIFIED:20250730T211951Z
UID:10000664-1892224800-1892230200@bessemercity.com
SUMMARY:Senior Bingo
DESCRIPTION:
URL:https://bessemercity.com/calendar/senior-bingo-3/2029-12-17/
LOCATION:Allan Farris Community Center\, 220 South 14th Street\, Bessemer City\, NC\, 28016\, United States
END:VEVENT
BEGIN:VEVENT
DTSTART;TZID=America/New_York:20291218T090000
DTEND;TZID=America/New_York:20291218T100000
DTSTAMP:20260425T105625
CREATED:20251030T201445Z
LAST-MODIFIED:20251030T201445Z
UID:10000932-1892278800-1892282400@bessemercity.com
SUMMARY:Aerobics/Silver Sneakers/Chair Yoga
DESCRIPTION:
URL:https://bessemercity.com/calendar/aerobics-silver-sneakers-chair-yoga/2029-12-18/
LOCATION:Kiser Senior Center\, 123 W Pennsylvania Avenue\, Bessemer City\, NC\, 28016\, United States
CATEGORIES:Senior Event
END:VEVENT
BEGIN:VEVENT
DTSTART;TZID=America/New_York:20291224T170000
DTEND;TZID=America/New_York:20291224T180000
DTSTAMP:20260425T105625
CREATED:20250908T223959Z
LAST-MODIFIED:20250908T223959Z
UID:10000705-1892826000-1892829600@bessemercity.com
SUMMARY:ABC Board Meeting
DESCRIPTION:
URL:https://bessemercity.com/calendar/abc-board-meeting-2/2029-12-24/
LOCATION:ABC Store\, 208 W. Alabama Ave.\, Bessemer City\, NC\, 28016\, United States
END:VEVENT
BEGIN:VEVENT
DTSTART;TZID=America/New_York:20291225T090000
DTEND;TZID=America/New_York:20291225T100000
DTSTAMP:20260425T105625
CREATED:20251030T201445Z
LAST-MODIFIED:20251030T201445Z
UID:10000933-1892883600-1892887200@bessemercity.com
SUMMARY:Aerobics/Silver Sneakers/Chair Yoga
DESCRIPTION:
URL:https://bessemercity.com/calendar/aerobics-silver-sneakers-chair-yoga/2029-12-25/
LOCATION:Kiser Senior Center\, 123 W Pennsylvania Avenue\, Bessemer City\, NC\, 28016\, United States
CATEGORIES:Senior Event
END:VEVENT
BEGIN:VEVENT
DTSTART;TZID=America/New_York:20291225T150000
DTEND;TZID=America/New_York:20291225T170000
DTSTAMP:20260425T105625
CREATED:20250723T133813Z
LAST-MODIFIED:20250723T163502Z
UID:10000421-1892905200-1892912400@bessemercity.com
SUMMARY:City Council Work Session Meeting
DESCRIPTION:Click Here for agenda and minutes.
URL:https://bessemercity.com/calendar/city-council-work-session/2029-12-25/
LOCATION:City Council Chambers\, 132 W. Virginia Ave.\, Bessemer City\, NC\, 28016\, United States
END:VEVENT
BEGIN:VEVENT
DTSTART;TZID=America/New_York:20291225T190000
DTEND;TZID=America/New_York:20291225T203000
DTSTAMP:20260425T105625
CREATED:20250723T132835Z
LAST-MODIFIED:20250723T132835Z
UID:10000301-1892919600-1892925000@bessemercity.com
SUMMARY:Downtown Development Board
DESCRIPTION:
URL:https://bessemercity.com/calendar/downtown-development-board/2029-12-25/
LOCATION:City Council Chambers\, 132 W. Virginia Ave.\, Bessemer City\, NC\, 28016\, United States
END:VEVENT
BEGIN:VEVENT
DTSTART;TZID=America/New_York:20300101T090000
DTEND;TZID=America/New_York:20300101T100000
DTSTAMP:20260425T105625
CREATED:20251030T201445Z
LAST-MODIFIED:20251030T201445Z
UID:10000934-1893488400-1893492000@bessemercity.com
SUMMARY:Aerobics/Silver Sneakers/Chair Yoga
DESCRIPTION:
URL:https://bessemercity.com/calendar/aerobics-silver-sneakers-chair-yoga/2030-01-01/
LOCATION:Kiser Senior Center\, 123 W Pennsylvania Avenue\, Bessemer City\, NC\, 28016\, United States
CATEGORIES:Senior Event
END:VEVENT
BEGIN:VEVENT
DTSTART;TZID=America/New_York:20300107T113000
DTEND;TZID=America/New_York:20300107T123000
DTSTAMP:20260425T105625
CREATED:20251030T201958Z
LAST-MODIFIED:20260127T164546Z
UID:10001095-1894015800-1894019400@bessemercity.com
SUMMARY:Veteran's Lunch
DESCRIPTION:
URL:https://bessemercity.com/calendar/veterans-lunch/2030-01-07/
LOCATION:Allan Farris Community Center\, 220 South 14th Street\, Bessemer City\, NC\, 28016\, United States
CATEGORIES:Senior Event
END:VEVENT
BEGIN:VEVENT
DTSTART;TZID=America/New_York:20300107T180000
DTEND;TZID=America/New_York:20300107T190000
DTSTAMP:20260425T105625
CREATED:20241002T132100Z
LAST-MODIFIED:20250723T132316Z
UID:10000121-1894039200-1894042800@bessemercity.com
SUMMARY:Planning & Zoning Board of Adjustment Meeting
DESCRIPTION:
URL:https://bessemercity.com/calendar/planning-zoning-board-of-adjustment-meeting/2030-01-07/
LOCATION:City Council Chambers\, 132 W. Virginia Ave.\, Bessemer City\, NC\, 28016\, United States
ORGANIZER;CN="City of Bessemer City":MAILTO:hhayes@bessemercity.com
END:VEVENT
BEGIN:VEVENT
DTSTART;TZID=America/New_York:20300108T090000
DTEND;TZID=America/New_York:20300108T100000
DTSTAMP:20260425T105625
CREATED:20251030T201445Z
LAST-MODIFIED:20251030T201445Z
UID:10000935-1894093200-1894096800@bessemercity.com
SUMMARY:Aerobics/Silver Sneakers/Chair Yoga
DESCRIPTION:
URL:https://bessemercity.com/calendar/aerobics-silver-sneakers-chair-yoga/2030-01-08/
LOCATION:Kiser Senior Center\, 123 W Pennsylvania Avenue\, Bessemer City\, NC\, 28016\, United States
CATEGORIES:Senior Event
END:VEVENT
BEGIN:VEVENT
DTSTART;TZID=America/New_York:20300108T180000
DTEND;TZID=America/New_York:20300108T190000
DTSTAMP:20260425T105625
CREATED:20250723T132707Z
LAST-MODIFIED:20250723T133044Z
UID:10000361-1894125600-1894129200@bessemercity.com
SUMMARY:Parks and Recreation Board
DESCRIPTION:
URL:https://bessemercity.com/calendar/parks-and-recreation-board/2030-01-08/
LOCATION:Allan Farris Community Center\, 220 South 14th Street\, Bessemer City\, NC\, 28016\, United States
END:VEVENT
BEGIN:VEVENT
DTSTART;VALUE=DATE:20300110
DTEND;VALUE=DATE:20300111
DTSTAMP:20260425T105625
CREATED:20250724T022327Z
LAST-MODIFIED:20250724T022327Z
UID:10000542-1894233600-1894319999@bessemercity.com
SUMMARY:City Utility Bill Due
DESCRIPTION:Bill Pay Options
URL:https://bessemercity.com/calendar/city-utility-bill-due/2030-01-10/
LOCATION:NC
END:VEVENT
BEGIN:VEVENT
DTSTART;TZID=America/New_York:20300111T090000
DTEND;TZID=America/New_York:20300111T100000
DTSTAMP:20260425T105625
CREATED:20251030T201848Z
LAST-MODIFIED:20260127T164333Z
UID:10001035-1894352400-1894356000@bessemercity.com
SUMMARY:Men's Breakfast
DESCRIPTION:
URL:https://bessemercity.com/calendar/mens-breakfast/2030-01-11/
LOCATION:NC
CATEGORIES:Senior Event
END:VEVENT
BEGIN:VEVENT
DTSTART;TZID=America/New_York:20300114T190000
DTEND;TZID=America/New_York:20300114T210000
DTSTAMP:20260425T105625
CREATED:20241002T173040Z
LAST-MODIFIED:20250723T135446Z
UID:10000061-1894647600-1894654800@bessemercity.com
SUMMARY:City Council Regular Meeting
DESCRIPTION:Click Here for agendas\, minutes\, and live recordings of meetings!
URL:https://bessemercity.com/calendar/city-council-regular-meeting/2030-01-14/
LOCATION:City Council Chambers\, 132 W. Virginia Ave.\, Bessemer City\, NC\, 28016\, United States
CATEGORIES:City Council,Community Events
END:VEVENT
BEGIN:VEVENT
DTSTART;TZID=America/New_York:20300115T090000
DTEND;TZID=America/New_York:20300115T100000
DTSTAMP:20260425T105625
CREATED:20251030T201445Z
LAST-MODIFIED:20251030T201445Z
UID:10000936-1894698000-1894701600@bessemercity.com
SUMMARY:Aerobics/Silver Sneakers/Chair Yoga
DESCRIPTION:
URL:https://bessemercity.com/calendar/aerobics-silver-sneakers-chair-yoga/2030-01-15/
LOCATION:Kiser Senior Center\, 123 W Pennsylvania Avenue\, Bessemer City\, NC\, 28016\, United States
CATEGORIES:Senior Event
END:VEVENT
BEGIN:VEVENT
DTSTART;TZID=America/New_York:20300121T180000
DTEND;TZID=America/New_York:20300121T193000
DTSTAMP:20260425T105625
CREATED:20250730T211720Z
LAST-MODIFIED:20250730T211951Z
UID:10000665-1895248800-1895254200@bessemercity.com
SUMMARY:Senior Bingo
DESCRIPTION:
URL:https://bessemercity.com/calendar/senior-bingo-3/2030-01-21/
LOCATION:Allan Farris Community Center\, 220 South 14th Street\, Bessemer City\, NC\, 28016\, United States
END:VEVENT
BEGIN:VEVENT
DTSTART;TZID=America/New_York:20300122T090000
DTEND;TZID=America/New_York:20300122T100000
DTSTAMP:20260425T105625
CREATED:20251030T201445Z
LAST-MODIFIED:20251030T201445Z
UID:10000937-1895302800-1895306400@bessemercity.com
SUMMARY:Aerobics/Silver Sneakers/Chair Yoga
DESCRIPTION:
URL:https://bessemercity.com/calendar/aerobics-silver-sneakers-chair-yoga/2030-01-22/
LOCATION:Kiser Senior Center\, 123 W Pennsylvania Avenue\, Bessemer City\, NC\, 28016\, United States
CATEGORIES:Senior Event
END:VEVENT
BEGIN:VEVENT
DTSTART;TZID=America/New_York:20300128T170000
DTEND;TZID=America/New_York:20300128T180000
DTSTAMP:20260425T105625
CREATED:20250908T223959Z
LAST-MODIFIED:20250908T223959Z
UID:10000482-1895850000-1895853600@bessemercity.com
SUMMARY:ABC Board Meeting
DESCRIPTION:
URL:https://bessemercity.com/calendar/abc-board-meeting-2/2030-01-28/
LOCATION:ABC Store\, 208 W. Alabama Ave.\, Bessemer City\, NC\, 28016\, United States
END:VEVENT
BEGIN:VEVENT
DTSTART;TZID=America/New_York:20300129T090000
DTEND;TZID=America/New_York:20300129T100000
DTSTAMP:20260425T105625
CREATED:20251030T201445Z
LAST-MODIFIED:20251030T201445Z
UID:10000938-1895907600-1895911200@bessemercity.com
SUMMARY:Aerobics/Silver Sneakers/Chair Yoga
DESCRIPTION:
URL:https://bessemercity.com/calendar/aerobics-silver-sneakers-chair-yoga/2030-01-29/
LOCATION:Kiser Senior Center\, 123 W Pennsylvania Avenue\, Bessemer City\, NC\, 28016\, United States
CATEGORIES:Senior Event
END:VEVENT
BEGIN:VEVENT
DTSTART;TZID=America/New_York:20300129T150000
DTEND;TZID=America/New_York:20300129T170000
DTSTAMP:20260425T105625
CREATED:20250723T133813Z
LAST-MODIFIED:20250723T163502Z
UID:10000422-1895929200-1895936400@bessemercity.com
SUMMARY:City Council Work Session Meeting
DESCRIPTION:Click Here for agenda and minutes.
URL:https://bessemercity.com/calendar/city-council-work-session/2030-01-29/
LOCATION:City Council Chambers\, 132 W. Virginia Ave.\, Bessemer City\, NC\, 28016\, United States
END:VEVENT
BEGIN:VEVENT
DTSTART;TZID=America/New_York:20300129T190000
DTEND;TZID=America/New_York:20300129T203000
DTSTAMP:20260425T105625
CREATED:20250723T132835Z
LAST-MODIFIED:20250723T132835Z
UID:10000302-1895943600-1895949000@bessemercity.com
SUMMARY:Downtown Development Board
DESCRIPTION:
URL:https://bessemercity.com/calendar/downtown-development-board/2030-01-29/
LOCATION:City Council Chambers\, 132 W. Virginia Ave.\, Bessemer City\, NC\, 28016\, United States
END:VEVENT
BEGIN:VEVENT
DTSTART;TZID=America/New_York:20300204T113000
DTEND;TZID=America/New_York:20300204T123000
DTSTAMP:20260425T105625
CREATED:20251030T201958Z
LAST-MODIFIED:20260127T164546Z
UID:10001096-1896435000-1896438600@bessemercity.com
SUMMARY:Veteran's Lunch
DESCRIPTION:
URL:https://bessemercity.com/calendar/veterans-lunch/2030-02-04/
LOCATION:Allan Farris Community Center\, 220 South 14th Street\, Bessemer City\, NC\, 28016\, United States
CATEGORIES:Senior Event
END:VEVENT
BEGIN:VEVENT
DTSTART;TZID=America/New_York:20300204T180000
DTEND;TZID=America/New_York:20300204T190000
DTSTAMP:20260425T105625
CREATED:20241002T132100Z
LAST-MODIFIED:20250723T132316Z
UID:10000122-1896458400-1896462000@bessemercity.com
SUMMARY:Planning & Zoning Board of Adjustment Meeting
DESCRIPTION:
URL:https://bessemercity.com/calendar/planning-zoning-board-of-adjustment-meeting/2030-02-04/
LOCATION:City Council Chambers\, 132 W. Virginia Ave.\, Bessemer City\, NC\, 28016\, United States
ORGANIZER;CN="City of Bessemer City":MAILTO:hhayes@bessemercity.com
END:VEVENT
BEGIN:VEVENT
DTSTART;TZID=America/New_York:20300205T090000
DTEND;TZID=America/New_York:20300205T100000
DTSTAMP:20260425T105625
CREATED:20251030T201445Z
LAST-MODIFIED:20251030T201445Z
UID:10000939-1896512400-1896516000@bessemercity.com
SUMMARY:Aerobics/Silver Sneakers/Chair Yoga
DESCRIPTION:
URL:https://bessemercity.com/calendar/aerobics-silver-sneakers-chair-yoga/2030-02-05/
LOCATION:Kiser Senior Center\, 123 W Pennsylvania Avenue\, Bessemer City\, NC\, 28016\, United States
CATEGORIES:Senior Event
END:VEVENT
BEGIN:VEVENT
DTSTART;TZID=America/New_York:20300208T090000
DTEND;TZID=America/New_York:20300208T100000
DTSTAMP:20260425T105625
CREATED:20251030T201848Z
LAST-MODIFIED:20260127T164333Z
UID:10001036-1896771600-1896775200@bessemercity.com
SUMMARY:Men's Breakfast
DESCRIPTION:
URL:https://bessemercity.com/calendar/mens-breakfast/2030-02-08/
LOCATION:NC
CATEGORIES:Senior Event
END:VEVENT
BEGIN:VEVENT
DTSTART;VALUE=DATE:20300210
DTEND;VALUE=DATE:20300211
DTSTAMP:20260425T105625
CREATED:20250724T022327Z
LAST-MODIFIED:20250724T022327Z
UID:10000543-1896912000-1896998399@bessemercity.com
SUMMARY:City Utility Bill Due
DESCRIPTION:Bill Pay Options
URL:https://bessemercity.com/calendar/city-utility-bill-due/2030-02-10/
LOCATION:NC
END:VEVENT
BEGIN:VEVENT
DTSTART;TZID=America/New_York:20300211T190000
DTEND;TZID=America/New_York:20300211T210000
DTSTAMP:20260425T105625
CREATED:20241002T173040Z
LAST-MODIFIED:20250723T135446Z
UID:10000062-1897066800-1897074000@bessemercity.com
SUMMARY:City Council Regular Meeting
DESCRIPTION:Click Here for agendas\, minutes\, and live recordings of meetings!
URL:https://bessemercity.com/calendar/city-council-regular-meeting/2030-02-11/
LOCATION:City Council Chambers\, 132 W. Virginia Ave.\, Bessemer City\, NC\, 28016\, United States
CATEGORIES:City Council,Community Events
END:VEVENT
BEGIN:VEVENT
DTSTART;TZID=America/New_York:20300212T090000
DTEND;TZID=America/New_York:20300212T100000
DTSTAMP:20260425T105625
CREATED:20251030T201445Z
LAST-MODIFIED:20251030T201445Z
UID:10000940-1897117200-1897120800@bessemercity.com
SUMMARY:Aerobics/Silver Sneakers/Chair Yoga
DESCRIPTION:
URL:https://bessemercity.com/calendar/aerobics-silver-sneakers-chair-yoga/2030-02-12/
LOCATION:Kiser Senior Center\, 123 W Pennsylvania Avenue\, Bessemer City\, NC\, 28016\, United States
CATEGORIES:Senior Event
END:VEVENT
BEGIN:VEVENT
DTSTART;TZID=America/New_York:20300212T180000
DTEND;TZID=America/New_York:20300212T190000
DTSTAMP:20260425T105625
CREATED:20250723T132707Z
LAST-MODIFIED:20250723T133044Z
UID:10000362-1897149600-1897153200@bessemercity.com
SUMMARY:Parks and Recreation Board
DESCRIPTION:
URL:https://bessemercity.com/calendar/parks-and-recreation-board/2030-02-12/
LOCATION:Allan Farris Community Center\, 220 South 14th Street\, Bessemer City\, NC\, 28016\, United States
END:VEVENT
END:VCALENDAR