BEGIN:VCALENDAR
VERSION:2.0
PRODID:-//Bessemer City, NC - ECPv6.15.20//NONSGML v1.0//EN
CALSCALE:GREGORIAN
METHOD:PUBLISH
X-WR-CALNAME:Bessemer City, NC
X-ORIGINAL-URL:https://bessemercity.com
X-WR-CALDESC:Events for Bessemer City, NC
REFRESH-INTERVAL;VALUE=DURATION:PT1H
X-Robots-Tag:noindex
X-PUBLISHED-TTL:PT1H
BEGIN:VTIMEZONE
TZID:America/New_York
BEGIN:DAYLIGHT
TZOFFSETFROM:-0500
TZOFFSETTO:-0400
TZNAME:EDT
DTSTART:20280312T070000
END:DAYLIGHT
BEGIN:STANDARD
TZOFFSETFROM:-0400
TZOFFSETTO:-0500
TZNAME:EST
DTSTART:20281105T060000
END:STANDARD
BEGIN:DAYLIGHT
TZOFFSETFROM:-0500
TZOFFSETTO:-0400
TZNAME:EDT
DTSTART:20290311T070000
END:DAYLIGHT
BEGIN:STANDARD
TZOFFSETFROM:-0400
TZOFFSETTO:-0500
TZNAME:EST
DTSTART:20291104T060000
END:STANDARD
BEGIN:DAYLIGHT
TZOFFSETFROM:-0500
TZOFFSETTO:-0400
TZNAME:EDT
DTSTART:20300310T070000
END:DAYLIGHT
BEGIN:STANDARD
TZOFFSETFROM:-0400
TZOFFSETTO:-0500
TZNAME:EST
DTSTART:20301103T060000
END:STANDARD
END:VTIMEZONE
BEGIN:VEVENT
DTSTART;TZID=America/New_York:20290528T170000
DTEND;TZID=America/New_York:20290528T180000
DTSTAMP:20260424T114606
CREATED:20250908T223959Z
LAST-MODIFIED:20250908T223959Z
UID:10000474-1874682000-1874685600@bessemercity.com
SUMMARY:ABC Board Meeting
DESCRIPTION:
URL:https://bessemercity.com/calendar/abc-board-meeting-2/2029-05-28/
LOCATION:ABC Store\, 208 W. Alabama Ave.\, Bessemer City\, NC\, 28016\, United States
END:VEVENT
BEGIN:VEVENT
DTSTART;TZID=America/New_York:20290529T090000
DTEND;TZID=America/New_York:20290529T100000
DTSTAMP:20260424T114606
CREATED:20251030T201445Z
LAST-MODIFIED:20251030T201445Z
UID:10000903-1874739600-1874743200@bessemercity.com
SUMMARY:Aerobics/Silver Sneakers/Chair Yoga
DESCRIPTION:
URL:https://bessemercity.com/calendar/aerobics-silver-sneakers-chair-yoga/2029-05-29/
LOCATION:Kiser Senior Center\, 123 W Pennsylvania Avenue\, Bessemer City\, NC\, 28016\, United States
CATEGORIES:Senior Event
END:VEVENT
BEGIN:VEVENT
DTSTART;TZID=America/New_York:20290529T150000
DTEND;TZID=America/New_York:20290529T170000
DTSTAMP:20260424T114606
CREATED:20250723T133813Z
LAST-MODIFIED:20250723T163502Z
UID:10000414-1874761200-1874768400@bessemercity.com
SUMMARY:City Council Work Session Meeting
DESCRIPTION:Click Here for agenda and minutes.
URL:https://bessemercity.com/calendar/city-council-work-session/2029-05-29/
LOCATION:City Council Chambers\, 132 W. Virginia Ave.\, Bessemer City\, NC\, 28016\, United States
END:VEVENT
BEGIN:VEVENT
DTSTART;TZID=America/New_York:20290529T190000
DTEND;TZID=America/New_York:20290529T203000
DTSTAMP:20260424T114606
CREATED:20250723T132835Z
LAST-MODIFIED:20250723T132835Z
UID:10000294-1874775600-1874781000@bessemercity.com
SUMMARY:Downtown Development Board
DESCRIPTION:
URL:https://bessemercity.com/calendar/downtown-development-board/2029-05-29/
LOCATION:City Council Chambers\, 132 W. Virginia Ave.\, Bessemer City\, NC\, 28016\, United States
END:VEVENT
BEGIN:VEVENT
DTSTART;TZID=America/New_York:20290604T113000
DTEND;TZID=America/New_York:20290604T123000
DTSTAMP:20260424T114606
CREATED:20251030T201958Z
LAST-MODIFIED:20260127T164546Z
UID:10001088-1875267000-1875270600@bessemercity.com
SUMMARY:Veteran's Lunch
DESCRIPTION:
URL:https://bessemercity.com/calendar/veterans-lunch/2029-06-04/
LOCATION:Allan Farris Community Center\, 220 South 14th Street\, Bessemer City\, NC\, 28016\, United States
CATEGORIES:Senior Event
END:VEVENT
BEGIN:VEVENT
DTSTART;TZID=America/New_York:20290604T180000
DTEND;TZID=America/New_York:20290604T190000
DTSTAMP:20260424T114606
CREATED:20241002T132100Z
LAST-MODIFIED:20250723T132316Z
UID:10000114-1875290400-1875294000@bessemercity.com
SUMMARY:Planning & Zoning Board of Adjustment Meeting
DESCRIPTION:
URL:https://bessemercity.com/calendar/planning-zoning-board-of-adjustment-meeting/2029-06-04/
LOCATION:City Council Chambers\, 132 W. Virginia Ave.\, Bessemer City\, NC\, 28016\, United States
ORGANIZER;CN="City of Bessemer City":MAILTO:hhayes@bessemercity.com
END:VEVENT
BEGIN:VEVENT
DTSTART;TZID=America/New_York:20290605T090000
DTEND;TZID=America/New_York:20290605T100000
DTSTAMP:20260424T114606
CREATED:20251030T201445Z
LAST-MODIFIED:20251030T201445Z
UID:10000904-1875344400-1875348000@bessemercity.com
SUMMARY:Aerobics/Silver Sneakers/Chair Yoga
DESCRIPTION:
URL:https://bessemercity.com/calendar/aerobics-silver-sneakers-chair-yoga/2029-06-05/
LOCATION:Kiser Senior Center\, 123 W Pennsylvania Avenue\, Bessemer City\, NC\, 28016\, United States
CATEGORIES:Senior Event
END:VEVENT
BEGIN:VEVENT
DTSTART;TZID=America/New_York:20290608T090000
DTEND;TZID=America/New_York:20290608T100000
DTSTAMP:20260424T114606
CREATED:20251030T201848Z
LAST-MODIFIED:20260127T164333Z
UID:10001028-1875603600-1875607200@bessemercity.com
SUMMARY:Men's Breakfast
DESCRIPTION:
URL:https://bessemercity.com/calendar/mens-breakfast/2029-06-08/
CATEGORIES:Senior Event
END:VEVENT
BEGIN:VEVENT
DTSTART;VALUE=DATE:20290610
DTEND;VALUE=DATE:20290611
DTSTAMP:20260424T114606
CREATED:20250724T022327Z
LAST-MODIFIED:20250724T022327Z
UID:10000535-1875744000-1875830399@bessemercity.com
SUMMARY:City Utility Bill Due
DESCRIPTION:Bill Pay Options
URL:https://bessemercity.com/calendar/city-utility-bill-due/2029-06-10/
END:VEVENT
BEGIN:VEVENT
DTSTART;TZID=America/New_York:20290611T190000
DTEND;TZID=America/New_York:20290611T210000
DTSTAMP:20260424T114606
CREATED:20241002T173040Z
LAST-MODIFIED:20250723T135446Z
UID:10000054-1875898800-1875906000@bessemercity.com
SUMMARY:City Council Regular Meeting
DESCRIPTION:Click Here for agendas\, minutes\, and live recordings of meetings!
URL:https://bessemercity.com/calendar/city-council-regular-meeting/2029-06-11/
LOCATION:City Council Chambers\, 132 W. Virginia Ave.\, Bessemer City\, NC\, 28016\, United States
CATEGORIES:City Council,Community Events
END:VEVENT
BEGIN:VEVENT
DTSTART;TZID=America/New_York:20290612T090000
DTEND;TZID=America/New_York:20290612T100000
DTSTAMP:20260424T114606
CREATED:20251030T201445Z
LAST-MODIFIED:20251030T201445Z
UID:10000905-1875949200-1875952800@bessemercity.com
SUMMARY:Aerobics/Silver Sneakers/Chair Yoga
DESCRIPTION:
URL:https://bessemercity.com/calendar/aerobics-silver-sneakers-chair-yoga/2029-06-12/
LOCATION:Kiser Senior Center\, 123 W Pennsylvania Avenue\, Bessemer City\, NC\, 28016\, United States
CATEGORIES:Senior Event
END:VEVENT
BEGIN:VEVENT
DTSTART;TZID=America/New_York:20290612T180000
DTEND;TZID=America/New_York:20290612T190000
DTSTAMP:20260424T114606
CREATED:20250723T132707Z
LAST-MODIFIED:20250723T133044Z
UID:10000354-1875981600-1875985200@bessemercity.com
SUMMARY:Parks and Recreation Board
DESCRIPTION:
URL:https://bessemercity.com/calendar/parks-and-recreation-board/2029-06-12/
LOCATION:Allan Farris Community Center\, 220 South 14th Street\, Bessemer City\, NC\, 28016\, United States
END:VEVENT
BEGIN:VEVENT
DTSTART;TZID=America/New_York:20290618T180000
DTEND;TZID=America/New_York:20290618T193000
DTSTAMP:20260424T114606
CREATED:20250730T211720Z
LAST-MODIFIED:20250730T211951Z
UID:10000660-1876500000-1876505400@bessemercity.com
SUMMARY:Senior Bingo
DESCRIPTION:
URL:https://bessemercity.com/calendar/senior-bingo-3/2029-06-18/
LOCATION:Allan Farris Community Center\, 220 South 14th Street\, Bessemer City\, NC\, 28016\, United States
END:VEVENT
BEGIN:VEVENT
DTSTART;TZID=America/New_York:20290619T090000
DTEND;TZID=America/New_York:20290619T100000
DTSTAMP:20260424T114607
CREATED:20251030T201445Z
LAST-MODIFIED:20251030T201445Z
UID:10000906-1876554000-1876557600@bessemercity.com
SUMMARY:Aerobics/Silver Sneakers/Chair Yoga
DESCRIPTION:
URL:https://bessemercity.com/calendar/aerobics-silver-sneakers-chair-yoga/2029-06-19/
LOCATION:Kiser Senior Center\, 123 W Pennsylvania Avenue\, Bessemer City\, NC\, 28016\, United States
CATEGORIES:Senior Event
END:VEVENT
BEGIN:VEVENT
DTSTART;TZID=America/New_York:20290625T170000
DTEND;TZID=America/New_York:20290625T180000
DTSTAMP:20260424T114607
CREATED:20250908T223959Z
LAST-MODIFIED:20250908T223959Z
UID:10000475-1877101200-1877104800@bessemercity.com
SUMMARY:ABC Board Meeting
DESCRIPTION:
URL:https://bessemercity.com/calendar/abc-board-meeting-2/2029-06-25/
LOCATION:ABC Store\, 208 W. Alabama Ave.\, Bessemer City\, NC\, 28016\, United States
END:VEVENT
BEGIN:VEVENT
DTSTART;TZID=America/New_York:20290626T090000
DTEND;TZID=America/New_York:20290626T100000
DTSTAMP:20260424T114607
CREATED:20251030T201445Z
LAST-MODIFIED:20251030T201445Z
UID:10000907-1877158800-1877162400@bessemercity.com
SUMMARY:Aerobics/Silver Sneakers/Chair Yoga
DESCRIPTION:
URL:https://bessemercity.com/calendar/aerobics-silver-sneakers-chair-yoga/2029-06-26/
LOCATION:Kiser Senior Center\, 123 W Pennsylvania Avenue\, Bessemer City\, NC\, 28016\, United States
CATEGORIES:Senior Event
END:VEVENT
BEGIN:VEVENT
DTSTART;TZID=America/New_York:20290626T150000
DTEND;TZID=America/New_York:20290626T170000
DTSTAMP:20260424T114607
CREATED:20250723T133813Z
LAST-MODIFIED:20250723T163502Z
UID:10000415-1877180400-1877187600@bessemercity.com
SUMMARY:City Council Work Session Meeting
DESCRIPTION:Click Here for agenda and minutes.
URL:https://bessemercity.com/calendar/city-council-work-session/2029-06-26/
LOCATION:City Council Chambers\, 132 W. Virginia Ave.\, Bessemer City\, NC\, 28016\, United States
END:VEVENT
BEGIN:VEVENT
DTSTART;TZID=America/New_York:20290626T190000
DTEND;TZID=America/New_York:20290626T203000
DTSTAMP:20260424T114607
CREATED:20250723T132835Z
LAST-MODIFIED:20250723T132835Z
UID:10000295-1877194800-1877200200@bessemercity.com
SUMMARY:Downtown Development Board
DESCRIPTION:
URL:https://bessemercity.com/calendar/downtown-development-board/2029-06-26/
LOCATION:City Council Chambers\, 132 W. Virginia Ave.\, Bessemer City\, NC\, 28016\, United States
END:VEVENT
BEGIN:VEVENT
DTSTART;TZID=America/New_York:20290702T113000
DTEND;TZID=America/New_York:20290702T123000
DTSTAMP:20260424T114607
CREATED:20251030T201958Z
LAST-MODIFIED:20260127T164546Z
UID:10001089-1877686200-1877689800@bessemercity.com
SUMMARY:Veteran's Lunch
DESCRIPTION:
URL:https://bessemercity.com/calendar/veterans-lunch/2029-07-02/
LOCATION:Allan Farris Community Center\, 220 South 14th Street\, Bessemer City\, NC\, 28016\, United States
CATEGORIES:Senior Event
END:VEVENT
BEGIN:VEVENT
DTSTART;TZID=America/New_York:20290702T180000
DTEND;TZID=America/New_York:20290702T190000
DTSTAMP:20260424T114607
CREATED:20241002T132100Z
LAST-MODIFIED:20250723T132316Z
UID:10000115-1877709600-1877713200@bessemercity.com
SUMMARY:Planning & Zoning Board of Adjustment Meeting
DESCRIPTION:
URL:https://bessemercity.com/calendar/planning-zoning-board-of-adjustment-meeting/2029-07-02/
LOCATION:City Council Chambers\, 132 W. Virginia Ave.\, Bessemer City\, NC\, 28016\, United States
ORGANIZER;CN="City of Bessemer City":MAILTO:hhayes@bessemercity.com
END:VEVENT
BEGIN:VEVENT
DTSTART;TZID=America/New_York:20290703T090000
DTEND;TZID=America/New_York:20290703T100000
DTSTAMP:20260424T114607
CREATED:20251030T201445Z
LAST-MODIFIED:20251030T201445Z
UID:10000908-1877763600-1877767200@bessemercity.com
SUMMARY:Aerobics/Silver Sneakers/Chair Yoga
DESCRIPTION:
URL:https://bessemercity.com/calendar/aerobics-silver-sneakers-chair-yoga/2029-07-03/
LOCATION:Kiser Senior Center\, 123 W Pennsylvania Avenue\, Bessemer City\, NC\, 28016\, United States
CATEGORIES:Senior Event
END:VEVENT
BEGIN:VEVENT
DTSTART;TZID=America/New_York:20290709T190000
DTEND;TZID=America/New_York:20290709T210000
DTSTAMP:20260424T114607
CREATED:20241002T173040Z
LAST-MODIFIED:20250723T135446Z
UID:10000055-1878318000-1878325200@bessemercity.com
SUMMARY:City Council Regular Meeting
DESCRIPTION:Click Here for agendas\, minutes\, and live recordings of meetings!
URL:https://bessemercity.com/calendar/city-council-regular-meeting/2029-07-09/
LOCATION:City Council Chambers\, 132 W. Virginia Ave.\, Bessemer City\, NC\, 28016\, United States
CATEGORIES:City Council,Community Events
END:VEVENT
BEGIN:VEVENT
DTSTART;VALUE=DATE:20290710
DTEND;VALUE=DATE:20290711
DTSTAMP:20260424T114607
CREATED:20250724T022327Z
LAST-MODIFIED:20250724T022327Z
UID:10000536-1878336000-1878422399@bessemercity.com
SUMMARY:City Utility Bill Due
DESCRIPTION:Bill Pay Options
URL:https://bessemercity.com/calendar/city-utility-bill-due/2029-07-10/
END:VEVENT
BEGIN:VEVENT
DTSTART;TZID=America/New_York:20290710T090000
DTEND;TZID=America/New_York:20290710T100000
DTSTAMP:20260424T114607
CREATED:20251030T201445Z
LAST-MODIFIED:20251030T201445Z
UID:10000909-1878368400-1878372000@bessemercity.com
SUMMARY:Aerobics/Silver Sneakers/Chair Yoga
DESCRIPTION:
URL:https://bessemercity.com/calendar/aerobics-silver-sneakers-chair-yoga/2029-07-10/
LOCATION:Kiser Senior Center\, 123 W Pennsylvania Avenue\, Bessemer City\, NC\, 28016\, United States
CATEGORIES:Senior Event
END:VEVENT
BEGIN:VEVENT
DTSTART;TZID=America/New_York:20290710T180000
DTEND;TZID=America/New_York:20290710T190000
DTSTAMP:20260424T114607
CREATED:20250723T132707Z
LAST-MODIFIED:20250723T133044Z
UID:10000355-1878400800-1878404400@bessemercity.com
SUMMARY:Parks and Recreation Board
DESCRIPTION:
URL:https://bessemercity.com/calendar/parks-and-recreation-board/2029-07-10/
LOCATION:Allan Farris Community Center\, 220 South 14th Street\, Bessemer City\, NC\, 28016\, United States
END:VEVENT
BEGIN:VEVENT
DTSTART;TZID=America/New_York:20290713T090000
DTEND;TZID=America/New_York:20290713T100000
DTSTAMP:20260424T114607
CREATED:20251030T201848Z
LAST-MODIFIED:20260127T164333Z
UID:10001029-1878627600-1878631200@bessemercity.com
SUMMARY:Men's Breakfast
DESCRIPTION:
URL:https://bessemercity.com/calendar/mens-breakfast/2029-07-13/
CATEGORIES:Senior Event
END:VEVENT
BEGIN:VEVENT
DTSTART;TZID=America/New_York:20290716T180000
DTEND;TZID=America/New_York:20290716T193000
DTSTAMP:20260424T114607
CREATED:20250730T211720Z
LAST-MODIFIED:20250730T211951Z
UID:10000661-1878919200-1878924600@bessemercity.com
SUMMARY:Senior Bingo
DESCRIPTION:
URL:https://bessemercity.com/calendar/senior-bingo-3/2029-07-16/
LOCATION:Allan Farris Community Center\, 220 South 14th Street\, Bessemer City\, NC\, 28016\, United States
END:VEVENT
BEGIN:VEVENT
DTSTART;TZID=America/New_York:20290717T090000
DTEND;TZID=America/New_York:20290717T100000
DTSTAMP:20260424T114607
CREATED:20251030T201445Z
LAST-MODIFIED:20251030T201445Z
UID:10000910-1878973200-1878976800@bessemercity.com
SUMMARY:Aerobics/Silver Sneakers/Chair Yoga
DESCRIPTION:
URL:https://bessemercity.com/calendar/aerobics-silver-sneakers-chair-yoga/2029-07-17/
LOCATION:Kiser Senior Center\, 123 W Pennsylvania Avenue\, Bessemer City\, NC\, 28016\, United States
CATEGORIES:Senior Event
END:VEVENT
BEGIN:VEVENT
DTSTART;TZID=America/New_York:20290723T170000
DTEND;TZID=America/New_York:20290723T180000
DTSTAMP:20260424T114607
CREATED:20250908T223959Z
LAST-MODIFIED:20250908T223959Z
UID:10000703-1879520400-1879524000@bessemercity.com
SUMMARY:ABC Board Meeting
DESCRIPTION:
URL:https://bessemercity.com/calendar/abc-board-meeting-2/2029-07-23/
LOCATION:ABC Store\, 208 W. Alabama Ave.\, Bessemer City\, NC\, 28016\, United States
END:VEVENT
BEGIN:VEVENT
DTSTART;TZID=America/New_York:20290724T090000
DTEND;TZID=America/New_York:20290724T100000
DTSTAMP:20260424T114607
CREATED:20251030T201445Z
LAST-MODIFIED:20251030T201445Z
UID:10000911-1879578000-1879581600@bessemercity.com
SUMMARY:Aerobics/Silver Sneakers/Chair Yoga
DESCRIPTION:
URL:https://bessemercity.com/calendar/aerobics-silver-sneakers-chair-yoga/2029-07-24/
LOCATION:Kiser Senior Center\, 123 W Pennsylvania Avenue\, Bessemer City\, NC\, 28016\, United States
CATEGORIES:Senior Event
END:VEVENT
END:VCALENDAR