BEGIN:VCALENDAR
VERSION:2.0
PRODID:-//Bessemer City, NC - ECPv6.15.20//NONSGML v1.0//EN
CALSCALE:GREGORIAN
METHOD:PUBLISH
X-ORIGINAL-URL:https://bessemercity.com
X-WR-CALDESC:Events for Bessemer City, NC
REFRESH-INTERVAL;VALUE=DURATION:PT1H
X-Robots-Tag:noindex
X-PUBLISHED-TTL:PT1H
BEGIN:VTIMEZONE
TZID:America/New_York
BEGIN:DAYLIGHT
TZOFFSETFROM:-0500
TZOFFSETTO:-0400
TZNAME:EDT
DTSTART:20290311T070000
END:DAYLIGHT
BEGIN:STANDARD
TZOFFSETFROM:-0400
TZOFFSETTO:-0500
TZNAME:EST
DTSTART:20291104T060000
END:STANDARD
BEGIN:DAYLIGHT
TZOFFSETFROM:-0500
TZOFFSETTO:-0400
TZNAME:EDT
DTSTART:20300310T070000
END:DAYLIGHT
BEGIN:STANDARD
TZOFFSETFROM:-0400
TZOFFSETTO:-0500
TZNAME:EST
DTSTART:20301103T060000
END:STANDARD
BEGIN:DAYLIGHT
TZOFFSETFROM:-0500
TZOFFSETTO:-0400
TZNAME:EDT
DTSTART:20310309T070000
END:DAYLIGHT
BEGIN:STANDARD
TZOFFSETFROM:-0400
TZOFFSETTO:-0500
TZNAME:EST
DTSTART:20311102T060000
END:STANDARD
END:VTIMEZONE
BEGIN:VEVENT
DTSTART;TZID=America/New_York:20300225T170000
DTEND;TZID=America/New_York:20300225T180000
DTSTAMP:20260425T080907
CREATED:20250908T223959Z
LAST-MODIFIED:20250908T223959Z
UID:10000483-1898269200-1898272800@bessemercity.com
SUMMARY:ABC Board Meeting
DESCRIPTION:
URL:https://bessemercity.com/calendar/abc-board-meeting-2/2030-02-25/
LOCATION:ABC Store\, 208 W. Alabama Ave.\, Bessemer City\, NC\, 28016\, United States
END:VEVENT
BEGIN:VEVENT
DTSTART;TZID=America/New_York:20300226T090000
DTEND;TZID=America/New_York:20300226T100000
DTSTAMP:20260425T080907
CREATED:20251030T201445Z
LAST-MODIFIED:20251030T201445Z
UID:10000942-1898326800-1898330400@bessemercity.com
SUMMARY:Aerobics/Silver Sneakers/Chair Yoga
DESCRIPTION:
URL:https://bessemercity.com/calendar/aerobics-silver-sneakers-chair-yoga/2030-02-26/
LOCATION:Kiser Senior Center\, 123 W Pennsylvania Avenue\, Bessemer City\, NC\, 28016\, United States
CATEGORIES:Senior Event
END:VEVENT
BEGIN:VEVENT
DTSTART;TZID=America/New_York:20300226T150000
DTEND;TZID=America/New_York:20300226T170000
DTSTAMP:20260425T080907
CREATED:20250723T133813Z
LAST-MODIFIED:20250723T163502Z
UID:10000423-1898348400-1898355600@bessemercity.com
SUMMARY:City Council Work Session Meeting
DESCRIPTION:Click Here for agenda and minutes.
URL:https://bessemercity.com/calendar/city-council-work-session/2030-02-26/
LOCATION:City Council Chambers\, 132 W. Virginia Ave.\, Bessemer City\, NC\, 28016\, United States
END:VEVENT
BEGIN:VEVENT
DTSTART;TZID=America/New_York:20300226T190000
DTEND;TZID=America/New_York:20300226T203000
DTSTAMP:20260425T080907
CREATED:20250723T132835Z
LAST-MODIFIED:20250723T132835Z
UID:10000303-1898362800-1898368200@bessemercity.com
SUMMARY:Downtown Development Board
DESCRIPTION:
URL:https://bessemercity.com/calendar/downtown-development-board/2030-02-26/
LOCATION:City Council Chambers\, 132 W. Virginia Ave.\, Bessemer City\, NC\, 28016\, United States
END:VEVENT
BEGIN:VEVENT
DTSTART;TZID=America/New_York:20300304T113000
DTEND;TZID=America/New_York:20300304T123000
DTSTAMP:20260425T080907
CREATED:20251030T201958Z
LAST-MODIFIED:20260127T164546Z
UID:10001097-1898854200-1898857800@bessemercity.com
SUMMARY:Veteran's Lunch
DESCRIPTION:
URL:https://bessemercity.com/calendar/veterans-lunch/2030-03-04/
LOCATION:Allan Farris Community Center\, 220 South 14th Street\, Bessemer City\, NC\, 28016\, United States
CATEGORIES:Senior Event
END:VEVENT
BEGIN:VEVENT
DTSTART;TZID=America/New_York:20300304T180000
DTEND;TZID=America/New_York:20300304T190000
DTSTAMP:20260425T080907
CREATED:20241002T132100Z
LAST-MODIFIED:20250723T132316Z
UID:10000123-1898877600-1898881200@bessemercity.com
SUMMARY:Planning & Zoning Board of Adjustment Meeting
DESCRIPTION:
URL:https://bessemercity.com/calendar/planning-zoning-board-of-adjustment-meeting/2030-03-04/
LOCATION:City Council Chambers\, 132 W. Virginia Ave.\, Bessemer City\, NC\, 28016\, United States
ORGANIZER;CN="City of Bessemer City":MAILTO:hhayes@bessemercity.com
END:VEVENT
BEGIN:VEVENT
DTSTART;TZID=America/New_York:20300305T090000
DTEND;TZID=America/New_York:20300305T100000
DTSTAMP:20260425T080907
CREATED:20251030T201445Z
LAST-MODIFIED:20251030T201445Z
UID:10000943-1898931600-1898935200@bessemercity.com
SUMMARY:Aerobics/Silver Sneakers/Chair Yoga
DESCRIPTION:
URL:https://bessemercity.com/calendar/aerobics-silver-sneakers-chair-yoga/2030-03-05/
LOCATION:Kiser Senior Center\, 123 W Pennsylvania Avenue\, Bessemer City\, NC\, 28016\, United States
CATEGORIES:Senior Event
END:VEVENT
BEGIN:VEVENT
DTSTART;TZID=America/New_York:20300308T090000
DTEND;TZID=America/New_York:20300308T100000
DTSTAMP:20260425T080907
CREATED:20251030T201848Z
LAST-MODIFIED:20260127T164333Z
UID:10001037-1899190800-1899194400@bessemercity.com
SUMMARY:Men's Breakfast
DESCRIPTION:
URL:https://bessemercity.com/calendar/mens-breakfast/2030-03-08/
LOCATION:NC
CATEGORIES:Senior Event
END:VEVENT
BEGIN:VEVENT
DTSTART;VALUE=DATE:20300310
DTEND;VALUE=DATE:20300312
DTSTAMP:20260425T080907
CREATED:20250724T022327Z
LAST-MODIFIED:20250724T022327Z
UID:10000544-1899331200-1899421199@bessemercity.com
SUMMARY:City Utility Bill Due
DESCRIPTION:Bill Pay Options
URL:https://bessemercity.com/calendar/city-utility-bill-due/2030-03-10/
LOCATION:NC
END:VEVENT
BEGIN:VEVENT
DTSTART;TZID=America/New_York:20300311T190000
DTEND;TZID=America/New_York:20300311T210000
DTSTAMP:20260425T080907
CREATED:20241002T173040Z
LAST-MODIFIED:20250723T135446Z
UID:10000063-1899486000-1899493200@bessemercity.com
SUMMARY:City Council Regular Meeting
DESCRIPTION:Click Here for agendas\, minutes\, and live recordings of meetings!
URL:https://bessemercity.com/calendar/city-council-regular-meeting/2030-03-11/
LOCATION:City Council Chambers\, 132 W. Virginia Ave.\, Bessemer City\, NC\, 28016\, United States
CATEGORIES:City Council,Community Events
END:VEVENT
BEGIN:VEVENT
DTSTART;TZID=America/New_York:20300312T090000
DTEND;TZID=America/New_York:20300312T100000
DTSTAMP:20260425T080907
CREATED:20251030T201445Z
LAST-MODIFIED:20251030T201445Z
UID:10000944-1899536400-1899540000@bessemercity.com
SUMMARY:Aerobics/Silver Sneakers/Chair Yoga
DESCRIPTION:
URL:https://bessemercity.com/calendar/aerobics-silver-sneakers-chair-yoga/2030-03-12/
LOCATION:Kiser Senior Center\, 123 W Pennsylvania Avenue\, Bessemer City\, NC\, 28016\, United States
CATEGORIES:Senior Event
END:VEVENT
BEGIN:VEVENT
DTSTART;TZID=America/New_York:20300312T180000
DTEND;TZID=America/New_York:20300312T190000
DTSTAMP:20260425T080907
CREATED:20250723T132707Z
LAST-MODIFIED:20250723T133044Z
UID:10000363-1899568800-1899572400@bessemercity.com
SUMMARY:Parks and Recreation Board
DESCRIPTION:
URL:https://bessemercity.com/calendar/parks-and-recreation-board/2030-03-12/
LOCATION:Allan Farris Community Center\, 220 South 14th Street\, Bessemer City\, NC\, 28016\, United States
END:VEVENT
BEGIN:VEVENT
DTSTART;TZID=America/New_York:20300318T180000
DTEND;TZID=America/New_York:20300318T193000
DTSTAMP:20260425T080907
CREATED:20250730T211720Z
LAST-MODIFIED:20250730T211951Z
UID:10000666-1900087200-1900092600@bessemercity.com
SUMMARY:Senior Bingo
DESCRIPTION:
URL:https://bessemercity.com/calendar/senior-bingo-3/2030-03-18/
LOCATION:Allan Farris Community Center\, 220 South 14th Street\, Bessemer City\, NC\, 28016\, United States
END:VEVENT
BEGIN:VEVENT
DTSTART;TZID=America/New_York:20300319T090000
DTEND;TZID=America/New_York:20300319T100000
DTSTAMP:20260425T080907
CREATED:20251030T201445Z
LAST-MODIFIED:20251030T201445Z
UID:10000945-1900141200-1900144800@bessemercity.com
SUMMARY:Aerobics/Silver Sneakers/Chair Yoga
DESCRIPTION:
URL:https://bessemercity.com/calendar/aerobics-silver-sneakers-chair-yoga/2030-03-19/
LOCATION:Kiser Senior Center\, 123 W Pennsylvania Avenue\, Bessemer City\, NC\, 28016\, United States
CATEGORIES:Senior Event
END:VEVENT
BEGIN:VEVENT
DTSTART;TZID=America/New_York:20300325T170000
DTEND;TZID=America/New_York:20300325T180000
DTSTAMP:20260425T080907
CREATED:20250908T223959Z
LAST-MODIFIED:20250908T223959Z
UID:10000484-1900688400-1900692000@bessemercity.com
SUMMARY:ABC Board Meeting
DESCRIPTION:
URL:https://bessemercity.com/calendar/abc-board-meeting-2/2030-03-25/
LOCATION:ABC Store\, 208 W. Alabama Ave.\, Bessemer City\, NC\, 28016\, United States
END:VEVENT
BEGIN:VEVENT
DTSTART;TZID=America/New_York:20300326T090000
DTEND;TZID=America/New_York:20300326T100000
DTSTAMP:20260425T080907
CREATED:20251030T201445Z
LAST-MODIFIED:20251030T201445Z
UID:10000946-1900746000-1900749600@bessemercity.com
SUMMARY:Aerobics/Silver Sneakers/Chair Yoga
DESCRIPTION:
URL:https://bessemercity.com/calendar/aerobics-silver-sneakers-chair-yoga/2030-03-26/
LOCATION:Kiser Senior Center\, 123 W Pennsylvania Avenue\, Bessemer City\, NC\, 28016\, United States
CATEGORIES:Senior Event
END:VEVENT
BEGIN:VEVENT
DTSTART;TZID=America/New_York:20300326T150000
DTEND;TZID=America/New_York:20300326T170000
DTSTAMP:20260425T080907
CREATED:20250723T133813Z
LAST-MODIFIED:20250723T163502Z
UID:10000424-1900767600-1900774800@bessemercity.com
SUMMARY:City Council Work Session Meeting
DESCRIPTION:Click Here for agenda and minutes.
URL:https://bessemercity.com/calendar/city-council-work-session/2030-03-26/
LOCATION:City Council Chambers\, 132 W. Virginia Ave.\, Bessemer City\, NC\, 28016\, United States
END:VEVENT
BEGIN:VEVENT
DTSTART;TZID=America/New_York:20300326T190000
DTEND;TZID=America/New_York:20300326T203000
DTSTAMP:20260425T080907
CREATED:20250723T132835Z
LAST-MODIFIED:20250723T132835Z
UID:10000304-1900782000-1900787400@bessemercity.com
SUMMARY:Downtown Development Board
DESCRIPTION:
URL:https://bessemercity.com/calendar/downtown-development-board/2030-03-26/
LOCATION:City Council Chambers\, 132 W. Virginia Ave.\, Bessemer City\, NC\, 28016\, United States
END:VEVENT
BEGIN:VEVENT
DTSTART;TZID=America/New_York:20300401T113000
DTEND;TZID=America/New_York:20300401T123000
DTSTAMP:20260425T080907
CREATED:20251030T201958Z
LAST-MODIFIED:20260127T164546Z
UID:10001098-1901273400-1901277000@bessemercity.com
SUMMARY:Veteran's Lunch
DESCRIPTION:
URL:https://bessemercity.com/calendar/veterans-lunch/2030-04-01/
LOCATION:Allan Farris Community Center\, 220 South 14th Street\, Bessemer City\, NC\, 28016\, United States
CATEGORIES:Senior Event
END:VEVENT
BEGIN:VEVENT
DTSTART;TZID=America/New_York:20300401T180000
DTEND;TZID=America/New_York:20300401T190000
DTSTAMP:20260425T080907
CREATED:20241002T132100Z
LAST-MODIFIED:20250723T132316Z
UID:10000124-1901296800-1901300400@bessemercity.com
SUMMARY:Planning & Zoning Board of Adjustment Meeting
DESCRIPTION:
URL:https://bessemercity.com/calendar/planning-zoning-board-of-adjustment-meeting/2030-04-01/
LOCATION:City Council Chambers\, 132 W. Virginia Ave.\, Bessemer City\, NC\, 28016\, United States
ORGANIZER;CN="City of Bessemer City":MAILTO:hhayes@bessemercity.com
END:VEVENT
BEGIN:VEVENT
DTSTART;TZID=America/New_York:20300402T090000
DTEND;TZID=America/New_York:20300402T100000
DTSTAMP:20260425T080907
CREATED:20251030T201445Z
LAST-MODIFIED:20251030T201445Z
UID:10000947-1901350800-1901354400@bessemercity.com
SUMMARY:Aerobics/Silver Sneakers/Chair Yoga
DESCRIPTION:
URL:https://bessemercity.com/calendar/aerobics-silver-sneakers-chair-yoga/2030-04-02/
LOCATION:Kiser Senior Center\, 123 W Pennsylvania Avenue\, Bessemer City\, NC\, 28016\, United States
CATEGORIES:Senior Event
END:VEVENT
BEGIN:VEVENT
DTSTART;TZID=America/New_York:20300408T190000
DTEND;TZID=America/New_York:20300408T210000
DTSTAMP:20260425T080907
CREATED:20241002T173040Z
LAST-MODIFIED:20250723T135446Z
UID:10000064-1901905200-1901912400@bessemercity.com
SUMMARY:City Council Regular Meeting
DESCRIPTION:Click Here for agendas\, minutes\, and live recordings of meetings!
URL:https://bessemercity.com/calendar/city-council-regular-meeting/2030-04-08/
LOCATION:City Council Chambers\, 132 W. Virginia Ave.\, Bessemer City\, NC\, 28016\, United States
CATEGORIES:City Council,Community Events
END:VEVENT
BEGIN:VEVENT
DTSTART;TZID=America/New_York:20300409T090000
DTEND;TZID=America/New_York:20300409T100000
DTSTAMP:20260425T080907
CREATED:20251030T201445Z
LAST-MODIFIED:20251030T201445Z
UID:10000948-1901955600-1901959200@bessemercity.com
SUMMARY:Aerobics/Silver Sneakers/Chair Yoga
DESCRIPTION:
URL:https://bessemercity.com/calendar/aerobics-silver-sneakers-chair-yoga/2030-04-09/
LOCATION:Kiser Senior Center\, 123 W Pennsylvania Avenue\, Bessemer City\, NC\, 28016\, United States
CATEGORIES:Senior Event
END:VEVENT
BEGIN:VEVENT
DTSTART;TZID=America/New_York:20300409T180000
DTEND;TZID=America/New_York:20300409T190000
DTSTAMP:20260425T080907
CREATED:20250723T132707Z
LAST-MODIFIED:20250723T133044Z
UID:10000364-1901988000-1901991600@bessemercity.com
SUMMARY:Parks and Recreation Board
DESCRIPTION:
URL:https://bessemercity.com/calendar/parks-and-recreation-board/2030-04-09/
LOCATION:Allan Farris Community Center\, 220 South 14th Street\, Bessemer City\, NC\, 28016\, United States
END:VEVENT
BEGIN:VEVENT
DTSTART;VALUE=DATE:20300410
DTEND;VALUE=DATE:20300411
DTSTAMP:20260425T080907
CREATED:20250724T022327Z
LAST-MODIFIED:20250724T022327Z
UID:10000545-1902009600-1902095999@bessemercity.com
SUMMARY:City Utility Bill Due
DESCRIPTION:Bill Pay Options
URL:https://bessemercity.com/calendar/city-utility-bill-due/2030-04-10/
LOCATION:NC
END:VEVENT
BEGIN:VEVENT
DTSTART;TZID=America/New_York:20300412T090000
DTEND;TZID=America/New_York:20300412T100000
DTSTAMP:20260425T080907
CREATED:20251030T201848Z
LAST-MODIFIED:20260127T164333Z
UID:10001038-1902214800-1902218400@bessemercity.com
SUMMARY:Men's Breakfast
DESCRIPTION:
URL:https://bessemercity.com/calendar/mens-breakfast/2030-04-12/
LOCATION:NC
CATEGORIES:Senior Event
END:VEVENT
BEGIN:VEVENT
DTSTART;TZID=America/New_York:20300415T180000
DTEND;TZID=America/New_York:20300415T193000
DTSTAMP:20260425T080907
CREATED:20250730T211720Z
LAST-MODIFIED:20250730T211951Z
UID:10000667-1902506400-1902511800@bessemercity.com
SUMMARY:Senior Bingo
DESCRIPTION:
URL:https://bessemercity.com/calendar/senior-bingo-3/2030-04-15/
LOCATION:Allan Farris Community Center\, 220 South 14th Street\, Bessemer City\, NC\, 28016\, United States
END:VEVENT
BEGIN:VEVENT
DTSTART;TZID=America/New_York:20300416T090000
DTEND;TZID=America/New_York:20300416T100000
DTSTAMP:20260425T080907
CREATED:20251030T201445Z
LAST-MODIFIED:20251030T201445Z
UID:10000949-1902560400-1902564000@bessemercity.com
SUMMARY:Aerobics/Silver Sneakers/Chair Yoga
DESCRIPTION:
URL:https://bessemercity.com/calendar/aerobics-silver-sneakers-chair-yoga/2030-04-16/
LOCATION:Kiser Senior Center\, 123 W Pennsylvania Avenue\, Bessemer City\, NC\, 28016\, United States
CATEGORIES:Senior Event
END:VEVENT
BEGIN:VEVENT
DTSTART;TZID=America/New_York:20300422T170000
DTEND;TZID=America/New_York:20300422T180000
DTSTAMP:20260425T080907
CREATED:20250908T223959Z
LAST-MODIFIED:20250908T223959Z
UID:10000706-1903107600-1903111200@bessemercity.com
SUMMARY:ABC Board Meeting
DESCRIPTION:
URL:https://bessemercity.com/calendar/abc-board-meeting-2/2030-04-22/
LOCATION:ABC Store\, 208 W. Alabama Ave.\, Bessemer City\, NC\, 28016\, United States
END:VEVENT
BEGIN:VEVENT
DTSTART;TZID=America/New_York:20300423T090000
DTEND;TZID=America/New_York:20300423T100000
DTSTAMP:20260425T080907
CREATED:20251030T201445Z
LAST-MODIFIED:20251030T201445Z
UID:10000950-1903165200-1903168800@bessemercity.com
SUMMARY:Aerobics/Silver Sneakers/Chair Yoga
DESCRIPTION:
URL:https://bessemercity.com/calendar/aerobics-silver-sneakers-chair-yoga/2030-04-23/
LOCATION:Kiser Senior Center\, 123 W Pennsylvania Avenue\, Bessemer City\, NC\, 28016\, United States
CATEGORIES:Senior Event
END:VEVENT
END:VCALENDAR