BEGIN:VCALENDAR
VERSION:2.0
PRODID:-//Bessemer City, NC - ECPv6.15.20//NONSGML v1.0//EN
CALSCALE:GREGORIAN
METHOD:PUBLISH
X-WR-CALNAME:Bessemer City, NC
X-ORIGINAL-URL:https://bessemercity.com
X-WR-CALDESC:Events for Bessemer City, NC
REFRESH-INTERVAL;VALUE=DURATION:PT1H
X-Robots-Tag:noindex
X-PUBLISHED-TTL:PT1H
BEGIN:VTIMEZONE
TZID:America/New_York
BEGIN:DAYLIGHT
TZOFFSETFROM:-0500
TZOFFSETTO:-0400
TZNAME:EDT
DTSTART:20250309T070000
END:DAYLIGHT
BEGIN:STANDARD
TZOFFSETFROM:-0400
TZOFFSETTO:-0500
TZNAME:EST
DTSTART:20251102T060000
END:STANDARD
BEGIN:DAYLIGHT
TZOFFSETFROM:-0500
TZOFFSETTO:-0400
TZNAME:EDT
DTSTART:20260308T070000
END:DAYLIGHT
BEGIN:STANDARD
TZOFFSETFROM:-0400
TZOFFSETTO:-0500
TZNAME:EST
DTSTART:20261101T060000
END:STANDARD
BEGIN:DAYLIGHT
TZOFFSETFROM:-0500
TZOFFSETTO:-0400
TZNAME:EDT
DTSTART:20270314T070000
END:DAYLIGHT
BEGIN:STANDARD
TZOFFSETFROM:-0400
TZOFFSETTO:-0500
TZNAME:EST
DTSTART:20271107T060000
END:STANDARD
BEGIN:DAYLIGHT
TZOFFSETFROM:-0500
TZOFFSETTO:-0400
TZNAME:EDT
DTSTART:20280312T070000
END:DAYLIGHT
BEGIN:STANDARD
TZOFFSETFROM:-0400
TZOFFSETTO:-0500
TZNAME:EST
DTSTART:20281105T060000
END:STANDARD
BEGIN:DAYLIGHT
TZOFFSETFROM:-0500
TZOFFSETTO:-0400
TZNAME:EDT
DTSTART:20290311T070000
END:DAYLIGHT
BEGIN:STANDARD
TZOFFSETFROM:-0400
TZOFFSETTO:-0500
TZNAME:EST
DTSTART:20291104T060000
END:STANDARD
END:VTIMEZONE
BEGIN:VEVENT
DTSTART;TZID=America/New_York:20260504T180000
DTEND;TZID=America/New_York:20260504T190000
DTSTAMP:20260421T085405
CREATED:20241002T132100Z
LAST-MODIFIED:20250723T132316Z
UID:10000077-1777917600-1777921200@bessemercity.com
SUMMARY:Planning & Zoning Board of Adjustment Meeting
DESCRIPTION:
URL:https://bessemercity.com/calendar/planning-zoning-board-of-adjustment-meeting/2026-05-04/
LOCATION:City Council Chambers\, 132 W. Virginia Ave.\, Bessemer City\, NC\, 28016\, United States
ORGANIZER;CN="City of Bessemer City":MAILTO:hhayes@bessemercity.com
END:VEVENT
BEGIN:VEVENT
DTSTART;TZID=America/New_York:20260601T180000
DTEND;TZID=America/New_York:20260601T190000
DTSTAMP:20260421T085405
CREATED:20241002T132100Z
LAST-MODIFIED:20250723T132316Z
UID:10000078-1780336800-1780340400@bessemercity.com
SUMMARY:Planning & Zoning Board of Adjustment Meeting
DESCRIPTION:
URL:https://bessemercity.com/calendar/planning-zoning-board-of-adjustment-meeting/2026-06-01/
LOCATION:City Council Chambers\, 132 W. Virginia Ave.\, Bessemer City\, NC\, 28016\, United States
ORGANIZER;CN="City of Bessemer City":MAILTO:hhayes@bessemercity.com
END:VEVENT
BEGIN:VEVENT
DTSTART;TZID=America/New_York:20260706T180000
DTEND;TZID=America/New_York:20260706T190000
DTSTAMP:20260421T085405
CREATED:20241002T132100Z
LAST-MODIFIED:20250723T132316Z
UID:10000079-1783360800-1783364400@bessemercity.com
SUMMARY:Planning & Zoning Board of Adjustment Meeting
DESCRIPTION:
URL:https://bessemercity.com/calendar/planning-zoning-board-of-adjustment-meeting/2026-07-06/
LOCATION:City Council Chambers\, 132 W. Virginia Ave.\, Bessemer City\, NC\, 28016\, United States
ORGANIZER;CN="City of Bessemer City":MAILTO:hhayes@bessemercity.com
END:VEVENT
BEGIN:VEVENT
DTSTART;TZID=America/New_York:20260803T180000
DTEND;TZID=America/New_York:20260803T190000
DTSTAMP:20260421T085405
CREATED:20241002T132100Z
LAST-MODIFIED:20250723T132316Z
UID:10000080-1785780000-1785783600@bessemercity.com
SUMMARY:Planning & Zoning Board of Adjustment Meeting
DESCRIPTION:
URL:https://bessemercity.com/calendar/planning-zoning-board-of-adjustment-meeting/2026-08-03/
LOCATION:City Council Chambers\, 132 W. Virginia Ave.\, Bessemer City\, NC\, 28016\, United States
ORGANIZER;CN="City of Bessemer City":MAILTO:hhayes@bessemercity.com
END:VEVENT
BEGIN:VEVENT
DTSTART;TZID=America/New_York:20260907T180000
DTEND;TZID=America/New_York:20260907T190000
DTSTAMP:20260421T085405
CREATED:20241002T132100Z
LAST-MODIFIED:20250723T132316Z
UID:10000081-1788804000-1788807600@bessemercity.com
SUMMARY:Planning & Zoning Board of Adjustment Meeting
DESCRIPTION:
URL:https://bessemercity.com/calendar/planning-zoning-board-of-adjustment-meeting/2026-09-07/
LOCATION:City Council Chambers\, 132 W. Virginia Ave.\, Bessemer City\, NC\, 28016\, United States
ORGANIZER;CN="City of Bessemer City":MAILTO:hhayes@bessemercity.com
END:VEVENT
BEGIN:VEVENT
DTSTART;TZID=America/New_York:20261005T180000
DTEND;TZID=America/New_York:20261005T190000
DTSTAMP:20260421T085405
CREATED:20241002T132100Z
LAST-MODIFIED:20250723T132316Z
UID:10000082-1791223200-1791226800@bessemercity.com
SUMMARY:Planning & Zoning Board of Adjustment Meeting
DESCRIPTION:
URL:https://bessemercity.com/calendar/planning-zoning-board-of-adjustment-meeting/2026-10-05/
LOCATION:City Council Chambers\, 132 W. Virginia Ave.\, Bessemer City\, NC\, 28016\, United States
ORGANIZER;CN="City of Bessemer City":MAILTO:hhayes@bessemercity.com
END:VEVENT
BEGIN:VEVENT
DTSTART;TZID=America/New_York:20261102T180000
DTEND;TZID=America/New_York:20261102T190000
DTSTAMP:20260421T085405
CREATED:20241002T132100Z
LAST-MODIFIED:20250723T132316Z
UID:10000083-1793642400-1793646000@bessemercity.com
SUMMARY:Planning & Zoning Board of Adjustment Meeting
DESCRIPTION:
URL:https://bessemercity.com/calendar/planning-zoning-board-of-adjustment-meeting/2026-11-02/
LOCATION:City Council Chambers\, 132 W. Virginia Ave.\, Bessemer City\, NC\, 28016\, United States
ORGANIZER;CN="City of Bessemer City":MAILTO:hhayes@bessemercity.com
END:VEVENT
BEGIN:VEVENT
DTSTART;TZID=America/New_York:20261207T180000
DTEND;TZID=America/New_York:20261207T190000
DTSTAMP:20260421T085405
CREATED:20241002T132100Z
LAST-MODIFIED:20250723T132316Z
UID:10000084-1796666400-1796670000@bessemercity.com
SUMMARY:Planning & Zoning Board of Adjustment Meeting
DESCRIPTION:
URL:https://bessemercity.com/calendar/planning-zoning-board-of-adjustment-meeting/2026-12-07/
LOCATION:City Council Chambers\, 132 W. Virginia Ave.\, Bessemer City\, NC\, 28016\, United States
ORGANIZER;CN="City of Bessemer City":MAILTO:hhayes@bessemercity.com
END:VEVENT
BEGIN:VEVENT
DTSTART;TZID=America/New_York:20270104T180000
DTEND;TZID=America/New_York:20270104T190000
DTSTAMP:20260421T085405
CREATED:20241002T132100Z
LAST-MODIFIED:20250723T132316Z
UID:10000085-1799085600-1799089200@bessemercity.com
SUMMARY:Planning & Zoning Board of Adjustment Meeting
DESCRIPTION:
URL:https://bessemercity.com/calendar/planning-zoning-board-of-adjustment-meeting/2027-01-04/
LOCATION:City Council Chambers\, 132 W. Virginia Ave.\, Bessemer City\, NC\, 28016\, United States
ORGANIZER;CN="City of Bessemer City":MAILTO:hhayes@bessemercity.com
END:VEVENT
BEGIN:VEVENT
DTSTART;TZID=America/New_York:20270201T180000
DTEND;TZID=America/New_York:20270201T190000
DTSTAMP:20260421T085405
CREATED:20241002T132100Z
LAST-MODIFIED:20250723T132316Z
UID:10000086-1801504800-1801508400@bessemercity.com
SUMMARY:Planning & Zoning Board of Adjustment Meeting
DESCRIPTION:
URL:https://bessemercity.com/calendar/planning-zoning-board-of-adjustment-meeting/2027-02-01/
LOCATION:City Council Chambers\, 132 W. Virginia Ave.\, Bessemer City\, NC\, 28016\, United States
ORGANIZER;CN="City of Bessemer City":MAILTO:hhayes@bessemercity.com
END:VEVENT
BEGIN:VEVENT
DTSTART;TZID=America/New_York:20270301T180000
DTEND;TZID=America/New_York:20270301T190000
DTSTAMP:20260421T085405
CREATED:20241002T132100Z
LAST-MODIFIED:20250723T132316Z
UID:10000087-1803924000-1803927600@bessemercity.com
SUMMARY:Planning & Zoning Board of Adjustment Meeting
DESCRIPTION:
URL:https://bessemercity.com/calendar/planning-zoning-board-of-adjustment-meeting/2027-03-01/
LOCATION:City Council Chambers\, 132 W. Virginia Ave.\, Bessemer City\, NC\, 28016\, United States
ORGANIZER;CN="City of Bessemer City":MAILTO:hhayes@bessemercity.com
END:VEVENT
BEGIN:VEVENT
DTSTART;TZID=America/New_York:20270405T180000
DTEND;TZID=America/New_York:20270405T190000
DTSTAMP:20260421T085405
CREATED:20241002T132100Z
LAST-MODIFIED:20250723T132316Z
UID:10000088-1806948000-1806951600@bessemercity.com
SUMMARY:Planning & Zoning Board of Adjustment Meeting
DESCRIPTION:
URL:https://bessemercity.com/calendar/planning-zoning-board-of-adjustment-meeting/2027-04-05/
LOCATION:City Council Chambers\, 132 W. Virginia Ave.\, Bessemer City\, NC\, 28016\, United States
ORGANIZER;CN="City of Bessemer City":MAILTO:hhayes@bessemercity.com
END:VEVENT
BEGIN:VEVENT
DTSTART;TZID=America/New_York:20270503T180000
DTEND;TZID=America/New_York:20270503T190000
DTSTAMP:20260421T085405
CREATED:20241002T132100Z
LAST-MODIFIED:20250723T132316Z
UID:10000089-1809367200-1809370800@bessemercity.com
SUMMARY:Planning & Zoning Board of Adjustment Meeting
DESCRIPTION:
URL:https://bessemercity.com/calendar/planning-zoning-board-of-adjustment-meeting/2027-05-03/
LOCATION:City Council Chambers\, 132 W. Virginia Ave.\, Bessemer City\, NC\, 28016\, United States
ORGANIZER;CN="City of Bessemer City":MAILTO:hhayes@bessemercity.com
END:VEVENT
BEGIN:VEVENT
DTSTART;TZID=America/New_York:20270607T180000
DTEND;TZID=America/New_York:20270607T190000
DTSTAMP:20260421T085405
CREATED:20241002T132100Z
LAST-MODIFIED:20250723T132316Z
UID:10000090-1812391200-1812394800@bessemercity.com
SUMMARY:Planning & Zoning Board of Adjustment Meeting
DESCRIPTION:
URL:https://bessemercity.com/calendar/planning-zoning-board-of-adjustment-meeting/2027-06-07/
LOCATION:City Council Chambers\, 132 W. Virginia Ave.\, Bessemer City\, NC\, 28016\, United States
ORGANIZER;CN="City of Bessemer City":MAILTO:hhayes@bessemercity.com
END:VEVENT
BEGIN:VEVENT
DTSTART;TZID=America/New_York:20270705T180000
DTEND;TZID=America/New_York:20270705T190000
DTSTAMP:20260421T085405
CREATED:20241002T132100Z
LAST-MODIFIED:20250723T132316Z
UID:10000091-1814810400-1814814000@bessemercity.com
SUMMARY:Planning & Zoning Board of Adjustment Meeting
DESCRIPTION:
URL:https://bessemercity.com/calendar/planning-zoning-board-of-adjustment-meeting/2027-07-05/
LOCATION:City Council Chambers\, 132 W. Virginia Ave.\, Bessemer City\, NC\, 28016\, United States
ORGANIZER;CN="City of Bessemer City":MAILTO:hhayes@bessemercity.com
END:VEVENT
BEGIN:VEVENT
DTSTART;TZID=America/New_York:20270802T180000
DTEND;TZID=America/New_York:20270802T190000
DTSTAMP:20260421T085405
CREATED:20241002T132100Z
LAST-MODIFIED:20250723T132316Z
UID:10000092-1817229600-1817233200@bessemercity.com
SUMMARY:Planning & Zoning Board of Adjustment Meeting
DESCRIPTION:
URL:https://bessemercity.com/calendar/planning-zoning-board-of-adjustment-meeting/2027-08-02/
LOCATION:City Council Chambers\, 132 W. Virginia Ave.\, Bessemer City\, NC\, 28016\, United States
ORGANIZER;CN="City of Bessemer City":MAILTO:hhayes@bessemercity.com
END:VEVENT
BEGIN:VEVENT
DTSTART;TZID=America/New_York:20270906T180000
DTEND;TZID=America/New_York:20270906T190000
DTSTAMP:20260421T085405
CREATED:20241002T132100Z
LAST-MODIFIED:20250723T132316Z
UID:10000093-1820253600-1820257200@bessemercity.com
SUMMARY:Planning & Zoning Board of Adjustment Meeting
DESCRIPTION:
URL:https://bessemercity.com/calendar/planning-zoning-board-of-adjustment-meeting/2027-09-06/
LOCATION:City Council Chambers\, 132 W. Virginia Ave.\, Bessemer City\, NC\, 28016\, United States
ORGANIZER;CN="City of Bessemer City":MAILTO:hhayes@bessemercity.com
END:VEVENT
BEGIN:VEVENT
DTSTART;TZID=America/New_York:20271004T180000
DTEND;TZID=America/New_York:20271004T190000
DTSTAMP:20260421T085405
CREATED:20241002T132100Z
LAST-MODIFIED:20250723T132316Z
UID:10000094-1822672800-1822676400@bessemercity.com
SUMMARY:Planning & Zoning Board of Adjustment Meeting
DESCRIPTION:
URL:https://bessemercity.com/calendar/planning-zoning-board-of-adjustment-meeting/2027-10-04/
LOCATION:City Council Chambers\, 132 W. Virginia Ave.\, Bessemer City\, NC\, 28016\, United States
ORGANIZER;CN="City of Bessemer City":MAILTO:hhayes@bessemercity.com
END:VEVENT
BEGIN:VEVENT
DTSTART;TZID=America/New_York:20271101T180000
DTEND;TZID=America/New_York:20271101T190000
DTSTAMP:20260421T085405
CREATED:20241002T132100Z
LAST-MODIFIED:20250723T132316Z
UID:10000095-1825092000-1825095600@bessemercity.com
SUMMARY:Planning & Zoning Board of Adjustment Meeting
DESCRIPTION:
URL:https://bessemercity.com/calendar/planning-zoning-board-of-adjustment-meeting/2027-11-01/
LOCATION:City Council Chambers\, 132 W. Virginia Ave.\, Bessemer City\, NC\, 28016\, United States
ORGANIZER;CN="City of Bessemer City":MAILTO:hhayes@bessemercity.com
END:VEVENT
BEGIN:VEVENT
DTSTART;TZID=America/New_York:20271206T180000
DTEND;TZID=America/New_York:20271206T190000
DTSTAMP:20260421T085405
CREATED:20241002T132100Z
LAST-MODIFIED:20250723T132316Z
UID:10000096-1828116000-1828119600@bessemercity.com
SUMMARY:Planning & Zoning Board of Adjustment Meeting
DESCRIPTION:
URL:https://bessemercity.com/calendar/planning-zoning-board-of-adjustment-meeting/2027-12-06/
LOCATION:City Council Chambers\, 132 W. Virginia Ave.\, Bessemer City\, NC\, 28016\, United States
ORGANIZER;CN="City of Bessemer City":MAILTO:hhayes@bessemercity.com
END:VEVENT
BEGIN:VEVENT
DTSTART;TZID=America/New_York:20280103T180000
DTEND;TZID=America/New_York:20280103T190000
DTSTAMP:20260421T085405
CREATED:20241002T132100Z
LAST-MODIFIED:20250723T132316Z
UID:10000097-1830535200-1830538800@bessemercity.com
SUMMARY:Planning & Zoning Board of Adjustment Meeting
DESCRIPTION:
URL:https://bessemercity.com/calendar/planning-zoning-board-of-adjustment-meeting/2028-01-03/
LOCATION:City Council Chambers\, 132 W. Virginia Ave.\, Bessemer City\, NC\, 28016\, United States
ORGANIZER;CN="City of Bessemer City":MAILTO:hhayes@bessemercity.com
END:VEVENT
BEGIN:VEVENT
DTSTART;TZID=America/New_York:20280207T180000
DTEND;TZID=America/New_York:20280207T190000
DTSTAMP:20260421T085405
CREATED:20241002T132100Z
LAST-MODIFIED:20250723T132316Z
UID:10000098-1833559200-1833562800@bessemercity.com
SUMMARY:Planning & Zoning Board of Adjustment Meeting
DESCRIPTION:
URL:https://bessemercity.com/calendar/planning-zoning-board-of-adjustment-meeting/2028-02-07/
LOCATION:City Council Chambers\, 132 W. Virginia Ave.\, Bessemer City\, NC\, 28016\, United States
ORGANIZER;CN="City of Bessemer City":MAILTO:hhayes@bessemercity.com
END:VEVENT
BEGIN:VEVENT
DTSTART;TZID=America/New_York:20280306T180000
DTEND;TZID=America/New_York:20280306T190000
DTSTAMP:20260421T085405
CREATED:20241002T132100Z
LAST-MODIFIED:20250723T132316Z
UID:10000099-1835978400-1835982000@bessemercity.com
SUMMARY:Planning & Zoning Board of Adjustment Meeting
DESCRIPTION:
URL:https://bessemercity.com/calendar/planning-zoning-board-of-adjustment-meeting/2028-03-06/
LOCATION:City Council Chambers\, 132 W. Virginia Ave.\, Bessemer City\, NC\, 28016\, United States
ORGANIZER;CN="City of Bessemer City":MAILTO:hhayes@bessemercity.com
END:VEVENT
BEGIN:VEVENT
DTSTART;TZID=America/New_York:20280403T180000
DTEND;TZID=America/New_York:20280403T190000
DTSTAMP:20260421T085405
CREATED:20241002T132100Z
LAST-MODIFIED:20250723T132316Z
UID:10000100-1838397600-1838401200@bessemercity.com
SUMMARY:Planning & Zoning Board of Adjustment Meeting
DESCRIPTION:
URL:https://bessemercity.com/calendar/planning-zoning-board-of-adjustment-meeting/2028-04-03/
LOCATION:City Council Chambers\, 132 W. Virginia Ave.\, Bessemer City\, NC\, 28016\, United States
ORGANIZER;CN="City of Bessemer City":MAILTO:hhayes@bessemercity.com
END:VEVENT
BEGIN:VEVENT
DTSTART;TZID=America/New_York:20280501T180000
DTEND;TZID=America/New_York:20280501T190000
DTSTAMP:20260421T085405
CREATED:20241002T132100Z
LAST-MODIFIED:20250723T132316Z
UID:10000101-1840816800-1840820400@bessemercity.com
SUMMARY:Planning & Zoning Board of Adjustment Meeting
DESCRIPTION:
URL:https://bessemercity.com/calendar/planning-zoning-board-of-adjustment-meeting/2028-05-01/
LOCATION:City Council Chambers\, 132 W. Virginia Ave.\, Bessemer City\, NC\, 28016\, United States
ORGANIZER;CN="City of Bessemer City":MAILTO:hhayes@bessemercity.com
END:VEVENT
BEGIN:VEVENT
DTSTART;TZID=America/New_York:20280605T180000
DTEND;TZID=America/New_York:20280605T190000
DTSTAMP:20260421T085405
CREATED:20241002T132100Z
LAST-MODIFIED:20250723T132316Z
UID:10000102-1843840800-1843844400@bessemercity.com
SUMMARY:Planning & Zoning Board of Adjustment Meeting
DESCRIPTION:
URL:https://bessemercity.com/calendar/planning-zoning-board-of-adjustment-meeting/2028-06-05/
LOCATION:City Council Chambers\, 132 W. Virginia Ave.\, Bessemer City\, NC\, 28016\, United States
ORGANIZER;CN="City of Bessemer City":MAILTO:hhayes@bessemercity.com
END:VEVENT
BEGIN:VEVENT
DTSTART;TZID=America/New_York:20280703T180000
DTEND;TZID=America/New_York:20280703T190000
DTSTAMP:20260421T085405
CREATED:20241002T132100Z
LAST-MODIFIED:20250723T132316Z
UID:10000103-1846260000-1846263600@bessemercity.com
SUMMARY:Planning & Zoning Board of Adjustment Meeting
DESCRIPTION:
URL:https://bessemercity.com/calendar/planning-zoning-board-of-adjustment-meeting/2028-07-03/
LOCATION:City Council Chambers\, 132 W. Virginia Ave.\, Bessemer City\, NC\, 28016\, United States
ORGANIZER;CN="City of Bessemer City":MAILTO:hhayes@bessemercity.com
END:VEVENT
BEGIN:VEVENT
DTSTART;TZID=America/New_York:20280807T180000
DTEND;TZID=America/New_York:20280807T190000
DTSTAMP:20260421T085405
CREATED:20241002T132100Z
LAST-MODIFIED:20250723T132316Z
UID:10000104-1849284000-1849287600@bessemercity.com
SUMMARY:Planning & Zoning Board of Adjustment Meeting
DESCRIPTION:
URL:https://bessemercity.com/calendar/planning-zoning-board-of-adjustment-meeting/2028-08-07/
LOCATION:City Council Chambers\, 132 W. Virginia Ave.\, Bessemer City\, NC\, 28016\, United States
ORGANIZER;CN="City of Bessemer City":MAILTO:hhayes@bessemercity.com
END:VEVENT
BEGIN:VEVENT
DTSTART;TZID=America/New_York:20280904T180000
DTEND;TZID=America/New_York:20280904T190000
DTSTAMP:20260421T085405
CREATED:20241002T132100Z
LAST-MODIFIED:20250723T132316Z
UID:10000105-1851703200-1851706800@bessemercity.com
SUMMARY:Planning & Zoning Board of Adjustment Meeting
DESCRIPTION:
URL:https://bessemercity.com/calendar/planning-zoning-board-of-adjustment-meeting/2028-09-04/
LOCATION:City Council Chambers\, 132 W. Virginia Ave.\, Bessemer City\, NC\, 28016\, United States
ORGANIZER;CN="City of Bessemer City":MAILTO:hhayes@bessemercity.com
END:VEVENT
BEGIN:VEVENT
DTSTART;TZID=America/New_York:20281002T180000
DTEND;TZID=America/New_York:20281002T190000
DTSTAMP:20260421T085405
CREATED:20241002T132100Z
LAST-MODIFIED:20250723T132316Z
UID:10000106-1854122400-1854126000@bessemercity.com
SUMMARY:Planning & Zoning Board of Adjustment Meeting
DESCRIPTION:
URL:https://bessemercity.com/calendar/planning-zoning-board-of-adjustment-meeting/2028-10-02/
LOCATION:City Council Chambers\, 132 W. Virginia Ave.\, Bessemer City\, NC\, 28016\, United States
ORGANIZER;CN="City of Bessemer City":MAILTO:hhayes@bessemercity.com
END:VEVENT
END:VCALENDAR