BEGIN:VCALENDAR
VERSION:2.0
PRODID:-//Bessemer City, NC - ECPv6.15.20//NONSGML v1.0//EN
CALSCALE:GREGORIAN
METHOD:PUBLISH
X-WR-CALNAME:Bessemer City, NC
X-ORIGINAL-URL:https://bessemercity.com
X-WR-CALDESC:Events for Bessemer City, NC
REFRESH-INTERVAL;VALUE=DURATION:PT1H
X-Robots-Tag:noindex
X-PUBLISHED-TTL:PT1H
BEGIN:VTIMEZONE
TZID:America/New_York
BEGIN:DAYLIGHT
TZOFFSETFROM:-0500
TZOFFSETTO:-0400
TZNAME:EDT
DTSTART:20250309T070000
END:DAYLIGHT
BEGIN:STANDARD
TZOFFSETFROM:-0400
TZOFFSETTO:-0500
TZNAME:EST
DTSTART:20251102T060000
END:STANDARD
BEGIN:DAYLIGHT
TZOFFSETFROM:-0500
TZOFFSETTO:-0400
TZNAME:EDT
DTSTART:20260308T070000
END:DAYLIGHT
BEGIN:STANDARD
TZOFFSETFROM:-0400
TZOFFSETTO:-0500
TZNAME:EST
DTSTART:20261101T060000
END:STANDARD
BEGIN:DAYLIGHT
TZOFFSETFROM:-0500
TZOFFSETTO:-0400
TZNAME:EDT
DTSTART:20270314T070000
END:DAYLIGHT
BEGIN:STANDARD
TZOFFSETFROM:-0400
TZOFFSETTO:-0500
TZNAME:EST
DTSTART:20271107T060000
END:STANDARD
BEGIN:DAYLIGHT
TZOFFSETFROM:-0500
TZOFFSETTO:-0400
TZNAME:EDT
DTSTART:20280312T070000
END:DAYLIGHT
BEGIN:STANDARD
TZOFFSETFROM:-0400
TZOFFSETTO:-0500
TZNAME:EST
DTSTART:20281105T060000
END:STANDARD
BEGIN:DAYLIGHT
TZOFFSETFROM:-0500
TZOFFSETTO:-0400
TZNAME:EDT
DTSTART:20290311T070000
END:DAYLIGHT
BEGIN:STANDARD
TZOFFSETFROM:-0400
TZOFFSETTO:-0500
TZNAME:EST
DTSTART:20291104T060000
END:STANDARD
END:VTIMEZONE
BEGIN:VEVENT
DTSTART;VALUE=DATE:20260510
DTEND;VALUE=DATE:20260511
DTSTAMP:20260421T101101
CREATED:20250724T022327Z
LAST-MODIFIED:20250724T022327Z
UID:10000498-1778371200-1778457599@bessemercity.com
SUMMARY:City Utility Bill Due
DESCRIPTION:Bill Pay Options
URL:https://bessemercity.com/calendar/city-utility-bill-due/2026-05-10/
END:VEVENT
BEGIN:VEVENT
DTSTART;VALUE=DATE:20260610
DTEND;VALUE=DATE:20260611
DTSTAMP:20260421T101101
CREATED:20250724T022327Z
LAST-MODIFIED:20250724T022327Z
UID:10000499-1781049600-1781135999@bessemercity.com
SUMMARY:City Utility Bill Due
DESCRIPTION:Bill Pay Options
URL:https://bessemercity.com/calendar/city-utility-bill-due/2026-06-10/
END:VEVENT
BEGIN:VEVENT
DTSTART;VALUE=DATE:20260710
DTEND;VALUE=DATE:20260711
DTSTAMP:20260421T101101
CREATED:20250724T022327Z
LAST-MODIFIED:20250724T022327Z
UID:10000500-1783641600-1783727999@bessemercity.com
SUMMARY:City Utility Bill Due
DESCRIPTION:Bill Pay Options
URL:https://bessemercity.com/calendar/city-utility-bill-due/2026-07-10/
END:VEVENT
BEGIN:VEVENT
DTSTART;VALUE=DATE:20260810
DTEND;VALUE=DATE:20260811
DTSTAMP:20260421T101101
CREATED:20250724T022327Z
LAST-MODIFIED:20250724T022327Z
UID:10000501-1786320000-1786406399@bessemercity.com
SUMMARY:City Utility Bill Due
DESCRIPTION:Bill Pay Options
URL:https://bessemercity.com/calendar/city-utility-bill-due/2026-08-10/
END:VEVENT
BEGIN:VEVENT
DTSTART;VALUE=DATE:20260910
DTEND;VALUE=DATE:20260911
DTSTAMP:20260421T101101
CREATED:20250724T022327Z
LAST-MODIFIED:20250724T022327Z
UID:10000502-1788998400-1789084799@bessemercity.com
SUMMARY:City Utility Bill Due
DESCRIPTION:Bill Pay Options
URL:https://bessemercity.com/calendar/city-utility-bill-due/2026-09-10/
END:VEVENT
BEGIN:VEVENT
DTSTART;VALUE=DATE:20261010
DTEND;VALUE=DATE:20261011
DTSTAMP:20260421T101101
CREATED:20250724T022327Z
LAST-MODIFIED:20250724T022327Z
UID:10000503-1791590400-1791676799@bessemercity.com
SUMMARY:City Utility Bill Due
DESCRIPTION:Bill Pay Options
URL:https://bessemercity.com/calendar/city-utility-bill-due/2026-10-10/
END:VEVENT
BEGIN:VEVENT
DTSTART;VALUE=DATE:20261110
DTEND;VALUE=DATE:20261111
DTSTAMP:20260421T101101
CREATED:20250724T022327Z
LAST-MODIFIED:20250724T022327Z
UID:10000504-1794268800-1794355199@bessemercity.com
SUMMARY:City Utility Bill Due
DESCRIPTION:Bill Pay Options
URL:https://bessemercity.com/calendar/city-utility-bill-due/2026-11-10/
END:VEVENT
BEGIN:VEVENT
DTSTART;VALUE=DATE:20261210
DTEND;VALUE=DATE:20261211
DTSTAMP:20260421T101101
CREATED:20250724T022327Z
LAST-MODIFIED:20250724T022327Z
UID:10000505-1796860800-1796947199@bessemercity.com
SUMMARY:City Utility Bill Due
DESCRIPTION:Bill Pay Options
URL:https://bessemercity.com/calendar/city-utility-bill-due/2026-12-10/
END:VEVENT
BEGIN:VEVENT
DTSTART;VALUE=DATE:20270110
DTEND;VALUE=DATE:20270111
DTSTAMP:20260421T101101
CREATED:20250724T022327Z
LAST-MODIFIED:20250724T022327Z
UID:10000506-1799539200-1799625599@bessemercity.com
SUMMARY:City Utility Bill Due
DESCRIPTION:Bill Pay Options
URL:https://bessemercity.com/calendar/city-utility-bill-due/2027-01-10/
END:VEVENT
BEGIN:VEVENT
DTSTART;VALUE=DATE:20270210
DTEND;VALUE=DATE:20270211
DTSTAMP:20260421T101101
CREATED:20250724T022327Z
LAST-MODIFIED:20250724T022327Z
UID:10000507-1802217600-1802303999@bessemercity.com
SUMMARY:City Utility Bill Due
DESCRIPTION:Bill Pay Options
URL:https://bessemercity.com/calendar/city-utility-bill-due/2027-02-10/
END:VEVENT
BEGIN:VEVENT
DTSTART;VALUE=DATE:20270310
DTEND;VALUE=DATE:20270311
DTSTAMP:20260421T101101
CREATED:20250724T022327Z
LAST-MODIFIED:20250724T022327Z
UID:10000508-1804636800-1804723199@bessemercity.com
SUMMARY:City Utility Bill Due
DESCRIPTION:Bill Pay Options
URL:https://bessemercity.com/calendar/city-utility-bill-due/2027-03-10/
END:VEVENT
BEGIN:VEVENT
DTSTART;VALUE=DATE:20270410
DTEND;VALUE=DATE:20270411
DTSTAMP:20260421T101101
CREATED:20250724T022327Z
LAST-MODIFIED:20250724T022327Z
UID:10000509-1807315200-1807401599@bessemercity.com
SUMMARY:City Utility Bill Due
DESCRIPTION:Bill Pay Options
URL:https://bessemercity.com/calendar/city-utility-bill-due/2027-04-10/
END:VEVENT
BEGIN:VEVENT
DTSTART;VALUE=DATE:20270510
DTEND;VALUE=DATE:20270511
DTSTAMP:20260421T101101
CREATED:20250724T022327Z
LAST-MODIFIED:20250724T022327Z
UID:10000510-1809907200-1809993599@bessemercity.com
SUMMARY:City Utility Bill Due
DESCRIPTION:Bill Pay Options
URL:https://bessemercity.com/calendar/city-utility-bill-due/2027-05-10/
END:VEVENT
BEGIN:VEVENT
DTSTART;VALUE=DATE:20270610
DTEND;VALUE=DATE:20270611
DTSTAMP:20260421T101101
CREATED:20250724T022327Z
LAST-MODIFIED:20250724T022327Z
UID:10000511-1812585600-1812671999@bessemercity.com
SUMMARY:City Utility Bill Due
DESCRIPTION:Bill Pay Options
URL:https://bessemercity.com/calendar/city-utility-bill-due/2027-06-10/
END:VEVENT
BEGIN:VEVENT
DTSTART;VALUE=DATE:20270710
DTEND;VALUE=DATE:20270711
DTSTAMP:20260421T101101
CREATED:20250724T022327Z
LAST-MODIFIED:20250724T022327Z
UID:10000512-1815177600-1815263999@bessemercity.com
SUMMARY:City Utility Bill Due
DESCRIPTION:Bill Pay Options
URL:https://bessemercity.com/calendar/city-utility-bill-due/2027-07-10/
END:VEVENT
BEGIN:VEVENT
DTSTART;VALUE=DATE:20270810
DTEND;VALUE=DATE:20270811
DTSTAMP:20260421T101101
CREATED:20250724T022327Z
LAST-MODIFIED:20250724T022327Z
UID:10000513-1817856000-1817942399@bessemercity.com
SUMMARY:City Utility Bill Due
DESCRIPTION:Bill Pay Options
URL:https://bessemercity.com/calendar/city-utility-bill-due/2027-08-10/
END:VEVENT
BEGIN:VEVENT
DTSTART;VALUE=DATE:20270910
DTEND;VALUE=DATE:20270911
DTSTAMP:20260421T101101
CREATED:20250724T022327Z
LAST-MODIFIED:20250724T022327Z
UID:10000514-1820534400-1820620799@bessemercity.com
SUMMARY:City Utility Bill Due
DESCRIPTION:Bill Pay Options
URL:https://bessemercity.com/calendar/city-utility-bill-due/2027-09-10/
END:VEVENT
BEGIN:VEVENT
DTSTART;VALUE=DATE:20271010
DTEND;VALUE=DATE:20271011
DTSTAMP:20260421T101101
CREATED:20250724T022327Z
LAST-MODIFIED:20250724T022327Z
UID:10000515-1823126400-1823212799@bessemercity.com
SUMMARY:City Utility Bill Due
DESCRIPTION:Bill Pay Options
URL:https://bessemercity.com/calendar/city-utility-bill-due/2027-10-10/
END:VEVENT
BEGIN:VEVENT
DTSTART;VALUE=DATE:20271110
DTEND;VALUE=DATE:20271111
DTSTAMP:20260421T101101
CREATED:20250724T022327Z
LAST-MODIFIED:20250724T022327Z
UID:10000516-1825804800-1825891199@bessemercity.com
SUMMARY:City Utility Bill Due
DESCRIPTION:Bill Pay Options
URL:https://bessemercity.com/calendar/city-utility-bill-due/2027-11-10/
END:VEVENT
BEGIN:VEVENT
DTSTART;VALUE=DATE:20271210
DTEND;VALUE=DATE:20271211
DTSTAMP:20260421T101101
CREATED:20250724T022327Z
LAST-MODIFIED:20250724T022327Z
UID:10000517-1828396800-1828483199@bessemercity.com
SUMMARY:City Utility Bill Due
DESCRIPTION:Bill Pay Options
URL:https://bessemercity.com/calendar/city-utility-bill-due/2027-12-10/
END:VEVENT
BEGIN:VEVENT
DTSTART;VALUE=DATE:20280110
DTEND;VALUE=DATE:20280111
DTSTAMP:20260421T101101
CREATED:20250724T022327Z
LAST-MODIFIED:20250724T022327Z
UID:10000518-1831075200-1831161599@bessemercity.com
SUMMARY:City Utility Bill Due
DESCRIPTION:Bill Pay Options
URL:https://bessemercity.com/calendar/city-utility-bill-due/2028-01-10/
END:VEVENT
BEGIN:VEVENT
DTSTART;VALUE=DATE:20280210
DTEND;VALUE=DATE:20280211
DTSTAMP:20260421T101101
CREATED:20250724T022327Z
LAST-MODIFIED:20250724T022327Z
UID:10000519-1833753600-1833839999@bessemercity.com
SUMMARY:City Utility Bill Due
DESCRIPTION:Bill Pay Options
URL:https://bessemercity.com/calendar/city-utility-bill-due/2028-02-10/
END:VEVENT
BEGIN:VEVENT
DTSTART;VALUE=DATE:20280310
DTEND;VALUE=DATE:20280311
DTSTAMP:20260421T101101
CREATED:20250724T022327Z
LAST-MODIFIED:20250724T022327Z
UID:10000520-1836259200-1836345599@bessemercity.com
SUMMARY:City Utility Bill Due
DESCRIPTION:Bill Pay Options
URL:https://bessemercity.com/calendar/city-utility-bill-due/2028-03-10/
END:VEVENT
BEGIN:VEVENT
DTSTART;VALUE=DATE:20280410
DTEND;VALUE=DATE:20280411
DTSTAMP:20260421T101101
CREATED:20250724T022327Z
LAST-MODIFIED:20250724T022327Z
UID:10000521-1838937600-1839023999@bessemercity.com
SUMMARY:City Utility Bill Due
DESCRIPTION:Bill Pay Options
URL:https://bessemercity.com/calendar/city-utility-bill-due/2028-04-10/
END:VEVENT
BEGIN:VEVENT
DTSTART;VALUE=DATE:20280510
DTEND;VALUE=DATE:20280511
DTSTAMP:20260421T101101
CREATED:20250724T022327Z
LAST-MODIFIED:20250724T022327Z
UID:10000522-1841529600-1841615999@bessemercity.com
SUMMARY:City Utility Bill Due
DESCRIPTION:Bill Pay Options
URL:https://bessemercity.com/calendar/city-utility-bill-due/2028-05-10/
END:VEVENT
BEGIN:VEVENT
DTSTART;VALUE=DATE:20280610
DTEND;VALUE=DATE:20280611
DTSTAMP:20260421T101101
CREATED:20250724T022327Z
LAST-MODIFIED:20250724T022327Z
UID:10000523-1844208000-1844294399@bessemercity.com
SUMMARY:City Utility Bill Due
DESCRIPTION:Bill Pay Options
URL:https://bessemercity.com/calendar/city-utility-bill-due/2028-06-10/
END:VEVENT
BEGIN:VEVENT
DTSTART;VALUE=DATE:20280710
DTEND;VALUE=DATE:20280711
DTSTAMP:20260421T101101
CREATED:20250724T022327Z
LAST-MODIFIED:20250724T022327Z
UID:10000524-1846800000-1846886399@bessemercity.com
SUMMARY:City Utility Bill Due
DESCRIPTION:Bill Pay Options
URL:https://bessemercity.com/calendar/city-utility-bill-due/2028-07-10/
END:VEVENT
BEGIN:VEVENT
DTSTART;VALUE=DATE:20280810
DTEND;VALUE=DATE:20280811
DTSTAMP:20260421T101101
CREATED:20250724T022327Z
LAST-MODIFIED:20250724T022327Z
UID:10000525-1849478400-1849564799@bessemercity.com
SUMMARY:City Utility Bill Due
DESCRIPTION:Bill Pay Options
URL:https://bessemercity.com/calendar/city-utility-bill-due/2028-08-10/
END:VEVENT
BEGIN:VEVENT
DTSTART;VALUE=DATE:20280910
DTEND;VALUE=DATE:20280911
DTSTAMP:20260421T101101
CREATED:20250724T022327Z
LAST-MODIFIED:20250724T022327Z
UID:10000526-1852156800-1852243199@bessemercity.com
SUMMARY:City Utility Bill Due
DESCRIPTION:Bill Pay Options
URL:https://bessemercity.com/calendar/city-utility-bill-due/2028-09-10/
END:VEVENT
BEGIN:VEVENT
DTSTART;VALUE=DATE:20281010
DTEND;VALUE=DATE:20281011
DTSTAMP:20260421T101101
CREATED:20250724T022327Z
LAST-MODIFIED:20250724T022327Z
UID:10000527-1854748800-1854835199@bessemercity.com
SUMMARY:City Utility Bill Due
DESCRIPTION:Bill Pay Options
URL:https://bessemercity.com/calendar/city-utility-bill-due/2028-10-10/
END:VEVENT
END:VCALENDAR