BEGIN:VCALENDAR
VERSION:2.0
PRODID:-//Bessemer City, NC - ECPv6.15.20//NONSGML v1.0//EN
CALSCALE:GREGORIAN
METHOD:PUBLISH
X-WR-CALNAME:Bessemer City, NC
X-ORIGINAL-URL:https://bessemercity.com
X-WR-CALDESC:Events for Bessemer City, NC
REFRESH-INTERVAL;VALUE=DURATION:PT1H
X-Robots-Tag:noindex
X-PUBLISHED-TTL:PT1H
BEGIN:VTIMEZONE
TZID:America/New_York
BEGIN:DAYLIGHT
TZOFFSETFROM:-0500
TZOFFSETTO:-0400
TZNAME:EDT
DTSTART:20230312T070000
END:DAYLIGHT
BEGIN:STANDARD
TZOFFSETFROM:-0400
TZOFFSETTO:-0500
TZNAME:EST
DTSTART:20231105T060000
END:STANDARD
BEGIN:DAYLIGHT
TZOFFSETFROM:-0500
TZOFFSETTO:-0400
TZNAME:EDT
DTSTART:20240310T070000
END:DAYLIGHT
BEGIN:STANDARD
TZOFFSETFROM:-0400
TZOFFSETTO:-0500
TZNAME:EST
DTSTART:20241103T060000
END:STANDARD
BEGIN:DAYLIGHT
TZOFFSETFROM:-0500
TZOFFSETTO:-0400
TZNAME:EDT
DTSTART:20250309T070000
END:DAYLIGHT
BEGIN:STANDARD
TZOFFSETFROM:-0400
TZOFFSETTO:-0500
TZNAME:EST
DTSTART:20251102T060000
END:STANDARD
BEGIN:DAYLIGHT
TZOFFSETFROM:-0500
TZOFFSETTO:-0400
TZNAME:EDT
DTSTART:20260308T070000
END:DAYLIGHT
BEGIN:STANDARD
TZOFFSETFROM:-0400
TZOFFSETTO:-0500
TZNAME:EST
DTSTART:20261101T060000
END:STANDARD
END:VTIMEZONE
BEGIN:VEVENT
DTSTART;TZID=America/New_York:20250830T160000
DTEND;TZID=America/New_York:20250830T220000
DTSTAMP:20260420T065001
CREATED:20250731T191039Z
LAST-MODIFIED:20250731T191052Z
UID:10000679-1756569600-1756591200@bessemercity.com
SUMMARY:BC Alive Concert & Cruise In - 80's Night
DESCRIPTION:The 80’s are taking over our August Concert and Cruise In! We encourage you to show up in 80’s attire\, bring out some 80’s cars\, and party like it’s the 80’s! Our band for the evening will be Kids In America!
URL:https://bessemercity.com/calendar/bc-alive-concert-cruise-in-80s-night/
LOCATION:Centennial Park\, 114 W Virginia Ave\,\, Bessemer City\, NC\, 28016\, United States
END:VEVENT
BEGIN:VEVENT
DTSTART;TZID=America/New_York:20241026T100000
DTEND;TZID=America/New_York:20241026T120000
DTSTAMP:20260420T065001
CREATED:20241001T193705Z
LAST-MODIFIED:20241001T193705Z
UID:10000001-1729936800-1729944000@bessemercity.com
SUMMARY:Trunk or Treat
DESCRIPTION:Join us in downtown\, Bessemer City for our annual Trunk or Treat in the Streets from 10 am-12 pm. This will be a free family fun event for all ages. 			\n				\n					\n						\n							\n							Loading...\n						\n					\n					\n						\n							\n							Taking too long?\n						\n						\n							\n								 Reload document							\n							|\n							\n								 Open in new tab							\n					\n				\n			\n		Download [169.12 KB]
URL:https://bessemercity.com/calendar/trunk-or-treat/
LOCATION:Centennial Park\, 114 W Virginia Ave\,\, Bessemer City\, NC\, 28016\, United States
END:VEVENT
BEGIN:VEVENT
DTSTART;TZID=America/New_York:20240921T120000
DTEND;TZID=America/New_York:20240921T210000
DTSTAMP:20260420T065001
CREATED:20240808T001515Z
LAST-MODIFIED:20240808T001813Z
UID:10000006-1726920000-1726952400@bessemercity.com
SUMMARY:Brew & Que Festival
DESCRIPTION:
URL:https://bessemercity.com/calendar/brew-que-festival/
LOCATION:Centennial Park\, 114 W Virginia Ave\,\, Bessemer City\, NC\, 28016\, United States
END:VEVENT
END:VCALENDAR