BEGIN:VCALENDAR
VERSION:2.0
PRODID:-//Bessemer City, NC - ECPv6.15.20//NONSGML v1.0//EN
CALSCALE:GREGORIAN
METHOD:PUBLISH
X-WR-CALNAME:Bessemer City, NC
X-ORIGINAL-URL:https://bessemercity.com
X-WR-CALDESC:Events for Bessemer City, NC
REFRESH-INTERVAL;VALUE=DURATION:PT1H
X-Robots-Tag:noindex
X-PUBLISHED-TTL:PT1H
BEGIN:VTIMEZONE
TZID:America/New_York
BEGIN:DAYLIGHT
TZOFFSETFROM:-0500
TZOFFSETTO:-0400
TZNAME:EDT
DTSTART:20270314T070000
END:DAYLIGHT
BEGIN:STANDARD
TZOFFSETFROM:-0400
TZOFFSETTO:-0500
TZNAME:EST
DTSTART:20271107T060000
END:STANDARD
BEGIN:DAYLIGHT
TZOFFSETFROM:-0500
TZOFFSETTO:-0400
TZNAME:EDT
DTSTART:20280312T070000
END:DAYLIGHT
BEGIN:STANDARD
TZOFFSETFROM:-0400
TZOFFSETTO:-0500
TZNAME:EST
DTSTART:20281105T060000
END:STANDARD
BEGIN:DAYLIGHT
TZOFFSETFROM:-0500
TZOFFSETTO:-0400
TZNAME:EDT
DTSTART:20290311T070000
END:DAYLIGHT
BEGIN:STANDARD
TZOFFSETFROM:-0400
TZOFFSETTO:-0500
TZNAME:EST
DTSTART:20291104T060000
END:STANDARD
END:VTIMEZONE
BEGIN:VEVENT
DTSTART;TZID=America/New_York:20280229T090000
DTEND;TZID=America/New_York:20280229T100000
DTSTAMP:20260421T190415
CREATED:20251030T201445Z
LAST-MODIFIED:20251030T201445Z
UID:10000838-1835427600-1835431200@bessemercity.com
SUMMARY:Aerobics/Silver Sneakers/Chair Yoga
DESCRIPTION:
URL:https://bessemercity.com/calendar/aerobics-silver-sneakers-chair-yoga/2028-02-29/
LOCATION:Kiser Senior Center\, 123 W Pennsylvania Avenue\, Bessemer City\, NC\, 28016\, United States
CATEGORIES:Senior Event
END:VEVENT
BEGIN:VEVENT
DTSTART;TZID=America/New_York:20280307T090000
DTEND;TZID=America/New_York:20280307T100000
DTSTAMP:20260421T190415
CREATED:20251030T201445Z
LAST-MODIFIED:20251030T201445Z
UID:10000839-1836032400-1836036000@bessemercity.com
SUMMARY:Aerobics/Silver Sneakers/Chair Yoga
DESCRIPTION:
URL:https://bessemercity.com/calendar/aerobics-silver-sneakers-chair-yoga/2028-03-07/
LOCATION:Kiser Senior Center\, 123 W Pennsylvania Avenue\, Bessemer City\, NC\, 28016\, United States
CATEGORIES:Senior Event
END:VEVENT
BEGIN:VEVENT
DTSTART;TZID=America/New_York:20280314T090000
DTEND;TZID=America/New_York:20280314T100000
DTSTAMP:20260421T190415
CREATED:20251030T201445Z
LAST-MODIFIED:20251030T201445Z
UID:10000840-1836637200-1836640800@bessemercity.com
SUMMARY:Aerobics/Silver Sneakers/Chair Yoga
DESCRIPTION:
URL:https://bessemercity.com/calendar/aerobics-silver-sneakers-chair-yoga/2028-03-14/
LOCATION:Kiser Senior Center\, 123 W Pennsylvania Avenue\, Bessemer City\, NC\, 28016\, United States
CATEGORIES:Senior Event
END:VEVENT
BEGIN:VEVENT
DTSTART;TZID=America/New_York:20280321T090000
DTEND;TZID=America/New_York:20280321T100000
DTSTAMP:20260421T190415
CREATED:20251030T201445Z
LAST-MODIFIED:20251030T201445Z
UID:10000841-1837242000-1837245600@bessemercity.com
SUMMARY:Aerobics/Silver Sneakers/Chair Yoga
DESCRIPTION:
URL:https://bessemercity.com/calendar/aerobics-silver-sneakers-chair-yoga/2028-03-21/
LOCATION:Kiser Senior Center\, 123 W Pennsylvania Avenue\, Bessemer City\, NC\, 28016\, United States
CATEGORIES:Senior Event
END:VEVENT
BEGIN:VEVENT
DTSTART;TZID=America/New_York:20280328T090000
DTEND;TZID=America/New_York:20280328T100000
DTSTAMP:20260421T190415
CREATED:20251030T201445Z
LAST-MODIFIED:20251030T201445Z
UID:10000842-1837846800-1837850400@bessemercity.com
SUMMARY:Aerobics/Silver Sneakers/Chair Yoga
DESCRIPTION:
URL:https://bessemercity.com/calendar/aerobics-silver-sneakers-chair-yoga/2028-03-28/
LOCATION:Kiser Senior Center\, 123 W Pennsylvania Avenue\, Bessemer City\, NC\, 28016\, United States
CATEGORIES:Senior Event
END:VEVENT
BEGIN:VEVENT
DTSTART;TZID=America/New_York:20280404T090000
DTEND;TZID=America/New_York:20280404T100000
DTSTAMP:20260421T190415
CREATED:20251030T201445Z
LAST-MODIFIED:20251030T201445Z
UID:10000843-1838451600-1838455200@bessemercity.com
SUMMARY:Aerobics/Silver Sneakers/Chair Yoga
DESCRIPTION:
URL:https://bessemercity.com/calendar/aerobics-silver-sneakers-chair-yoga/2028-04-04/
LOCATION:Kiser Senior Center\, 123 W Pennsylvania Avenue\, Bessemer City\, NC\, 28016\, United States
CATEGORIES:Senior Event
END:VEVENT
BEGIN:VEVENT
DTSTART;TZID=America/New_York:20280411T090000
DTEND;TZID=America/New_York:20280411T100000
DTSTAMP:20260421T190415
CREATED:20251030T201445Z
LAST-MODIFIED:20251030T201445Z
UID:10000844-1839056400-1839060000@bessemercity.com
SUMMARY:Aerobics/Silver Sneakers/Chair Yoga
DESCRIPTION:
URL:https://bessemercity.com/calendar/aerobics-silver-sneakers-chair-yoga/2028-04-11/
LOCATION:Kiser Senior Center\, 123 W Pennsylvania Avenue\, Bessemer City\, NC\, 28016\, United States
CATEGORIES:Senior Event
END:VEVENT
BEGIN:VEVENT
DTSTART;TZID=America/New_York:20280418T090000
DTEND;TZID=America/New_York:20280418T100000
DTSTAMP:20260421T190416
CREATED:20251030T201445Z
LAST-MODIFIED:20251030T201445Z
UID:10000845-1839661200-1839664800@bessemercity.com
SUMMARY:Aerobics/Silver Sneakers/Chair Yoga
DESCRIPTION:
URL:https://bessemercity.com/calendar/aerobics-silver-sneakers-chair-yoga/2028-04-18/
LOCATION:Kiser Senior Center\, 123 W Pennsylvania Avenue\, Bessemer City\, NC\, 28016\, United States
CATEGORIES:Senior Event
END:VEVENT
BEGIN:VEVENT
DTSTART;TZID=America/New_York:20280425T090000
DTEND;TZID=America/New_York:20280425T100000
DTSTAMP:20260421T190416
CREATED:20251030T201445Z
LAST-MODIFIED:20251030T201445Z
UID:10000846-1840266000-1840269600@bessemercity.com
SUMMARY:Aerobics/Silver Sneakers/Chair Yoga
DESCRIPTION:
URL:https://bessemercity.com/calendar/aerobics-silver-sneakers-chair-yoga/2028-04-25/
LOCATION:Kiser Senior Center\, 123 W Pennsylvania Avenue\, Bessemer City\, NC\, 28016\, United States
CATEGORIES:Senior Event
END:VEVENT
BEGIN:VEVENT
DTSTART;TZID=America/New_York:20280502T090000
DTEND;TZID=America/New_York:20280502T100000
DTSTAMP:20260421T190416
CREATED:20251030T201445Z
LAST-MODIFIED:20251030T201445Z
UID:10000847-1840870800-1840874400@bessemercity.com
SUMMARY:Aerobics/Silver Sneakers/Chair Yoga
DESCRIPTION:
URL:https://bessemercity.com/calendar/aerobics-silver-sneakers-chair-yoga/2028-05-02/
LOCATION:Kiser Senior Center\, 123 W Pennsylvania Avenue\, Bessemer City\, NC\, 28016\, United States
CATEGORIES:Senior Event
END:VEVENT
BEGIN:VEVENT
DTSTART;TZID=America/New_York:20280509T090000
DTEND;TZID=America/New_York:20280509T100000
DTSTAMP:20260421T190416
CREATED:20251030T201445Z
LAST-MODIFIED:20251030T201445Z
UID:10000848-1841475600-1841479200@bessemercity.com
SUMMARY:Aerobics/Silver Sneakers/Chair Yoga
DESCRIPTION:
URL:https://bessemercity.com/calendar/aerobics-silver-sneakers-chair-yoga/2028-05-09/
LOCATION:Kiser Senior Center\, 123 W Pennsylvania Avenue\, Bessemer City\, NC\, 28016\, United States
CATEGORIES:Senior Event
END:VEVENT
BEGIN:VEVENT
DTSTART;TZID=America/New_York:20280516T090000
DTEND;TZID=America/New_York:20280516T100000
DTSTAMP:20260421T190416
CREATED:20251030T201445Z
LAST-MODIFIED:20251030T201445Z
UID:10000849-1842080400-1842084000@bessemercity.com
SUMMARY:Aerobics/Silver Sneakers/Chair Yoga
DESCRIPTION:
URL:https://bessemercity.com/calendar/aerobics-silver-sneakers-chair-yoga/2028-05-16/
LOCATION:Kiser Senior Center\, 123 W Pennsylvania Avenue\, Bessemer City\, NC\, 28016\, United States
CATEGORIES:Senior Event
END:VEVENT
BEGIN:VEVENT
DTSTART;TZID=America/New_York:20280523T090000
DTEND;TZID=America/New_York:20280523T100000
DTSTAMP:20260421T190416
CREATED:20251030T201445Z
LAST-MODIFIED:20251030T201445Z
UID:10000850-1842685200-1842688800@bessemercity.com
SUMMARY:Aerobics/Silver Sneakers/Chair Yoga
DESCRIPTION:
URL:https://bessemercity.com/calendar/aerobics-silver-sneakers-chair-yoga/2028-05-23/
LOCATION:Kiser Senior Center\, 123 W Pennsylvania Avenue\, Bessemer City\, NC\, 28016\, United States
CATEGORIES:Senior Event
END:VEVENT
BEGIN:VEVENT
DTSTART;TZID=America/New_York:20280530T090000
DTEND;TZID=America/New_York:20280530T100000
DTSTAMP:20260421T190416
CREATED:20251030T201445Z
LAST-MODIFIED:20251030T201445Z
UID:10000851-1843290000-1843293600@bessemercity.com
SUMMARY:Aerobics/Silver Sneakers/Chair Yoga
DESCRIPTION:
URL:https://bessemercity.com/calendar/aerobics-silver-sneakers-chair-yoga/2028-05-30/
LOCATION:Kiser Senior Center\, 123 W Pennsylvania Avenue\, Bessemer City\, NC\, 28016\, United States
CATEGORIES:Senior Event
END:VEVENT
BEGIN:VEVENT
DTSTART;TZID=America/New_York:20280606T090000
DTEND;TZID=America/New_York:20280606T100000
DTSTAMP:20260421T190416
CREATED:20251030T201445Z
LAST-MODIFIED:20251030T201445Z
UID:10000852-1843894800-1843898400@bessemercity.com
SUMMARY:Aerobics/Silver Sneakers/Chair Yoga
DESCRIPTION:
URL:https://bessemercity.com/calendar/aerobics-silver-sneakers-chair-yoga/2028-06-06/
LOCATION:Kiser Senior Center\, 123 W Pennsylvania Avenue\, Bessemer City\, NC\, 28016\, United States
CATEGORIES:Senior Event
END:VEVENT
BEGIN:VEVENT
DTSTART;TZID=America/New_York:20280613T090000
DTEND;TZID=America/New_York:20280613T100000
DTSTAMP:20260421T190416
CREATED:20251030T201445Z
LAST-MODIFIED:20251030T201445Z
UID:10000853-1844499600-1844503200@bessemercity.com
SUMMARY:Aerobics/Silver Sneakers/Chair Yoga
DESCRIPTION:
URL:https://bessemercity.com/calendar/aerobics-silver-sneakers-chair-yoga/2028-06-13/
LOCATION:Kiser Senior Center\, 123 W Pennsylvania Avenue\, Bessemer City\, NC\, 28016\, United States
CATEGORIES:Senior Event
END:VEVENT
BEGIN:VEVENT
DTSTART;TZID=America/New_York:20280620T090000
DTEND;TZID=America/New_York:20280620T100000
DTSTAMP:20260421T190416
CREATED:20251030T201445Z
LAST-MODIFIED:20251030T201445Z
UID:10000854-1845104400-1845108000@bessemercity.com
SUMMARY:Aerobics/Silver Sneakers/Chair Yoga
DESCRIPTION:
URL:https://bessemercity.com/calendar/aerobics-silver-sneakers-chair-yoga/2028-06-20/
LOCATION:Kiser Senior Center\, 123 W Pennsylvania Avenue\, Bessemer City\, NC\, 28016\, United States
CATEGORIES:Senior Event
END:VEVENT
BEGIN:VEVENT
DTSTART;TZID=America/New_York:20280627T090000
DTEND;TZID=America/New_York:20280627T100000
DTSTAMP:20260421T190416
CREATED:20251030T201445Z
LAST-MODIFIED:20251030T201445Z
UID:10000855-1845709200-1845712800@bessemercity.com
SUMMARY:Aerobics/Silver Sneakers/Chair Yoga
DESCRIPTION:
URL:https://bessemercity.com/calendar/aerobics-silver-sneakers-chair-yoga/2028-06-27/
LOCATION:Kiser Senior Center\, 123 W Pennsylvania Avenue\, Bessemer City\, NC\, 28016\, United States
CATEGORIES:Senior Event
END:VEVENT
BEGIN:VEVENT
DTSTART;TZID=America/New_York:20280704T090000
DTEND;TZID=America/New_York:20280704T100000
DTSTAMP:20260421T190416
CREATED:20251030T201445Z
LAST-MODIFIED:20251030T201445Z
UID:10000856-1846314000-1846317600@bessemercity.com
SUMMARY:Aerobics/Silver Sneakers/Chair Yoga
DESCRIPTION:
URL:https://bessemercity.com/calendar/aerobics-silver-sneakers-chair-yoga/2028-07-04/
LOCATION:Kiser Senior Center\, 123 W Pennsylvania Avenue\, Bessemer City\, NC\, 28016\, United States
CATEGORIES:Senior Event
END:VEVENT
BEGIN:VEVENT
DTSTART;TZID=America/New_York:20280711T090000
DTEND;TZID=America/New_York:20280711T100000
DTSTAMP:20260421T190416
CREATED:20251030T201445Z
LAST-MODIFIED:20251030T201445Z
UID:10000857-1846918800-1846922400@bessemercity.com
SUMMARY:Aerobics/Silver Sneakers/Chair Yoga
DESCRIPTION:
URL:https://bessemercity.com/calendar/aerobics-silver-sneakers-chair-yoga/2028-07-11/
LOCATION:Kiser Senior Center\, 123 W Pennsylvania Avenue\, Bessemer City\, NC\, 28016\, United States
CATEGORIES:Senior Event
END:VEVENT
BEGIN:VEVENT
DTSTART;TZID=America/New_York:20280718T090000
DTEND;TZID=America/New_York:20280718T100000
DTSTAMP:20260421T190416
CREATED:20251030T201445Z
LAST-MODIFIED:20251030T201445Z
UID:10000858-1847523600-1847527200@bessemercity.com
SUMMARY:Aerobics/Silver Sneakers/Chair Yoga
DESCRIPTION:
URL:https://bessemercity.com/calendar/aerobics-silver-sneakers-chair-yoga/2028-07-18/
LOCATION:Kiser Senior Center\, 123 W Pennsylvania Avenue\, Bessemer City\, NC\, 28016\, United States
CATEGORIES:Senior Event
END:VEVENT
BEGIN:VEVENT
DTSTART;TZID=America/New_York:20280725T090000
DTEND;TZID=America/New_York:20280725T100000
DTSTAMP:20260421T190416
CREATED:20251030T201445Z
LAST-MODIFIED:20251030T201445Z
UID:10000859-1848128400-1848132000@bessemercity.com
SUMMARY:Aerobics/Silver Sneakers/Chair Yoga
DESCRIPTION:
URL:https://bessemercity.com/calendar/aerobics-silver-sneakers-chair-yoga/2028-07-25/
LOCATION:Kiser Senior Center\, 123 W Pennsylvania Avenue\, Bessemer City\, NC\, 28016\, United States
CATEGORIES:Senior Event
END:VEVENT
BEGIN:VEVENT
DTSTART;TZID=America/New_York:20280801T090000
DTEND;TZID=America/New_York:20280801T100000
DTSTAMP:20260421T190416
CREATED:20251030T201445Z
LAST-MODIFIED:20251030T201445Z
UID:10000860-1848733200-1848736800@bessemercity.com
SUMMARY:Aerobics/Silver Sneakers/Chair Yoga
DESCRIPTION:
URL:https://bessemercity.com/calendar/aerobics-silver-sneakers-chair-yoga/2028-08-01/
LOCATION:Kiser Senior Center\, 123 W Pennsylvania Avenue\, Bessemer City\, NC\, 28016\, United States
CATEGORIES:Senior Event
END:VEVENT
BEGIN:VEVENT
DTSTART;TZID=America/New_York:20280808T090000
DTEND;TZID=America/New_York:20280808T100000
DTSTAMP:20260421T190416
CREATED:20251030T201445Z
LAST-MODIFIED:20251030T201445Z
UID:10000861-1849338000-1849341600@bessemercity.com
SUMMARY:Aerobics/Silver Sneakers/Chair Yoga
DESCRIPTION:
URL:https://bessemercity.com/calendar/aerobics-silver-sneakers-chair-yoga/2028-08-08/
LOCATION:Kiser Senior Center\, 123 W Pennsylvania Avenue\, Bessemer City\, NC\, 28016\, United States
CATEGORIES:Senior Event
END:VEVENT
BEGIN:VEVENT
DTSTART;TZID=America/New_York:20280815T090000
DTEND;TZID=America/New_York:20280815T100000
DTSTAMP:20260421T190416
CREATED:20251030T201445Z
LAST-MODIFIED:20251030T201445Z
UID:10000862-1849942800-1849946400@bessemercity.com
SUMMARY:Aerobics/Silver Sneakers/Chair Yoga
DESCRIPTION:
URL:https://bessemercity.com/calendar/aerobics-silver-sneakers-chair-yoga/2028-08-15/
LOCATION:Kiser Senior Center\, 123 W Pennsylvania Avenue\, Bessemer City\, NC\, 28016\, United States
CATEGORIES:Senior Event
END:VEVENT
BEGIN:VEVENT
DTSTART;TZID=America/New_York:20280822T090000
DTEND;TZID=America/New_York:20280822T100000
DTSTAMP:20260421T190416
CREATED:20251030T201445Z
LAST-MODIFIED:20251030T201445Z
UID:10000863-1850547600-1850551200@bessemercity.com
SUMMARY:Aerobics/Silver Sneakers/Chair Yoga
DESCRIPTION:
URL:https://bessemercity.com/calendar/aerobics-silver-sneakers-chair-yoga/2028-08-22/
LOCATION:Kiser Senior Center\, 123 W Pennsylvania Avenue\, Bessemer City\, NC\, 28016\, United States
CATEGORIES:Senior Event
END:VEVENT
BEGIN:VEVENT
DTSTART;TZID=America/New_York:20280829T090000
DTEND;TZID=America/New_York:20280829T100000
DTSTAMP:20260421T190416
CREATED:20251030T201445Z
LAST-MODIFIED:20251030T201445Z
UID:10000864-1851152400-1851156000@bessemercity.com
SUMMARY:Aerobics/Silver Sneakers/Chair Yoga
DESCRIPTION:
URL:https://bessemercity.com/calendar/aerobics-silver-sneakers-chair-yoga/2028-08-29/
LOCATION:Kiser Senior Center\, 123 W Pennsylvania Avenue\, Bessemer City\, NC\, 28016\, United States
CATEGORIES:Senior Event
END:VEVENT
BEGIN:VEVENT
DTSTART;TZID=America/New_York:20280905T090000
DTEND;TZID=America/New_York:20280905T100000
DTSTAMP:20260421T190416
CREATED:20251030T201445Z
LAST-MODIFIED:20251030T201445Z
UID:10000865-1851757200-1851760800@bessemercity.com
SUMMARY:Aerobics/Silver Sneakers/Chair Yoga
DESCRIPTION:
URL:https://bessemercity.com/calendar/aerobics-silver-sneakers-chair-yoga/2028-09-05/
LOCATION:Kiser Senior Center\, 123 W Pennsylvania Avenue\, Bessemer City\, NC\, 28016\, United States
CATEGORIES:Senior Event
END:VEVENT
BEGIN:VEVENT
DTSTART;TZID=America/New_York:20280912T090000
DTEND;TZID=America/New_York:20280912T100000
DTSTAMP:20260421T190416
CREATED:20251030T201445Z
LAST-MODIFIED:20251030T201445Z
UID:10000866-1852362000-1852365600@bessemercity.com
SUMMARY:Aerobics/Silver Sneakers/Chair Yoga
DESCRIPTION:
URL:https://bessemercity.com/calendar/aerobics-silver-sneakers-chair-yoga/2028-09-12/
LOCATION:Kiser Senior Center\, 123 W Pennsylvania Avenue\, Bessemer City\, NC\, 28016\, United States
CATEGORIES:Senior Event
END:VEVENT
BEGIN:VEVENT
DTSTART;TZID=America/New_York:20280919T090000
DTEND;TZID=America/New_York:20280919T100000
DTSTAMP:20260421T190416
CREATED:20251030T201445Z
LAST-MODIFIED:20251030T201445Z
UID:10000867-1852966800-1852970400@bessemercity.com
SUMMARY:Aerobics/Silver Sneakers/Chair Yoga
DESCRIPTION:
URL:https://bessemercity.com/calendar/aerobics-silver-sneakers-chair-yoga/2028-09-19/
LOCATION:Kiser Senior Center\, 123 W Pennsylvania Avenue\, Bessemer City\, NC\, 28016\, United States
CATEGORIES:Senior Event
END:VEVENT
END:VCALENDAR